Workbook

Sheet Section1
B1: Khorana Program 2012 | O1: Builderific Analysis - Section 0
B2: Team | C2: Plan | D2: Goal | E2: Actual | H2: Analysis | I2: 2nd Try | O2: Team | P2: Goal | Q2: Analysis | S2: 2nd Try
A3: =IF(E3=$E$18,C3,"") -> 2 | B3: 1 | C3: 2 | F3: =IF(D3>0,IF(E3>D3,"+","-"),"") | G3: =V3 | H3: =IF(AND(LEN(V3)>0,LEN(W3)>0),"-","")&W3 | O3: 1 | P3: =IF(ISBLANK(D3),"",IF(D3>P$18+P$19/1.5,"H",IF(D3<P$18-P$19/1.5,"L",""))) | Q3: =IF(ISBLANK(D3),"",IF(E3=Q$20,"1st",IF(E3=Q$21,"2nd",IF(E3=Q$22,"3rd",IF(E3<7,"Fell",""))))) | R3: =IF(ISBLANK(D3),"",IF(E3=C$50,"1st in GrpA","")) | S3: =IF(ISBLANK(I3),"",IF(I3=S$20,"1st",IF(I3=S$21,"2nd",IF(I3=S$22,"3rd",IF(I3<7,"Fell",""))))) | T3: =IF(Y3=1,"Sust Adv",IF(I3>E3+4,"Learned","")) | V3: =IF($E3>0,IF($E3=$J$50,"1st",IF($E3=$J$51,"2nd",IF($E3=$J$52,"3rd",IF($E3<9,"Fell","")))),"") | W3: =IF(E3=0,"",IF(AND(C3=1,E3=$C$50),"Std pln worked",IF(AND(C3>1,E3>$C$50),"Cont pln",""))) | Y3: =IF(I3>0,IF(E3>=Q$21,IF(I3>=S$23,1,0),0),0) -> 0
A4: =IF(E4=$E$18,C4,"") -> 2 | B4: =B3+1 -> 2 | C4: 2 | F4: =IF(D4>0,IF(E4>D4,"+","-"),"") | G4: =V4 | H4: =IF(AND(LEN(V4)>0,LEN(W4)>0),"-","")&W4 | O4: =O3+1 -> 2 | P4: =IF(ISBLANK(D4),"",IF(D4>P$18+P$19/1.5,"H",IF(D4<P$18-P$19/1.5,"L",""))) | Q4: =IF(ISBLANK(D4),"",IF(E4=Q$20,"1st",IF(E4=Q$21,"2nd",IF(E4=Q$22,"3rd",IF(E4<7,"Fell",""))))) | R4: =IF(ISBLANK(D4),"",IF(E4=C$50,"1st in GrpA","")) | S4: =IF(ISBLANK(I4),"",IF(I4=S$20,"1st",IF(I4=S$21,"2nd",IF(I4=S$22,"3rd",IF(I4<7,"Fell",""))))) | T4: =IF(Y4=1,"Sust Adv",IF(I4>E4+4,"Learned","")) | V4: =IF($E4>0,IF($E4=$J$50,"1st",IF($E4=$J$51,"2nd",IF($E4=$J$52,"3rd",IF($E4<9,"Fell","")))),"") | W4: =IF(E4=0,"",IF(AND(C4=1,E4=$C$50),"Std pln worked",IF(AND(C4>1,E4>$C$50),"Cont pln",""))) | Y4: =IF(I4>0,IF(E4>=Q$21,IF(I4>=S$23,1,0),0),0) -> 0
A5: =IF(E5=$E$18,C5,"") -> 2 | B5: =B4+1 -> 3 | C5: 2 | F5: =IF(D5>0,IF(E5>D5,"+","-"),"") | G5: =V5 | H5: =IF(AND(LEN(V5)>0,LEN(W5)>0),"-","")&W5 | O5: =O4+1 -> 3 | P5: =IF(ISBLANK(D5),"",IF(D5>P$18+P$19/1.5,"H",IF(D5<P$18-P$19/1.5,"L",""))) | Q5: =IF(ISBLANK(D5),"",IF(E5=Q$20,"1st",IF(E5=Q$21,"2nd",IF(E5=Q$22,"3rd",IF(E5<7,"Fell",""))))) | R5: =IF(ISBLANK(D5),"",IF(E5=C$50,"1st in GrpA","")) | S5: =IF(ISBLANK(I5),"",IF(I5=S$20,"1st",IF(I5=S$21,"2nd",IF(I5=S$22,"3rd",IF(I5<7,"Fell",""))))) | T5: =IF(Y5=1,"Sust Adv",IF(I5>E5+4,"Learned","")) | V5: =IF($E5>0,IF($E5=$J$50,"1st",IF($E5=$J$51,"2nd",IF($E5=$J$52,"3rd",IF($E5<9,"Fell","")))),"") | W5: =IF(E5=0,"",IF(AND(C5=1,E5=$C$50),"Std pln worked",IF(AND(C5>1,E5>$C$50),"Cont pln",""))) | Y5: =IF(I5>0,IF(E5>=Q$21,IF(I5>=S$23,1,0),0),0) -> 0
A6: =IF(E6=$E$18,C6,"") -> 0 | B6: =B5+1 -> 4 | F6: =IF(D6>0,IF(E6>D6,"+","-"),"") | G6: =V6 | H6: =IF(AND(LEN(V6)>0,LEN(W6)>0),"-","")&W6 | O6: =O5+1 -> 4 | P6: =IF(ISBLANK(D6),"",IF(D6>P$18+P$19/1.5,"H",IF(D6<P$18-P$19/1.5,"L",""))) | Q6: =IF(ISBLANK(D6),"",IF(E6=Q$20,"1st",IF(E6=Q$21,"2nd",IF(E6=Q$22,"3rd",IF(E6<7,"Fell",""))))) | R6: =IF(ISBLANK(D6),"",IF(E6=C$50,"1st in GrpA","")) | S6: =IF(ISBLANK(I6),"",IF(I6=S$20,"1st",IF(I6=S$21,"2nd",IF(I6=S$22,"3rd",IF(I6<7,"Fell",""))))) | T6: =IF(Y6=1,"Sust Adv",IF(I6>E6+4,"Learned","")) | V6: =IF($E6>0,IF($E6=$J$50,"1st",IF($E6=$J$51,"2nd",IF($E6=$J$52,"3rd",IF($E6<9,"Fell","")))),"") | W6: =IF(E6=0,"",IF(AND(C6=1,E6=$C$50),"Std pln worked",IF(AND(C6>1,E6>$C$50),"Cont pln",""))) | Y6: =IF(I6>0,IF(E6>=Q$21,IF(I6>=S$23,1,0),0),0) -> 0
A7: =IF(E7=$E$18,C7,"") -> 0 | B7: =B6+1 -> 5 | F7: =IF(D7>0,IF(E7>D7,"+","-"),"") | G7: =V7 | H7: =IF(AND(LEN(V7)>0,LEN(W7)>0),"-","")&W7 | O7: =O6+1 -> 5 | P7: =IF(ISBLANK(D7),"",IF(D7>P$18+P$19/1.5,"H",IF(D7<P$18-P$19/1.5,"L",""))) | Q7: =IF(ISBLANK(D7),"",IF(E7=Q$20,"1st",IF(E7=Q$21,"2nd",IF(E7=Q$22,"3rd",IF(E7<7,"Fell",""))))) | R7: =IF(ISBLANK(D7),"",IF(E7=C$51,IF(C$51>C$50,"2nd Mvr Ad",""),"")) | S7: =IF(ISBLANK(I7),"",IF(I7=S$20,"1st",IF(I7=S$21,"2nd",IF(I7=S$22,"3rd",IF(I7<7,"Fell",""))))) | T7: =IF(Y7=1,"Sust Adv",IF(I7>E7+4,"Learned","")) | V7: =IF($E7>0,IF($E7=$J$50,"1st",IF($E7=$J$51,"2nd",IF($E7=$J$52,"3rd",IF($E7<9,"Fell","")))),"") | W7: =IF(E7=0,"",IF(AND(C7=1,E7=$C$50),"Std pln worked",IF(AND(C7>1,E7>$C$50),"Cont pln",""))) | Y7: =IF(I7>0,IF(E7>=Q$21,IF(I7>=S$23,1,0),0),0) -> 0
A8: =IF(E8=$E$18,C8,"") -> 0 | B8: =B7+1 -> 6 | F8: =IF(D8>0,IF(E8>D8,"+","-"),"") | G8: =V8 | H8: =IF(AND(LEN(V8)>0,LEN(W8)>0),"-","")&W8 | O8: =O7+1 -> 6 | P8: =IF(ISBLANK(D8),"",IF(D8>P$18+P$19/1.5,"H",IF(D8<P$18-P$19/1.5,"L",""))) | Q8: =IF(ISBLANK(D8),"",IF(E8=Q$20,"1st",IF(E8=Q$21,"2nd",IF(E8=Q$22,"3rd",IF(E8<7,"Fell",""))))) | R8: =IF(ISBLANK(D8),"",IF(E8=C$51,IF(C$51>C$50,"2nd Mvr Ad",""),"")) | S8: =IF(ISBLANK(I8),"",IF(I8=S$20,"1st",IF(I8=S$21,"2nd",IF(I8=S$22,"3rd",IF(I8<7,"Fell",""))))) | T8: =IF(Y8=1,"Sust Adv",IF(I8>E8+4,"Learned","")) | V8: =IF($E8>0,IF($E8=$J$50,"1st",IF($E8=$J$51,"2nd",IF($E8=$J$52,"3rd",IF($E8<9,"Fell","")))),"") | W8: =IF(E8=0,"",IF(AND(C8=1,E8=$C$50),"Std pln worked",IF(AND(C8>1,E8>$C$50),"Cont pln",""))) | Y8: =IF(I8>0,IF(E8>=Q$21,IF(I8>=S$23,1,0),0),0) -> 0
A9: =IF(E9=$E$18,C9,"") -> 0 | B9: =B8+1 -> 7 | F9: =IF(D9>0,IF(E9>D9,"+","-"),"") | G9: =V9 | H9: =IF(AND(LEN(V9)>0,LEN(W9)>0),"-","")&W9 | O9: =O8+1 -> 7 | P9: =IF(ISBLANK(D9),"",IF(D9>P$18+P$19/1.5,"H",IF(D9<P$18-P$19/1.5,"L",""))) | Q9: =IF(ISBLANK(D9),"",IF(E9=Q$20,"1st",IF(E9=Q$21,"2nd",IF(E9=Q$22,"3rd",IF(E9<7,"Fell",""))))) | R9: =IF(ISBLANK(D9),"",IF(E9=C$51,IF(C$51>C$50,"2nd Mvr Ad",""),"")) | S9: =IF(ISBLANK(I9),"",IF(I9=S$20,"1st",IF(I9=S$21,"2nd",IF(I9=S$22,"3rd",IF(I9<7,"Fell",""))))) | T9: =IF(Y9=1,"Sust Adv",IF(I9>E9+4,"Learned","")) | V9: =IF($E9>0,IF($E9=$J$50,"1st",IF($E9=$J$51,"2nd",IF($E9=$J$52,"3rd",IF($E9<9,"Fell","")))),"") | W9: =IF(E9=0,"",IF(AND(C9=1,E9=$C$50),"Std pln worked",IF(AND(C9>1,E9>$C$50),"Cont pln",""))) | Y9: =IF(I9>0,IF(E9>=Q$21,IF(I9>=S$23,1,0),0),0) -> 0
A10: =IF(E10=$E$18,C10,"") -> 0 | B10: =B9+1 -> 8 | F10: =IF(D10>0,IF(E10>D10,"+","-"),"") | G10: =V10 | H10: =IF(AND(LEN(V10)>0,LEN(W10)>0),"-","")&W10 | O10: =O9+1 -> 8 | P10: =IF(ISBLANK(D10),"",IF(D10>P$18+P$19/1.5,"H",IF(D10<P$18-P$19/1.5,"L",""))) | Q10: =IF(ISBLANK(D10),"",IF(E10=Q$20,"1st",IF(E10=Q$21,"2nd",IF(E10=Q$22,"3rd",IF(E10<7,"Fell",""))))) | R10: =IF(ISBLANK(D10),"",IF(E10=C$51,IF(C$51>C$50,"2nd Mvr Ad",""),"")) | S10: =IF(ISBLANK(I10),"",IF(I10=S$20,"1st",IF(I10=S$21,"2nd",IF(I10=S$22,"3rd",IF(I10<7,"Fell",""))))) | T10: =IF(Y10=1,"Sust Adv",IF(I10>E10+4,"Learned","")) | V10: =IF($E10>0,IF($E10=$J$50,"1st",IF($E10=$J$51,"2nd",IF($E10=$J$52,"3rd",IF($E10<9,"Fell","")))),"") | W10: =IF(E10=0,"",IF(AND(C10=1,E10=$C$50),"Std pln worked",IF(AND(C10>1,E10>$C$50),"Cont pln",""))) | Y10: =IF(I10>0,IF(E10>=Q$21,IF(I10>=S$23,1,0),0),0) -> 0
A11: =IF(E11=$E$18,C11,"") -> 0 | B11: =B10+1 -> 9 | F11: =IF(D11>0,IF(E11>D11,"+","-"),"") | G11: =V11 | H11: =IF(AND(LEN(V11)>0,LEN(W11)>0),"-","")&W11 | O11: =O10+1 -> 9 | P11: =IF(ISBLANK(D11),"",IF(D11>P$18+P$19/1.5,"H",IF(D11<P$18-P$19/1.5,"L",""))) | Q11: =IF(ISBLANK(D11),"",IF(E11=Q$20,"1st",IF(E11=Q$21,"2nd",IF(E11=Q$22,"3rd",IF(E11<7,"Fell",""))))) | R11: =IF(ISBLANK(D11),"",IF(E11=C$52,IF(C$52>MAX(E$3:E$10),"3rd Mvr Ad",""),"")) | S11: =IF(ISBLANK(I11),"",IF(I11=S$20,"1st",IF(I11=S$21,"2nd",IF(I11=S$22,"3rd",IF(I11<7,"Fell",""))))) | T11: =IF(Y11=1,"Sust Adv",IF(I11>E11+4,"Learned","")) | V11: =IF($E11>0,IF($E11=$J$50,"1st",IF($E11=$J$51,"2nd",IF($E11=$J$52,"3rd",IF($E11<9,"Fell","")))),"") | W11: =IF(E11=0,"",IF(AND(C11=1,E11=$C$50),"Std pln worked",IF(AND(C11>1,E11>$C$50),"Cont pln",""))) | Y11: =IF(I11>0,IF(E11>=Q$21,IF(I11>=S$23,1,0),0),0) -> 0
A12: =IF(E12=$E$18,C12,"") -> 0 | B12: =B11+1 -> 10 | F12: =IF(D12>0,IF(E12>D12,"+","-"),"") | G12: =V12 | H12: =IF(AND(LEN(V12)>0,LEN(W12)>0),"-","")&W12 | O12: =O11+1 -> 10 | P12: =IF(ISBLANK(D12),"",IF(D12>P$18+P$19/1.5,"H",IF(D12<P$18-P$19/1.5,"L",""))) | Q12: =IF(ISBLANK(D12),"",IF(E12=Q$20,"1st",IF(E12=Q$21,"2nd",IF(E12=Q$22,"3rd",IF(E12<7,"Fell",""))))) | R12: =IF(ISBLANK(D12),"",IF(E12=C$52,IF(C$52>MAX(E$3:E$10),"3rd Mvr Ad",""),"")) | S12: =IF(ISBLANK(I12),"",IF(I12=S$20,"1st",IF(I12=S$21,"2nd",IF(I12=S$22,"3rd",IF(I12<7,"Fell",""))))) | T12: =IF(Y12=1,"Sust Adv",IF(I12>E12+4,"Learned","")) | V12: =IF($E12>0,IF($E12=$J$50,"1st",IF($E12=$J$51,"2nd",IF($E12=$J$52,"3rd",IF($E12<9,"Fell","")))),"") | W12: =IF(E12=0,"",IF(AND(C12=1,E12=$C$50),"Std pln worked",IF(AND(C12>1,E12>$C$50),"Cont pln",""))) | Y12: =IF(I12>0,IF(E12>=Q$21,IF(I12>=S$23,1,0),0),0) -> 0
A13: =IF(E13=$E$18,C13,"") -> 0 | B13: =B12+1 -> 11 | F13: =IF(D13>0,IF(E13>D13,"+","-"),"") | G13: =V13 | H13: =IF(AND(LEN(V13)>0,LEN(W13)>0),"-","")&W13 | O13: =O12+1 -> 11 | P13: =IF(ISBLANK(D13),"",IF(D13>P$18+P$19/1.5,"H",IF(D13<P$18-P$19/1.5,"L",""))) | Q13: =IF(ISBLANK(D13),"",IF(E13=Q$20,"1st",IF(E13=Q$21,"2nd",IF(E13=Q$22,"3rd",IF(E13<7,"Fell",""))))) | R13: =IF(ISBLANK(D13),"",IF(E13=C$52,IF(C$52>MAX(E$3:E$10),"3rd Mvr Ad",""),"")) | S13: =IF(ISBLANK(I13),"",IF(I13=S$20,"1st",IF(I13=S$21,"2nd",IF(I13=S$22,"3rd",IF(I13<7,"Fell",""))))) | T13: =IF(Y13=1,"Sust Adv",IF(I13>E13+4,"Learned","")) | V13: =IF($E13>0,IF($E13=$J$50,"1st",IF($E13=$J$51,"2nd",IF($E13=$J$52,"3rd",IF($E13<9,"Fell","")))),"") | W13: =IF(E13=0,"",IF(AND(C13=1,E13=$C$50),"Std pln worked",IF(AND(C13>1,E13>$C$50),"Cont pln",""))) | Y13: =IF(I13>0,IF(E13>=Q$21,IF(I13>=S$23,1,0),0),0) -> 0
A14: =IF(E14=$E$18,C14,"") -> 0 | B14: =B13+1 -> 12 | F14: =IF(D14>0,IF(E14>D14,"+","-"),"") | G14: =V14 | H14: =IF(AND(LEN(V14)>0,LEN(W14)>0),"-","")&W14 | O14: =O13+1 -> 12 | P14: =IF(ISBLANK(D14),"",IF(D14>P$18+P$19/1.5,"H",IF(D14<P$18-P$19/1.5,"L",""))) | Q14: =IF(ISBLANK(D14),"",IF(E14=Q$20,"1st",IF(E14=Q$21,"2nd",IF(E14=Q$22,"3rd",IF(E14<7,"Fell",""))))) | R14: =IF(ISBLANK(D14),"",IF(E14=C$52,IF(C$52>MAX(E$3:E$10),"3rd Mvr Ad",""),"")) | S14: =IF(ISBLANK(I14),"",IF(I14=S$20,"1st",IF(I14=S$21,"2nd",IF(I14=S$22,"3rd",IF(I14<7,"Fell",""))))) | T14: =IF(Y14=1,"Sust Adv",IF(I14>E14+4,"Learned","")) | V14: =IF($E14>0,IF($E14=$J$50,"1st",IF($E14=$J$51,"2nd",IF($E14=$J$52,"3rd",IF($E14<9,"Fell","")))),"") | W14: =IF(E14=0,"",IF(AND(C14=1,E14=$C$50),"Std pln worked",IF(AND(C14>1,E14>$C$50),"Cont pln",""))) | Y14: =IF(I14>0,IF(E14>=Q$21,IF(I14>=S$23,1,0),0),0) -> 0
B15: =B14+1 -> 13 | G15: =V15 | H15: =IF(AND(LEN(V15)>0,LEN(W15)>0),"-","")&W15 | O15: =O14+1 -> 13 | P15: =IF(ISBLANK(D15),"",IF(D15>P$18+P$19/1.5,"H",IF(D15<P$18-P$19/1.5,"L",""))) | Q15: =IF(ISBLANK(D15),"",IF(E15=Q$20,"1st",IF(E15=Q$21,"2nd",IF(E15=Q$22,"3rd",IF(E15<7,"Fell",""))))) | R15: =IF(ISBLANK(D15),"",IF(E15=C$52,IF(C$52>MAX(E$3:E$10),"3rd Mvr Ad",""),"")) | S15: =IF(ISBLANK(I15),"",IF(I15=S$20,"1st",IF(I15=S$21,"2nd",IF(I15=S$22,"3rd",IF(I15<7,"Fell",""))))) | T15: =IF(Y15=1,"Sust Adv",IF(I15>E15+4,"Learned","")) | V15: =IF($E15>0,IF($E15=$J$50,"1st",IF($E15=$J$51,"2nd",IF($E15=$J$52,"3rd",IF($E15<9,"Fell","")))),"") | W15: =IF(E15=0,"",IF(AND(C15=1,E15=$C$50),"Std pln worked",IF(AND(C15>1,E15>$C$50),"Cont pln",""))) | Y15: =IF(I15>0,IF(E15>=Q$21,IF(I15>=S$23,1,0),0),0) -> 0
B16: =B15+1 -> 14 | G16: =V16 | H16: =IF(AND(LEN(V16)>0,LEN(W16)>0),"-","")&W16 | O16: =O15+1 -> 14 | P16: =IF(ISBLANK(D16),"",IF(D16>P$18+P$19/1.5,"H",IF(D16<P$18-P$19/1.5,"L",""))) | Q16: =IF(ISBLANK(D16),"",IF(E16=Q$20,"1st",IF(E16=Q$21,"2nd",IF(E16=Q$22,"3rd",IF(E16<7,"Fell",""))))) | R16: =IF(ISBLANK(D16),"",IF(E16=C$52,IF(C$52>MAX(E$3:E$10),"3rd Mvr Ad",""),"")) | S16: =IF(ISBLANK(I16),"",IF(I16=S$20,"1st",IF(I16=S$21,"2nd",IF(I16=S$22,"3rd",IF(I16<7,"Fell",""))))) | T16: =IF(Y16=1,"Sust Adv",IF(I16>E16+4,"Learned","")) | V16: =IF($E16>0,IF($E16=$J$50,"1st",IF($E16=$J$51,"2nd",IF($E16=$J$52,"3rd",IF($E16<9,"Fell","")))),"") | W16: =IF(E16=0,"",IF(AND(C16=1,E16=$C$50),"Std pln worked",IF(AND(C16>1,E16>$C$50),"Cont pln",""))) | Y16: =IF(I16>0,IF(E16>=Q$21,IF(I16>=S$23,1,0),0),0) -> 0
B17: =B16+1 -> 15 | G17: =V17 | H17: =IF(AND(LEN(V17)>0,LEN(W17)>0),"-","")&W17 | O17: =O16+1 -> 15 | P17: =IF(ISBLANK(D17),"",IF(D17>P$18+P$19/1.5,"H",IF(D17<P$18-P$19/1.5,"L",""))) | Q17: =IF(ISBLANK(D17),"",IF(E17=Q$20,"1st",IF(E17=Q$21,"2nd",IF(E17=Q$22,"3rd",IF(E17<7,"Fell",""))))) | R17: =IF(ISBLANK(D17),"",IF(E17=C$52,IF(C$52>MAX(E$3:E$10),"3rd Mvr Ad",""),"")) | S17: =IF(ISBLANK(I17),"",IF(I17=S$20,"1st",IF(I17=S$21,"2nd",IF(I17=S$22,"3rd",IF(I17<7,"Fell",""))))) | T17: =IF(Y17=1,"Sust Adv",IF(I17>E17+4,"Learned","")) | V17: =IF($E17>0,IF($E17=$J$50,"1st",IF($E17=$J$51,"2nd",IF($E17=$J$52,"3rd",IF($E17<9,"Fell","")))),"") | W17: =IF(E17=0,"",IF(AND(C17=1,E17=$C$50),"Std pln worked",IF(AND(C17>1,E17>$C$50),"Cont pln",""))) | Y17: =IF(I17>0,IF(E17>=Q$21,IF(I17>=S$23,1,0),0),0) -> 0
A18: =MAX(A3:A14) -> 2 | B18: =IF(A18=1,"st",IF(A18=2,"nd","rd")) -> nd | E18: =MAX(E3:E14) -> 0 | F18: =TEXT(A18,"#")&B18 -> 2nd | G18: =COUNTIF(C3:C14,">0") -> 3 | O18: Mean | P18: =AVERAGE(D3:D17) -> #DIV/0! | Q18: =AVERAGE(E3:E17) -> #DIV/0! | S18: =AVERAGE(I3:I17) -> #DIV/0! | W18: =IF(E18=0,"",IF(AND(C18=1,E18=$C$50),"Std pln worked",IF(AND(C18>1,E18>$C$50),"Cont pln","")))
O19: StdDev | P19: =STDEV(D3:D14) -> #DIV/0! | Q19: =STDEV(E3:E14) -> #DIV/0! | S19: =STDEV(I3:I14) -> #DIV/0!
O20: 1st | P20: =MAX(D3:D17) -> 0 | Q20: =MAX(E3:E17) -> 0 | S20: =MAX(I3:I17) -> 0
O21: 2nd | P21: =MAX(D55:D69) -> 0 | Q21: =MAX(E55:E69) -> 0 | S21: =MAX(I62:I69) -> 0
O22: 3rd | P22: =MAX(D71:D85) -> 0 | Q22: =MAX(E71:E85) -> 0 | S22: =MAX(I71:I85) -> #REF!
O49: 1st group | P49: 2nd group | Q49: 3rd group
A50: Max 1st mover | C50: =MAX(O50:O64) -> 0 | H50: 1st place | J50: =MAX(E3:E14) -> 0 | K50: 1 | M50: =IF(E3>=$J$50,"",E3) | N50: =IF(E3>=$J$51,"",E3) | O50: =IF($C3=1,$E3,"") | P50: =IF($C3=2,$E3,"") -> 0 | Q50: =IF($C3=3,$E3,"")
A51: Max 2nd mover | C51: =MAX(P50:P64) -> 0 | H51: 2nd place | J51: =MAX(M50:M61) -> 0 | K51: =K50+1 -> 2 | M51: =IF(E4>=$J$50,"",E4) | N51: =IF(E4>=$J$51,"",E4) | O51: =IF($C4=1,$E4,"") | P51: =IF($C4=2,$E4,"") -> 0 | Q51: =IF($C4=3,$E4,"")
A52: Max 3rd mover | C52: =MAX(Q50:Q64) -> 0 | H52: 3rd place | J52: =MAX(N50:N61) -> 0 | K52: =K51+1 -> 3 | M52: =IF(E5>=$J$50,"",E5) | N52: =IF(E5>=$J$51,"",E5) | O52: =IF($C5=1,$E5,"") | P52: =IF($C5=2,$E5,"") -> 0 | Q52: =IF($C5=3,$E5,"")
K53: =K52+1 -> 4 | M53: =IF(E6>=$J$50,"",E6) | N53: =IF(E6>=$J$51,"",E6) | O53: =IF($C6=1,$E6,"") | P53: =IF($C6=2,$E6,"") | Q53: =IF($C6=3,$E6,"")
K54: =K53+1 -> 5 | M54: =IF(E7>=$J$50,"",E7) | N54: =IF(E7>=$J$51,"",E7) | O54: =IF($C7=1,$E7,"") | P54: =IF($C7=2,$E7,"") | Q54: =IF($C7=3,$E7,"")
A55: 1 | D55: =IF(D3<P$20,IF(ISBLANK(D3),"",D3),"") | E55: =IF(E3<Q$20,IF(ISBLANK(E3),"",E3),"") | K55: =K54+1 -> 6 | M55: =IF(E8>=$J$50,"",E8) | N55: =IF(E8>=$J$51,"",E8) | O55: =IF($C8=1,$E8,"") | P55: =IF($C8=2,$E8,"") | Q55: =IF($C8=3,$E8,"")
A56: =A55+1 -> 2 | D56: =IF(D4<P$20,IF(ISBLANK(D4),"",D4),"") | E56: =IF(E4<Q$20,IF(ISBLANK(E4),"",E4),"") | K56: =K55+1 -> 7 | M56: =IF(E9>=$J$50,"",E9) | N56: =IF(E9>=$J$51,"",E9) | O56: =IF($C9=1,$E9,"") | P56: =IF($C9=2,$E9,"") | Q56: =IF($C9=3,$E9,"")
A57: =A56+1 -> 3 | D57: =IF(D5<P$20,IF(ISBLANK(D5),"",D5),"") | E57: =IF(E5<Q$20,IF(ISBLANK(E5),"",E5),"") | K57: =K56+1 -> 8 | M57: =IF(E10>=$J$50,"",E10) | N57: =IF(E10>=$J$51,"",E10) | O57: =IF($C10=1,$E10,"") | P57: =IF($C10=2,$E10,"") | Q57: =IF($C10=3,$E10,"")
A58: =A57+1 -> 4 | D58: =IF(D6<P$20,IF(ISBLANK(D6),"",D6),"") | E58: =IF(E6<Q$20,IF(ISBLANK(E6),"",E6),"") | K58: =K57+1 -> 9 | M58: =IF(E11>=$J$50,"",E11) | N58: =IF(E11>=$J$51,"",E11) | O58: =IF($C11=1,$E11,"") | P58: =IF($C11=2,$E11,"") | Q58: =IF($C11=3,$E11,"")
A59: =A58+1 -> 5 | D59: =IF(D7<P$20,IF(ISBLANK(D7),"",D7),"") | E59: =IF(E7<Q$20,IF(ISBLANK(E7),"",E7),"") | K59: =K58+1 -> 10 | M59: =IF(E12>=$J$50,"",E12) | N59: =IF(E12>=$J$51,"",E12) | O59: =IF($C12=1,$E12,"") | P59: =IF($C12=2,$E12,"") | Q59: =IF($C12=3,$E12,"")
A60: =A59+1 -> 6 | D60: =IF(D8<P$20,IF(ISBLANK(D8),"",D8),"") | E60: =IF(E8<Q$20,IF(ISBLANK(E8),"",E8),"") | K60: =K59+1 -> 11 | M60: =IF(E13>=$J$50,"",E13) | N60: =IF(E13>=$J$51,"",E13) | O60: =IF($C13=1,$E13,"") | P60: =IF($C13=2,$E13,"") | Q60: =IF($C13=3,$E13,"")
A61: =A60+1 -> 7 | D61: =IF(D9<P$20,IF(ISBLANK(D9),"",D9),"") | E61: =IF(E9<Q$20,IF(ISBLANK(E9),"",E9),"") | K61: =K60+1 -> 12 | M61: =IF(E14>=$J$50,"",E14) | N61: =IF(E14>=$J$51,"",E14) | O61: =IF($C14=1,$E14,"") | P61: =IF($C14=2,$E14,"") | Q61: =IF($C14=3,$E14,"")
A62: =A61+1 -> 8 | D62: =IF(D10<P$20,IF(ISBLANK(D10),"",D10),"") | E62: =IF(E10<Q$20,IF(ISBLANK(E10),"",E10),"") | I62: =IF(I10<S$20,IF(ISBLANK(I10),"",I10),"") | K62: =K61+1 -> 13 | M62: =IF(E15>=$J$50,"",E15) | N62: =IF(E15>=$J$51,"",E15) | O62: =IF($C15=1,$E15,"") | P62: =IF($C15=2,$E15,"") | Q62: =IF($C15=3,$E15,"")
A63: =A62+1 -> 9 | D63: =IF(D11<P$20,IF(ISBLANK(D11),"",D11),"") | E63: =IF(E11<Q$20,IF(ISBLANK(E11),"",E11),"") | I63: =IF(I11<S$20,IF(ISBLANK(I11),"",I11),"") | K63: =K62+1 -> 14 | M63: =IF(E16>=$J$50,"",E16) | N63: =IF(E16>=$J$51,"",E16) | O63: =IF($C16=1,$E16,"") | P63: =IF($C16=2,$E16,"") | Q63: =IF($C16=3,$E16,"")
A64: =A63+1 -> 10 | D64: =IF(D12<P$20,IF(ISBLANK(D12),"",D12),"") | E64: =IF(E12<Q$20,IF(ISBLANK(E12),"",E12),"") | I64: =IF(I12<S$20,IF(ISBLANK(I12),"",I12),"") | K64: =K63+1 -> 15 | M64: =IF(E17>=$J$50,"",E17) | N64: =IF(E17>=$J$51,"",E17) | O64: =IF($C17=1,$E17,"") | P64: =IF($C17=2,$E17,"") | Q64: =IF($C17=3,$E17,"")
A65: =A64+1 -> 11 | D65: =IF(D13<P$20,IF(ISBLANK(D13),"",D13),"") | E65: =IF(E13<Q$20,IF(ISBLANK(E13),"",E13),"") | I65: =IF(I13<S$20,IF(ISBLANK(I13),"",I13),"")
A66: =A65+1 -> 12 | D66: =IF(D14<P$20,IF(ISBLANK(D14),"",D14),"") | E66: =IF(E14<Q$20,IF(ISBLANK(E14),"",E14),"") | I66: =IF(I14<S$20,IF(ISBLANK(I14),"",I14),"")
...

Sheet Section2
B1: Strategy (723-2, F11) | O1: Builderific Analysis - Section 1
B2: Team | C2: Plan | D2: Goal | E2: Actual | H2: Analysis | I2: 2nd Try | O2: Team | P2: Goal | Q2: Analysis | S2: 2nd Try
A3: =IF(E3=$E$18,C3,"") -> 0 | B3: 12 | F3: =IF(D3>0,IF(E3>D3,"+","-"),"") | G3: =V3 | H3: =IF(AND(LEN(V3)>0,LEN(W3)>0),"-","")&W3 | O3: 1 | P3: =IF(ISBLANK(D3),"",IF(D3>P$18+P$19/1.5,"H",IF(D3<P$18-P$19/1.5,"L",""))) | Q3: =IF(ISBLANK(D3),"",IF(E3=Q$20,"1st",IF(E3=Q$21,"2nd",IF(E3=Q$22,"3rd",IF(E3<7,"Fell",""))))) | R3: =IF(ISBLANK(D3),"",IF(E3=C$50,"1st in GrpA","")) | S3: =IF(ISBLANK(I3),"",IF(I3=S$20,"1st",IF(I3=S$21,"2nd",IF(I3=S$22,"3rd",IF(I3<7,"Fell",""))))) | T3: =IF(Y3=1,"Sust Adv",IF(I3>E3+4,"Learned","")) | V3: =IF($E3>0,IF($E3=$J$50,"1st",IF($E3=$J$51,"2nd",IF($E3=$J$52,"3rd",IF($E3<9,"Fell","")))),"") | W3: =IF(E3=0,"",IF(AND(C3=1,E3=$C$50),"Std pln worked",IF(AND(C3>1,E3>$C$50),"Cont pln",""))) | Y3: =IF(I3>0,IF(E3>=Q$21,IF(I3>=S$23,1,0),0),0) -> 0
A4: =IF(E4=$E$18,C4,"") -> 0 | B4: =B3+1 -> 13 | F4: =IF(D4>0,IF(E4>D4,"+","-"),"") | G4: =V4 | H4: =IF(AND(LEN(V4)>0,LEN(W4)>0),"-","")&W4 | O4: =O3+1 -> 2 | P4: =IF(ISBLANK(D4),"",IF(D4>P$18+P$19/1.5,"H",IF(D4<P$18-P$19/1.5,"L",""))) | Q4: =IF(ISBLANK(D4),"",IF(E4=Q$20,"1st",IF(E4=Q$21,"2nd",IF(E4=Q$22,"3rd",IF(E4<7,"Fell",""))))) | R4: =IF(ISBLANK(D4),"",IF(E4=C$50,"1st in GrpA","")) | S4: =IF(ISBLANK(I4),"",IF(I4=S$20,"1st",IF(I4=S$21,"2nd",IF(I4=S$22,"3rd",IF(I4<7,"Fell",""))))) | T4: =IF(Y4=1,"Sust Adv",IF(I4>E4+4,"Learned","")) | V4: =IF($E4>0,IF($E4=$J$50,"1st",IF($E4=$J$51,"2nd",IF($E4=$J$52,"3rd",IF($E4<9,"Fell","")))),"") | W4: =IF(E4=0,"",IF(AND(C4=1,E4=$C$50),"Std pln worked",IF(AND(C4>1,E4>$C$50),"Cont pln",""))) | Y4: =IF(I4>0,IF(E4>=Q$21,IF(I4>=S$23,1,0),0),0) -> 0
A5: =IF(E5=$E$18,C5,"") -> 0 | B5: =B4+1 -> 14 | F5: =IF(D5>0,IF(E5>D5,"+","-"),"") | G5: =V5 | H5: =IF(AND(LEN(V5)>0,LEN(W5)>0),"-","")&W5 | O5: =O4+1 -> 3 | P5: =IF(ISBLANK(D5),"",IF(D5>P$18+P$19/1.5,"H",IF(D5<P$18-P$19/1.5,"L",""))) | Q5: =IF(ISBLANK(D5),"",IF(E5=Q$20,"1st",IF(E5=Q$21,"2nd",IF(E5=Q$22,"3rd",IF(E5<7,"Fell",""))))) | R5: =IF(ISBLANK(D5),"",IF(E5=C$50,"1st in GrpA","")) | S5: =IF(ISBLANK(I5),"",IF(I5=S$20,"1st",IF(I5=S$21,"2nd",IF(I5=S$22,"3rd",IF(I5<7,"Fell",""))))) | T5: =IF(Y5=1,"Sust Adv",IF(I5>E5+4,"Learned","")) | V5: =IF($E5>0,IF($E5=$J$50,"1st",IF($E5=$J$51,"2nd",IF($E5=$J$52,"3rd",IF($E5<9,"Fell","")))),"") | W5: =IF(E5=0,"",IF(AND(C5=1,E5=$C$50),"Std pln worked",IF(AND(C5>1,E5>$C$50),"Cont pln",""))) | Y5: =IF(I5>0,IF(E5>=Q$21,IF(I5>=S$23,1,0),0),0) -> 0
A6: =IF(E6=$E$18,C6,"") -> 0 | B6: =B5+1 -> 15 | F6: =IF(D6>0,IF(E6>D6,"+","-"),"") | G6: =V6 | H6: =IF(AND(LEN(V6)>0,LEN(W6)>0),"-","")&W6 | O6: =O5+1 -> 4 | P6: =IF(ISBLANK(D6),"",IF(D6>P$18+P$19/1.5,"H",IF(D6<P$18-P$19/1.5,"L",""))) | Q6: =IF(ISBLANK(D6),"",IF(E6=Q$20,"1st",IF(E6=Q$21,"2nd",IF(E6=Q$22,"3rd",IF(E6<7,"Fell",""))))) | R6: =IF(ISBLANK(D6),"",IF(E6=C$50,"1st in GrpA","")) | S6: =IF(ISBLANK(I6),"",IF(I6=S$20,"1st",IF(I6=S$21,"2nd",IF(I6=S$22,"3rd",IF(I6<7,"Fell",""))))) | T6: =IF(Y6=1,"Sust Adv",IF(I6>E6+4,"Learned","")) | V6: =IF($E6>0,IF($E6=$J$50,"1st",IF($E6=$J$51,"2nd",IF($E6=$J$52,"3rd",IF($E6<9,"Fell","")))),"") | W6: =IF(E6=0,"",IF(AND(C6=1,E6=$C$50),"Std pln worked",IF(AND(C6>1,E6>$C$50),"Cont pln",""))) | Y6: =IF(I6>0,IF(E6>=Q$21,IF(I6>=S$23,1,0),0),0) -> 0
A7: =IF(E7=$E$18,C7,"") -> 0 | B7: =B6+1 -> 16 | F7: =IF(D7>0,IF(E7>D7,"+","-"),"") | G7: =V7 | H7: =IF(AND(LEN(V7)>0,LEN(W7)>0),"-","")&W7 | O7: =O6+1 -> 5 | P7: =IF(ISBLANK(D7),"",IF(D7>P$18+P$19/1.5,"H",IF(D7<P$18-P$19/1.5,"L",""))) | Q7: =IF(ISBLANK(D7),"",IF(E7=Q$20,"1st",IF(E7=Q$21,"2nd",IF(E7=Q$22,"3rd",IF(E7<7,"Fell",""))))) | R7: =IF(ISBLANK(D7),"",IF(E7=C$51,IF(C$51>C$50,"2nd Mvr Ad",""),"")) | S7: =IF(ISBLANK(I7),"",IF(I7=S$20,"1st",IF(I7=S$21,"2nd",IF(I7=S$22,"3rd",IF(I7<7,"Fell",""))))) | T7: =IF(Y7=1,"Sust Adv",IF(I7>E7+4,"Learned","")) | V7: =IF($E7>0,IF($E7=$J$50,"1st",IF($E7=$J$51,"2nd",IF($E7=$J$52,"3rd",IF($E7<9,"Fell","")))),"") | W7: =IF(E7=0,"",IF(AND(C7=1,E7=$C$50),"Std pln worked",IF(AND(C7>1,E7>$C$50),"Cont pln",""))) | Y7: =IF(I7>0,IF(E7>=Q$21,IF(I7>=S$23,1,0),0),0) -> 0
A8: =IF(E8=$E$18,C8,"") -> 0 | B8: =B7+1 -> 17 | F8: =IF(D8>0,IF(E8>D8,"+","-"),"") | G8: =V8 | H8: =IF(AND(LEN(V8)>0,LEN(W8)>0),"-","")&W8 | O8: =O7+1 -> 6 | P8: =IF(ISBLANK(D8),"",IF(D8>P$18+P$19/1.5,"H",IF(D8<P$18-P$19/1.5,"L",""))) | Q8: =IF(ISBLANK(D8),"",IF(E8=Q$20,"1st",IF(E8=Q$21,"2nd",IF(E8=Q$22,"3rd",IF(E8<7,"Fell",""))))) | R8: =IF(ISBLANK(D8),"",IF(E8=C$51,IF(C$51>C$50,"2nd Mvr Ad",""),"")) | S8: =IF(ISBLANK(I8),"",IF(I8=S$20,"1st",IF(I8=S$21,"2nd",IF(I8=S$22,"3rd",IF(I8<7,"Fell",""))))) | T8: =IF(Y8=1,"Sust Adv",IF(I8>E8+4,"Learned","")) | V8: =IF($E8>0,IF($E8=$J$50,"1st",IF($E8=$J$51,"2nd",IF($E8=$J$52,"3rd",IF($E8<9,"Fell","")))),"") | W8: =IF(E8=0,"",IF(AND(C8=1,E8=$C$50),"Std pln worked",IF(AND(C8>1,E8>$C$50),"Cont pln",""))) | Y8: =IF(I8>0,IF(E8>=Q$21,IF(I8>=S$23,1,0),0),0) -> 0
A9: =IF(E9=$E$18,C9,"") -> 0 | B9: =B8+1 -> 18 | F9: =IF(D9>0,IF(E9>D9,"+","-"),"") | G9: =V9 | H9: =IF(AND(LEN(V9)>0,LEN(W9)>0),"-","")&W9 | O9: =O8+1 -> 7 | P9: =IF(ISBLANK(D9),"",IF(D9>P$18+P$19/1.5,"H",IF(D9<P$18-P$19/1.5,"L",""))) | Q9: =IF(ISBLANK(D9),"",IF(E9=Q$20,"1st",IF(E9=Q$21,"2nd",IF(E9=Q$22,"3rd",IF(E9<7,"Fell",""))))) | R9: =IF(ISBLANK(D9),"",IF(E9=C$51,IF(C$51>C$50,"2nd Mvr Ad",""),"")) | S9: =IF(ISBLANK(I9),"",IF(I9=S$20,"1st",IF(I9=S$21,"2nd",IF(I9=S$22,"3rd",IF(I9<7,"Fell",""))))) | T9: =IF(Y9=1,"Sust Adv",IF(I9>E9+4,"Learned","")) | V9: =IF($E9>0,IF($E9=$J$50,"1st",IF($E9=$J$51,"2nd",IF($E9=$J$52,"3rd",IF($E9<9,"Fell","")))),"") | W9: =IF(E9=0,"",IF(AND(C9=1,E9=$C$50),"Std pln worked",IF(AND(C9>1,E9>$C$50),"Cont pln",""))) | Y9: =IF(I9>0,IF(E9>=Q$21,IF(I9>=S$23,1,0),0),0) -> 0
A10: =IF(E10=$E$18,C10,"") -> 0 | B10: =B9+1 -> 19 | F10: =IF(D10>0,IF(E10>D10,"+","-"),"") | G10: =V10 | H10: =IF(AND(LEN(V10)>0,LEN(W10)>0),"-","")&W10 | O10: =O9+1 -> 8 | P10: =IF(ISBLANK(D10),"",IF(D10>P$18+P$19/1.5,"H",IF(D10<P$18-P$19/1.5,"L",""))) | Q10: =IF(ISBLANK(D10),"",IF(E10=Q$20,"1st",IF(E10=Q$21,"2nd",IF(E10=Q$22,"3rd",IF(E10<7,"Fell",""))))) | R10: =IF(ISBLANK(D10),"",IF(E10=C$51,IF(C$51>C$50,"2nd Mvr Ad",""),"")) | S10: =IF(ISBLANK(I10),"",IF(I10=S$20,"1st",IF(I10=S$21,"2nd",IF(I10=S$22,"3rd",IF(I10<7,"Fell",""))))) | T10: =IF(Y10=1,"Sust Adv",IF(I10>E10+4,"Learned","")) | V10: =IF($E10>0,IF($E10=$J$50,"1st",IF($E10=$J$51,"2nd",IF($E10=$J$52,"3rd",IF($E10<9,"Fell","")))),"") | W10: =IF(E10=0,"",IF(AND(C10=1,E10=$C$50),"Std pln worked",IF(AND(C10>1,E10>$C$50),"Cont pln",""))) | Y10: =IF(I10>0,IF(E10>=Q$21,IF(I10>=S$23,1,0),0),0) -> 0
A11: =IF(E11=$E$18,C11,"") -> 0 | B11: =B10+1 -> 20 | F11: =IF(D11>0,IF(E11>D11,"+","-"),"") | G11: =V11 | H11: =IF(AND(LEN(V11)>0,LEN(W11)>0),"-","")&W11 | O11: =O10+1 -> 9 | P11: =IF(ISBLANK(D11),"",IF(D11>P$18+P$19/1.5,"H",IF(D11<P$18-P$19/1.5,"L",""))) | Q11: =IF(ISBLANK(D11),"",IF(E11=Q$20,"1st",IF(E11=Q$21,"2nd",IF(E11=Q$22,"3rd",IF(E11<7,"Fell",""))))) | R11: =IF(ISBLANK(D11),"",IF(E11=C$52,IF(C$52>MAX(E$3:E$10),"3rd Mvr Ad",""),"")) | S11: =IF(ISBLANK(I11),"",IF(I11=S$20,"1st",IF(I11=S$21,"2nd",IF(I11=S$22,"3rd",IF(I11<7,"Fell",""))))) | T11: =IF(Y11=1,"Sust Adv",IF(I11>E11+4,"Learned","")) | V11: =IF($E11>0,IF($E11=$J$50,"1st",IF($E11=$J$51,"2nd",IF($E11=$J$52,"3rd",IF($E11<9,"Fell","")))),"") | W11: =IF(E11=0,"",IF(AND(C11=1,E11=$C$50),"Std pln worked",IF(AND(C11>1,E11>$C$50),"Cont pln",""))) | Y11: =IF(I11>0,IF(E11>=Q$21,IF(I11>=S$23,1,0),0),0) -> 0
A12: =IF(E12=$E$18,C12,"") -> 0 | B12: =B11+1 -> 21 | F12: =IF(D12>0,IF(E12>D12,"+","-"),"") | G12: =V12 | H12: =IF(AND(LEN(V12)>0,LEN(W12)>0),"-","")&W12 | O12: =O11+1 -> 10 | P12: =IF(ISBLANK(D12),"",IF(D12>P$18+P$19/1.5,"H",IF(D12<P$18-P$19/1.5,"L",""))) | Q12: =IF(ISBLANK(D12),"",IF(E12=Q$20,"1st",IF(E12=Q$21,"2nd",IF(E12=Q$22,"3rd",IF(E12<7,"Fell",""))))) | R12: =IF(ISBLANK(D12),"",IF(E12=C$52,IF(C$52>MAX(E$3:E$10),"3rd Mvr Ad",""),"")) | S12: =IF(ISBLANK(I12),"",IF(I12=S$20,"1st",IF(I12=S$21,"2nd",IF(I12=S$22,"3rd",IF(I12<7,"Fell",""))))) | T12: =IF(Y12=1,"Sust Adv",IF(I12>E12+4,"Learned","")) | V12: =IF($E12>0,IF($E12=$J$50,"1st",IF($E12=$J$51,"2nd",IF($E12=$J$52,"3rd",IF($E12<9,"Fell","")))),"") | W12: =IF(E12=0,"",IF(AND(C12=1,E12=$C$50),"Std pln worked",IF(AND(C12>1,E12>$C$50),"Cont pln",""))) | Y12: =IF(I12>0,IF(E12>=Q$21,IF(I12>=S$23,1,0),0),0) -> 0
A13: =IF(E13=$E$18,C13,"") -> 0 | B13: =B12+1 -> 22 | F13: =IF(D13>0,IF(E13>D13,"+","-"),"") | G13: =V13 | H13: =IF(AND(LEN(V13)>0,LEN(W13)>0),"-","")&W13 | O13: =O12+1 -> 11 | P13: =IF(ISBLANK(D13),"",IF(D13>P$18+P$19/1.5,"H",IF(D13<P$18-P$19/1.5,"L",""))) | Q13: =IF(ISBLANK(D13),"",IF(E13=Q$20,"1st",IF(E13=Q$21,"2nd",IF(E13=Q$22,"3rd",IF(E13<7,"Fell",""))))) | R13: =IF(ISBLANK(D13),"",IF(E13=C$52,IF(C$52>MAX(E$3:E$10),"3rd Mvr Ad",""),"")) | S13: =IF(ISBLANK(I13),"",IF(I13=S$20,"1st",IF(I13=S$21,"2nd",IF(I13=S$22,"3rd",IF(I13<7,"Fell",""))))) | T13: =IF(Y13=1,"Sust Adv",IF(I13>E13+4,"Learned","")) | V13: =IF($E13>0,IF($E13=$J$50,"1st",IF($E13=$J$51,"2nd",IF($E13=$J$52,"3rd",IF($E13<9,"Fell","")))),"") | W13: =IF(E13=0,"",IF(AND(C13=1,E13=$C$50),"Std pln worked",IF(AND(C13>1,E13>$C$50),"Cont pln",""))) | Y13: =IF(I13>0,IF(E13>=Q$21,IF(I13>=S$23,1,0),0),0) -> 0
A14: =IF(E14=$E$18,C14,"") -> 0 | B14: =B13+1 -> 23 | F14: =IF(D14>0,IF(E14>D14,"+","-"),"") | G14: =V14 | H14: =IF(AND(LEN(V14)>0,LEN(W14)>0),"-","")&W14 | O14: =O13+1 -> 12 | P14: =IF(ISBLANK(D14),"",IF(D14>P$18+P$19/1.5,"H",IF(D14<P$18-P$19/1.5,"L",""))) | Q14: =IF(ISBLANK(D14),"",IF(E14=Q$20,"1st",IF(E14=Q$21,"2nd",IF(E14=Q$22,"3rd",IF(E14<7,"Fell",""))))) | R14: =IF(ISBLANK(D14),"",IF(E14=C$52,IF(C$52>MAX(E$3:E$10),"3rd Mvr Ad",""),"")) | S14: =IF(ISBLANK(I14),"",IF(I14=S$20,"1st",IF(I14=S$21,"2nd",IF(I14=S$22,"3rd",IF(I14<7,"Fell",""))))) | T14: =IF(Y14=1,"Sust Adv",IF(I14>E14+4,"Learned","")) | V14: =IF($E14>0,IF($E14=$J$50,"1st",IF($E14=$J$51,"2nd",IF($E14=$J$52,"3rd",IF($E14<9,"Fell","")))),"") | W14: =IF(E14=0,"",IF(AND(C14=1,E14=$C$50),"Std pln worked",IF(AND(C14>1,E14>$C$50),"Cont pln",""))) | Y14: =IF(I14>0,IF(E14>=Q$21,IF(I14>=S$23,1,0),0),0) -> 0
B15: =B14+1 -> 24 | O15: =O14+1 -> 13 | P15: =IF(ISBLANK(D15),"",IF(D15>P$18+P$19/1.5,"H",IF(D15<P$18-P$19/1.5,"L",""))) | Q15: =IF(ISBLANK(D15),"",IF(E15=Q$20,"1st",IF(E15=Q$21,"2nd",IF(E15=Q$22,"3rd",IF(E15<7,"Fell",""))))) | R15: =IF(ISBLANK(D15),"",IF(E15=C$52,IF(C$52>MAX(E$3:E$10),"3rd Mvr Ad",""),"")) | S15: =IF(ISBLANK(I15),"",IF(I15=S$20,"1st",IF(I15=S$21,"2nd",IF(I15=S$22,"3rd",IF(I15<7,"Fell",""))))) | T15: =IF(Y15=1,"Sust Adv",IF(I15>E15+4,"Learned","")) | V15: =IF($E15=$J$50,"1st",IF($E15=$J$51,"2nd",IF($E15=$J$52,"3rd",IF($E15<7,"Fell","")))) -> 1st | W15: =IF(E15=0,"",IF(AND(C15=1,E15=$C$50),"Std pln worked",IF(AND(C15>1,E15>$C$50),"Cont pln",""))) | Y15: =IF(I15>0,IF(E15>=Q$21,IF(I15>=S$23,1,0),0),0) -> 0
B16: =B15+1 -> 25 | O16: =O15+1 -> 14 | P16: =IF(ISBLANK(D16),"",IF(D16>P$18+P$19/1.5,"H",IF(D16<P$18-P$19/1.5,"L",""))) | Q16: =IF(ISBLANK(D16),"",IF(E16=Q$20,"1st",IF(E16=Q$21,"2nd",IF(E16=Q$22,"3rd",IF(E16<7,"Fell",""))))) | R16: =IF(ISBLANK(D16),"",IF(E16=C$52,IF(C$52>MAX(E$3:E$10),"3rd Mvr Ad",""),"")) | S16: =IF(ISBLANK(I16),"",IF(I16=S$20,"1st",IF(I16=S$21,"2nd",IF(I16=S$22,"3rd",IF(I16<7,"Fell",""))))) | T16: =IF(Y16=1,"Sust Adv",IF(I16>E16+4,"Learned","")) | V16: =IF($E16=$J$50,"1st",IF($E16=$J$51,"2nd",IF($E16=$J$52,"3rd",IF($E16<7,"Fell","")))) -> 1st | W16: =IF(E16=0,"",IF(AND(C16=1,E16=$C$50),"Std pln worked",IF(AND(C16>1,E16>$C$50),"Cont pln",""))) | Y16: =IF(I16>0,IF(E16>=Q$21,IF(I16>=S$23,1,0),0),0) -> 0
B17: =B16+1 -> 26 | O17: =O16+1 -> 15 | P17: =IF(ISBLANK(D17),"",IF(D17>P$18+P$19/1.5,"H",IF(D17<P$18-P$19/1.5,"L",""))) | Q17: =IF(ISBLANK(D17),"",IF(E17=Q$20,"1st",IF(E17=Q$21,"2nd",IF(E17=Q$22,"3rd",IF(E17<7,"Fell",""))))) | R17: =IF(ISBLANK(D17),"",IF(E17=C$52,IF(C$52>MAX(E$3:E$10),"3rd Mvr Ad",""),"")) | S17: =IF(ISBLANK(I17),"",IF(I17=S$20,"1st",IF(I17=S$21,"2nd",IF(I17=S$22,"3rd",IF(I17<7,"Fell",""))))) | T17: =IF(Y17=1,"Sust Adv",IF(I17>E17+4,"Learned","")) | V17: =IF($E17=$J$50,"1st",IF($E17=$J$51,"2nd",IF($E17=$J$52,"3rd",IF($E17<7,"Fell","")))) -> 1st | W17: =IF(E17=0,"",IF(AND(C17=1,E17=$C$50),"Std pln worked",IF(AND(C17>1,E17>$C$50),"Cont pln",""))) | Y17: =IF(I17>0,IF(E17>=Q$21,IF(I17>=S$23,1,0),0),0) -> 0
A18: =MAX(A3:A14) -> 0 | B18: =IF(A18=1,"st",IF(A18=2,"nd","rd")) -> rd | E18: =MAX(E3:E15) -> 0 | F18: =TEXT(A18,"#")&B18 -> rd | G18: =COUNTIF(C3:C14,">0") -> 0 | O18: Mean | P18: =AVERAGE(D3:D17) -> #DIV/0! | Q18: =AVERAGE(E3:E17) -> #DIV/0! | S18: =AVERAGE(I3:I17) -> #DIV/0!
O19: StdDev | P19: =STDEV(D3:D14) -> #DIV/0! | Q19: =STDEV(E3:E14) -> #DIV/0! | S19: =STDEV(I3:I14) -> #DIV/0!
O20: 1st | P20: =MAX(D3:D17) -> 0 | Q20: =MAX(E3:E17) -> 0 | S20: =MAX(I3:I17) -> 0
O21: 2nd | P21: =MAX(D55:D69) -> 0 | Q21: =MAX(E55:E69) -> 0 | S21: =MAX(I62:I69) -> 0
O22: 3rd | P22: =MAX(D71:D85) -> 0 | Q22: =MAX(E71:E85) -> 0 | S22: =MAX(I71:I85) -> #REF!
O49: 1st group | P49: 2nd group | Q49: 3rd group
A50: Max 1st mover | C50: =MAX(O50:O64) -> 0 | H50: 1st place | J50: =MAX(E3:E14) -> 0 | K50: 1 | M50: =IF(E3>=$J$50,"",E3) | N50: =IF(E3>=$J$51,"",E3) | O50: =IF($C3=1,$E3,"") | P50: =IF($C3=2,$E3,"") | Q50: =IF($C3=3,$E3,"")
A51: Max 2nd mover | C51: =MAX(P50:P64) -> 0 | H51: 2nd place | J51: =MAX(M50:M61) -> 0 | K51: =K50+1 -> 2 | M51: =IF(E4>=$J$50,"",E4) | N51: =IF(E4>=$J$51,"",E4) | O51: =IF($C4=1,$E4,"") | P51: =IF($C4=2,$E4,"") | Q51: =IF($C4=3,$E4,"")
A52: Max 3rd mover | C52: =MAX(Q50:Q64) -> 0 | H52: 3rd place | J52: =MAX(N50:N61) -> 0 | K52: =K51+1 -> 3 | M52: =IF(E5>=$J$50,"",E5) | N52: =IF(E5>=$J$51,"",E5) | O52: =IF($C5=1,$E5,"") | P52: =IF($C5=2,$E5,"") | Q52: =IF($C5=3,$E5,"")
K53: =K52+1 -> 4 | M53: =IF(E6>=$J$50,"",E6) | N53: =IF(E6>=$J$51,"",E6) | O53: =IF($C6=1,$E6,"") | P53: =IF($C6=2,$E6,"") | Q53: =IF($C6=3,$E6,"")
K54: =K53+1 -> 5 | M54: =IF(E7>=$J$50,"",E7) | N54: =IF(E7>=$J$51,"",E7) | O54: =IF($C7=1,$E7,"") | P54: =IF($C7=2,$E7,"") | Q54: =IF($C7=3,$E7,"")
A55: 1 | D55: =IF(D3<P$20,IF(ISBLANK(D3),"",D3),"") | E55: =IF(E3<Q$20,IF(ISBLANK(E3),"",E3),"") | K55: =K54+1 -> 6 | M55: =IF(E8>=$J$50,"",E8) | N55: =IF(E8>=$J$51,"",E8) | O55: =IF($C8=1,$E8,"") | P55: =IF($C8=2,$E8,"") | Q55: =IF($C8=3,$E8,"")
A56: =A55+1 -> 2 | D56: =IF(D4<P$20,IF(ISBLANK(D4),"",D4),"") | E56: =IF(E4<Q$20,IF(ISBLANK(E4),"",E4),"") | K56: =K55+1 -> 7 | M56: =IF(E9>=$J$50,"",E9) | N56: =IF(E9>=$J$51,"",E9) | O56: =IF($C9=1,$E9,"") | P56: =IF($C9=2,$E9,"") | Q56: =IF($C9=3,$E9,"")
A57: =A56+1 -> 3 | D57: =IF(D5<P$20,IF(ISBLANK(D5),"",D5),"") | E57: =IF(E5<Q$20,IF(ISBLANK(E5),"",E5),"") | K57: =K56+1 -> 8 | M57: =IF(E10>=$J$50,"",E10) | N57: =IF(E10>=$J$51,"",E10) | O57: =IF($C10=1,$E10,"") | P57: =IF($C10=2,$E10,"") | Q57: =IF($C10=3,$E10,"")
A58: =A57+1 -> 4 | D58: =IF(D6<P$20,IF(ISBLANK(D6),"",D6),"") | E58: =IF(E6<Q$20,IF(ISBLANK(E6),"",E6),"") | K58: =K57+1 -> 9 | M58: =IF(E11>=$J$50,"",E11) | N58: =IF(E11>=$J$51,"",E11) | O58: =IF($C11=1,$E11,"") | P58: =IF($C11=2,$E11,"") | Q58: =IF($C11=3,$E11,"")
A59: =A58+1 -> 5 | D59: =IF(D7<P$20,IF(ISBLANK(D7),"",D7),"") | E59: =IF(E7<Q$20,IF(ISBLANK(E7),"",E7),"") | K59: =K58+1 -> 10 | M59: =IF(E12>=$J$50,"",E12) | N59: =IF(E12>=$J$51,"",E12) | O59: =IF($C12=1,$E12,"") | P59: =IF($C12=2,$E12,"") | Q59: =IF($C12=3,$E12,"")
A60: =A59+1 -> 6 | D60: =IF(D8<P$20,IF(ISBLANK(D8),"",D8),"") | E60: =IF(E8<Q$20,IF(ISBLANK(E8),"",E8),"") | K60: =K59+1 -> 11 | M60: =IF(E13>=$J$50,"",E13) | N60: =IF(E13>=$J$51,"",E13) | O60: =IF($C13=1,$E13,"") | P60: =IF($C13=2,$E13,"") | Q60: =IF($C13=3,$E13,"")
A61: =A60+1 -> 7 | D61: =IF(D9<P$20,IF(ISBLANK(D9),"",D9),"") | E61: =IF(E9<Q$20,IF(ISBLANK(E9),"",E9),"") | K61: =K60+1 -> 12 | M61: =IF(E14>=$J$50,"",E14) | N61: =IF(E14>=$J$51,"",E14) | O61: =IF($C14=1,$E14,"") | P61: =IF($C14=2,$E14,"") | Q61: =IF($C14=3,$E14,"")
A62: =A61+1 -> 8 | D62: =IF(D10<P$20,IF(ISBLANK(D10),"",D10),"") | E62: =IF(E10<Q$20,IF(ISBLANK(E10),"",E10),"") | I62: =IF(I10<S$20,IF(ISBLANK(I10),"",I10),"") | K62: =K61+1 -> 13 | M62: =IF(E15>=$J$50,"",E15) | N62: =IF(E15>=$J$51,"",E15) | O62: =IF($C15=1,$E15,"") | P62: =IF($C15=2,$E15,"") | Q62: =IF($C15=3,$E15,"")
A63: =A62+1 -> 9 | D63: =IF(D11<P$20,IF(ISBLANK(D11),"",D11),"") | E63: =IF(E11<Q$20,IF(ISBLANK(E11),"",E11),"") | I63: =IF(I11<S$20,IF(ISBLANK(I11),"",I11),"") | K63: =K62+1 -> 14 | M63: =IF(E16>=$J$50,"",E16) | N63: =IF(E16>=$J$51,"",E16) | O63: =IF($C16=1,$E16,"") | P63: =IF($C16=2,$E16,"") | Q63: =IF($C16=3,$E16,"")
A64: =A63+1 -> 10 | D64: =IF(D12<P$20,IF(ISBLANK(D12),"",D12),"") | E64: =IF(E12<Q$20,IF(ISBLANK(E12),"",E12),"") | I64: =IF(I12<S$20,IF(ISBLANK(I12),"",I12),"") | K64: =K63+1 -> 15 | M64: =IF(E17>=$J$50,"",E17) | N64: =IF(E17>=$J$51,"",E17) | O64: =IF($C17=1,$E17,"") | P64: =IF($C17=2,$E17,"") | Q64: =IF($C17=3,$E17,"")
A65: =A64+1 -> 11 | D65: =IF(D13<P$20,IF(ISBLANK(D13),"",D13),"") | E65: =IF(E13<Q$20,IF(ISBLANK(E13),"",E13),"") | I65: =IF(I13<S$20,IF(ISBLANK(I13),"",I13),"")
A66: =A65+1 -> 12 | D66: =IF(D14<P$20,IF(ISBLANK(D14),"",D14),"") | E66: =IF(E14<Q$20,IF(ISBLANK(E14),"",E14),"") | I66: =IF(I14<S$20,IF(ISBLANK(I14),"",I14),"")
...

Sheet Past Results
B1: Builderific -- Past Results
B2: When? | C2: Height | D2: Pln? | E2: # Grps | G2: When? | H2: Height | I2: Pln? | J2: # Grps
B3: Selected Past Results | G3: Selected Past Results
B4: Strategy (723-1, F10) | C4: 38 | D4: Cont | E4: 11 | G4: Undergrad Sec 0 F99 | H4: 38 | I4: 2nd | J4: 12
B5: Strategy (723-2, F10) | C5: 29.5 | D5: Cont | E5: 11 | G5: Undergrad Sec 1 F99 | H5: 47.5 | I5: 3rd | J5: 12
B6: Strategy (723-1, F11) | C6: 34 | D6: Cont | E6: 10 | G6: MBA Sec 0 F00 | H6: 30.8 | I6: 2nd | J6: 9
B7: Strategy (723-2, F11) | C7: 33 | D7: Cont | E7: 11 | G7: MBA Sec 1 F00 | H7: 29.5 | I7: 1st | J7: 7
B8: EMBA Global Strategy (F10) | C8: 27 | D8: 2nd | E8: 5 | G8: MBA Sec 0 F01 | H8: 37 | I8: 2nd | J8: 8
B9: EMBA Global Strategy (F11) | C9: 28 | D9: 2nd | E9: 7 | G9: MBA Sec 1 F01 | H9: 36.5 | I9: 1st | J9: 8
B10: WEB 2012 Builderific | C10: 35 | D10: 2nd | E10: 12 | G10: Siemens Medical Solutions | H10: 33 | I10: 2nd | J10: 6
G11: MBA Sec 0 S03 | H11: 28 | I11: 1st | J11: 8
G12: MBA Sec 1 S03 | H12: 41.5 | I12: 2nd | J12: 5
G13: MBA Sec 2 S03 | H13: 40 | I13: 2nd | J13: 4
G14: MBA Sec 0 S04 | H14: 35 | I14: 2nd | J14: 10
G15: MBA Sec 1 S04 | H15: 48 | I15: 2nd | J15: 7
G16: MBA Sec 2 S04 | H16: 44.5 | I16: 1st | J16: 8
G17: MBA Sec 0 S05 | H17: 28.5 | I17: 1st | J17: 7
G18: MBA Sec 1 S05 | H18: 38 | I18: 1st | J18: 8
G19: BBA S05 | H19: 31 | I19: 1st | J19: 4
G20: MBA Sec 0 F05 | H20: 42.75 | I20: 1st | J20: 7
G21: MBA Sec 1 F05 | H21: 47 | I21: 2nd | J21: 6
G22: BBA F05 | H22: 21 | I22: 1st | J22: 5
... G33: Woodruff Leadership 08 | H33: 24 | I33: 1st | J33: 4
B34: Current Results | C34: =MAX(C4:H33) -> 48 | G34: Pediatric Exec Prog 08 | H34: 21 | I34: 1st | J34: 4
B35: =IF(C35="","",Section1!B1) | C35: =IF(Section1!E$18=0,"",Section1!E$18) | D35: =IF(Section1!E$18=0,"",Section1!F$18) | E35: =IF(Section1!$E$18=0,"",Section1!G$18) | G35: Woodruff Leadership 07 | H35: 24 | I35: 1st | J35: 4
B36: =IF(C36="","",Section2!B1) | C36: =IF(Section2!E$18=0,"",Section2!E$18) | D36: =IF(Section2!E$18=0,"",Section2!F$18) | E36: =IF(Section2!$E$18=0,"",Section2!G$18) | G36: Woodruff Leadership 06 | H36: 21 | I36: 1st | J36: 4
B37: =IF(C37="","",WLA!B1) | C37: =IF(WLA!E18=0,"",WLA!E18) | D37: =IF(WLA!E$18=0,"",WLA!F18) | E37: =IF(WLA!$E18=0,"",WLA!G18) | G37: Woodruff Leadership 05 | H37: 35.5 | I37: 1st | J37: 4

Sheet WLA
B1: Woodruff Leadership 2010 | O1: Builderific Analysis - Section 1
B2: Team | C2: Plan | D2: Goal | E2: Actual | H2: Analysis | I2: 2nd Try | O2: Team | P2: Goal | Q2: Analysis | S2: 2nd Try
A3: =IF(E3=$E$18,C3,"") -> 2 | B3: 1 | C3: 2 | F3: =IF(D3>0,IF(E3>D3,"+","-"),"") | G3: =V3 | H3: =IF(AND(LEN(V3)>0,LEN(W3)>0),"-","")&W3 | O3: 1 | P3: =IF(ISBLANK(D3),"",IF(D3>P$18+P$19/1.5,"H",IF(D3<P$18-P$19/1.5,"L",""))) | Q3: =IF(ISBLANK(D3),"",IF(E3=Q$20,"1st",IF(E3=Q$21,"2nd",IF(E3=Q$22,"3rd",IF(E3<7,"Fell",""))))) | R3: =IF(ISBLANK(D3),"",IF(E3=C$50,"1st in GrpA","")) | S3: =IF(ISBLANK(I3),"",IF(I3=S$20,"1st",IF(I3=S$21,"2nd",IF(I3=S$22,"3rd",IF(I3<7,"Fell",""))))) | T3: =IF(Y3=1,"Sust Adv",IF(I3>E3+4,"Learned","")) | V3: =IF($E3>0,IF($E3=$J$50,"1st",IF($E3=$J$51,"2nd",IF($E3=$J$52,"3rd",IF($E3<9,"Fell","")))),"") | W3: =IF(E3=0,"",IF(AND(C3=1,E3=$C$50),"Std pln worked",IF(AND(C3>1,E3>$C$50),"Contingency pln",""))) | Y3: =IF(I3>0,IF(E3>=Q$21,IF(I3>=S$23,1,0),0),0) -> 0
A4: =IF(E4=$E$18,C4,"") -> 2 | B4: =B3+1 -> 2 | C4: 2 | F4: =IF(D4>0,IF(E4>D4,"+","-"),"") | G4: =V4 | H4: =IF(AND(LEN(V4)>0,LEN(W4)>0),"-","")&W4 | O4: =O3+1 -> 2 | P4: =IF(ISBLANK(D4),"",IF(D4>P$18+P$19/1.5,"H",IF(D4<P$18-P$19/1.5,"L",""))) | Q4: =IF(ISBLANK(D4),"",IF(E4=Q$20,"1st",IF(E4=Q$21,"2nd",IF(E4=Q$22,"3rd",IF(E4<7,"Fell",""))))) | R4: =IF(ISBLANK(D4),"",IF(E4=C$50,"1st in GrpA","")) | S4: =IF(ISBLANK(I4),"",IF(I4=S$20,"1st",IF(I4=S$21,"2nd",IF(I4=S$22,"3rd",IF(I4<7,"Fell",""))))) | T4: =IF(Y4=1,"Sust Adv",IF(I4>E4+4,"Learned","")) | V4: =IF($E4>0,IF($E4=$J$50,"1st",IF($E4=$J$51,"2nd",IF($E4=$J$52,"3rd",IF($E4<9,"Fell","")))),"") | W4: =IF(E4=0,"",IF(AND(C4=1,E4=$C$50),"Std pln worked",IF(AND(C4>1,E4>$C$50),"Contingency pln",""))) | Y4: =IF(I4>0,IF(E4>=Q$21,IF(I4>=S$23,1,0),0),0) -> 0
A5: =IF(E5=$E$18,C5,"") -> 2 | B5: =B4+1 -> 3 | C5: 2 | F5: =IF(D5>0,IF(E5>D5,"+","-"),"") | G5: =V5 | H5: =IF(AND(LEN(V5)>0,LEN(W5)>0),"-","")&W5 | O5: =O4+1 -> 3 | P5: =IF(ISBLANK(D5),"",IF(D5>P$18+P$19/1.5,"H",IF(D5<P$18-P$19/1.5,"L",""))) | Q5: =IF(ISBLANK(D5),"",IF(E5=Q$20,"1st",IF(E5=Q$21,"2nd",IF(E5=Q$22,"3rd",IF(E5<7,"Fell",""))))) | R5: =IF(ISBLANK(D5),"",IF(E5=C$50,"1st in GrpA","")) | S5: =IF(ISBLANK(I5),"",IF(I5=S$20,"1st",IF(I5=S$21,"2nd",IF(I5=S$22,"3rd",IF(I5<7,"Fell",""))))) | T5: =IF(Y5=1,"Sust Adv",IF(I5>E5+4,"Learned","")) | V5: =IF($E5>0,IF($E5=$J$50,"1st",IF($E5=$J$51,"2nd",IF($E5=$J$52,"3rd",IF($E5<9,"Fell","")))),"") | W5: =IF(E5=0,"",IF(AND(C5=1,E5=$C$50),"Std pln worked",IF(AND(C5>1,E5>$C$50),"Contingency pln",""))) | Y5: =IF(I5>0,IF(E5>=Q$21,IF(I5>=S$23,1,0),0),0) -> 0
A6: =IF(E6=$E$18,C6,"") -> 2 | B6: =B5+1 -> 4 | C6: 2 | F6: =IF(D6>0,IF(E6>D6,"+","-"),"") | G6: =V6 | H6: =IF(AND(LEN(V6)>0,LEN(W6)>0),"-","")&W6 | O6: =O5+1 -> 4 | P6: =IF(ISBLANK(D6),"",IF(D6>P$18+P$19/1.5,"H",IF(D6<P$18-P$19/1.5,"L",""))) | Q6: =IF(ISBLANK(D6),"",IF(E6=Q$20,"1st",IF(E6=Q$21,"2nd",IF(E6=Q$22,"3rd",IF(E6<7,"Fell",""))))) | R6: =IF(ISBLANK(D6),"",IF(E6=C$50,"1st in GrpA","")) | S6: =IF(ISBLANK(I6),"",IF(I6=S$20,"1st",IF(I6=S$21,"2nd",IF(I6=S$22,"3rd",IF(I6<7,"Fell",""))))) | T6: =IF(Y6=1,"Sust Adv",IF(I6>E6+4,"Learned","")) | V6: =IF($E6>0,IF($E6=$J$50,"1st",IF($E6=$J$51,"2nd",IF($E6=$J$52,"3rd",IF($E6<9,"Fell","")))),"") | W6: =IF(E6=0,"",IF(AND(C6=1,E6=$C$50),"Std pln worked",IF(AND(C6>1,E6>$C$50),"Contingency pln",""))) | Y6: =IF(I6>0,IF(E6>=Q$21,IF(I6>=S$23,1,0),0),0) -> 0
A7: =IF(E7=$E$18,C7,"") -> 0 | B7: =B6+1 -> 5 | F7: =IF(D7>0,IF(E7>D7,"+","-"),"") | G7: =V7 | H7: =IF(AND(LEN(V7)>0,LEN(W7)>0),"-","")&W7 | O7: =O6+1 -> 5 | P7: =IF(ISBLANK(D7),"",IF(D7>P$18+P$19/1.5,"H",IF(D7<P$18-P$19/1.5,"L",""))) | Q7: =IF(ISBLANK(D7),"",IF(E7=Q$20,"1st",IF(E7=Q$21,"2nd",IF(E7=Q$22,"3rd",IF(E7<7,"Fell",""))))) | R7: =IF(ISBLANK(D7),"",IF(E7=C$51,IF(C$51>C$50,"2nd Mvr Ad",""),"")) | S7: =IF(ISBLANK(I7),"",IF(I7=S$20,"1st",IF(I7=S$21,"2nd",IF(I7=S$22,"3rd",IF(I7<7,"Fell",""))))) | T7: =IF(Y7=1,"Sust Adv",IF(I7>E7+4,"Learned","")) | V7: =IF($E7>0,IF($E7=$J$50,"1st",IF($E7=$J$51,"2nd",IF($E7=$J$52,"3rd",IF($E7<9,"Fell","")))),"") | W7: =IF(E7=0,"",IF(AND(C7=1,E7=$C$50),"Std pln worked",IF(AND(C7>1,E7>$C$50),"Contingency pln",""))) | Y7: =IF(I7>0,IF(E7>=Q$21,IF(I7>=S$23,1,0),0),0) -> 0
A8: =IF(E8=$E$18,C8,"") -> 0 | B8: =B7+1 -> 6 | F8: =IF(D8>0,IF(E8>D8,"+","-"),"") | G8: =V8 | H8: =IF(AND(LEN(V8)>0,LEN(W8)>0),"-","")&W8 | O8: =O7+1 -> 6 | P8: =IF(ISBLANK(D8),"",IF(D8>P$18+P$19/1.5,"H",IF(D8<P$18-P$19/1.5,"L",""))) | Q8: =IF(ISBLANK(D8),"",IF(E8=Q$20,"1st",IF(E8=Q$21,"2nd",IF(E8=Q$22,"3rd",IF(E8<7,"Fell",""))))) | R8: =IF(ISBLANK(D8),"",IF(E8=C$51,IF(C$51>C$50,"2nd Mvr Ad",""),"")) | S8: =IF(ISBLANK(I8),"",IF(I8=S$20,"1st",IF(I8=S$21,"2nd",IF(I8=S$22,"3rd",IF(I8<7,"Fell",""))))) | T8: =IF(Y8=1,"Sust Adv",IF(I8>E8+4,"Learned","")) | V8: =IF($E8>0,IF($E8=$J$50,"1st",IF($E8=$J$51,"2nd",IF($E8=$J$52,"3rd",IF($E8<9,"Fell","")))),"") | W8: =IF(E8=0,"",IF(AND(C8=1,E8=$C$50),"Std pln worked",IF(AND(C8>1,E8>$C$50),"Contingency pln",""))) | Y8: =IF(I8>0,IF(E8>=Q$21,IF(I8>=S$23,1,0),0),0) -> 0
A9: =IF(E9=$E$18,C9,"") -> 0 | B9: =B8+1 -> 7 | F9: =IF(D9>0,IF(E9>D9,"+","-"),"") | G9: =V9 | H9: =IF(AND(LEN(V9)>0,LEN(W9)>0),"-","")&W9 | O9: =O8+1 -> 7 | P9: =IF(ISBLANK(D9),"",IF(D9>P$18+P$19/1.5,"H",IF(D9<P$18-P$19/1.5,"L",""))) | Q9: =IF(ISBLANK(D9),"",IF(E9=Q$20,"1st",IF(E9=Q$21,"2nd",IF(E9=Q$22,"3rd",IF(E9<7,"Fell",""))))) | R9: =IF(ISBLANK(D9),"",IF(E9=C$51,IF(C$51>C$50,"2nd Mvr Ad",""),"")) | S9: =IF(ISBLANK(I9),"",IF(I9=S$20,"1st",IF(I9=S$21,"2nd",IF(I9=S$22,"3rd",IF(I9<7,"Fell",""))))) | T9: =IF(Y9=1,"Sust Adv",IF(I9>E9+4,"Learned","")) | V9: =IF($E9>0,IF($E9=$J$50,"1st",IF($E9=$J$51,"2nd",IF($E9=$J$52,"3rd",IF($E9<9,"Fell","")))),"") | W9: =IF(E9=0,"",IF(AND(C9=1,E9=$C$50),"Std pln worked",IF(AND(C9>1,E9>$C$50),"Contingency pln",""))) | Y9: =IF(I9>0,IF(E9>=Q$21,IF(I9>=S$23,1,0),0),0) -> 0
A10: =IF(E10=$E$18,C10,"") -> 0 | B10: =B9+1 -> 8 | F10: =IF(D10>0,IF(E10>D10,"+","-"),"") | G10: =V10 | H10: =IF(AND(LEN(V10)>0,LEN(W10)>0),"-","")&W10 | O10: =O9+1 -> 8 | P10: =IF(ISBLANK(D10),"",IF(D10>P$18+P$19/1.5,"H",IF(D10<P$18-P$19/1.5,"L",""))) | Q10: =IF(ISBLANK(D10),"",IF(E10=Q$20,"1st",IF(E10=Q$21,"2nd",IF(E10=Q$22,"3rd",IF(E10<7,"Fell",""))))) | R10: =IF(ISBLANK(D10),"",IF(E10=C$51,IF(C$51>C$50,"2nd Mvr Ad",""),"")) | S10: =IF(ISBLANK(I10),"",IF(I10=S$20,"1st",IF(I10=S$21,"2nd",IF(I10=S$22,"3rd",IF(I10<7,"Fell",""))))) | T10: =IF(Y10=1,"Sust Adv",IF(I10>E10+4,"Learned","")) | V10: =IF($E10>0,IF($E10=$J$50,"1st",IF($E10=$J$51,"2nd",IF($E10=$J$52,"3rd",IF($E10<9,"Fell","")))),"") | W10: =IF(E10=0,"",IF(AND(C10=1,E10=$C$50),"Std pln worked",IF(AND(C10>1,E10>$C$50),"Contingency pln",""))) | Y10: =IF(I10>0,IF(E10>=Q$21,IF(I10>=S$23,1,0),0),0) -> 0
A11: =IF(E11=$E$18,C11,"") -> 0 | B11: =B10+1 -> 9 | F11: =IF(D11>0,IF(E11>D11,"+","-"),"") | G11: =V11 | H11: =IF(AND(LEN(V11)>0,LEN(W11)>0),"-","")&W11 | O11: =O10+1 -> 9 | P11: =IF(ISBLANK(D11),"",IF(D11>P$18+P$19/1.5,"H",IF(D11<P$18-P$19/1.5,"L",""))) | Q11: =IF(ISBLANK(D11),"",IF(E11=Q$20,"1st",IF(E11=Q$21,"2nd",IF(E11=Q$22,"3rd",IF(E11<7,"Fell",""))))) | R11: =IF(ISBLANK(D11),"",IF(E11=C$52,IF(C$52>MAX(E$3:E$10),"3rd Mvr Ad",""),"")) | S11: =IF(ISBLANK(I11),"",IF(I11=S$20,"1st",IF(I11=S$21,"2nd",IF(I11=S$22,"3rd",IF(I11<7,"Fell",""))))) | T11: =IF(Y11=1,"Sust Adv",IF(I11>E11+4,"Learned","")) | V11: =IF($E11>0,IF($E11=$J$50,"1st",IF($E11=$J$51,"2nd",IF($E11=$J$52,"3rd",IF($E11<9,"Fell","")))),"") | W11: =IF(E11=0,"",IF(AND(C11=1,E11=$C$50),"Std pln worked",IF(AND(C11>1,E11>$C$50),"Contingency pln",""))) | Y11: =IF(I11>0,IF(E11>=Q$21,IF(I11>=S$23,1,0),0),0) -> 0
A12: =IF(E12=$E$18,C12,"") -> 0 | B12: =B11+1 -> 10 | F12: =IF(D12>0,IF(E12>D12,"+","-"),"") | G12: =V12 | H12: =IF(AND(LEN(V12)>0,LEN(W12)>0),"-","")&W12 | O12: =O11+1 -> 10 | P12: =IF(ISBLANK(D12),"",IF(D12>P$18+P$19/1.5,"H",IF(D12<P$18-P$19/1.5,"L",""))) | Q12: =IF(ISBLANK(D12),"",IF(E12=Q$20,"1st",IF(E12=Q$21,"2nd",IF(E12=Q$22,"3rd",IF(E12<7,"Fell",""))))) | R12: =IF(ISBLANK(D12),"",IF(E12=C$52,IF(C$52>MAX(E$3:E$10),"3rd Mvr Ad",""),"")) | S12: =IF(ISBLANK(I12),"",IF(I12=S$20,"1st",IF(I12=S$21,"2nd",IF(I12=S$22,"3rd",IF(I12<7,"Fell",""))))) | T12: =IF(Y12=1,"Sust Adv",IF(I12>E12+4,"Learned","")) | V12: =IF($E12>0,IF($E12=$J$50,"1st",IF($E12=$J$51,"2nd",IF($E12=$J$52,"3rd",IF($E12<9,"Fell","")))),"") | W12: =IF(E12=0,"",IF(AND(C12=1,E12=$C$50),"Std pln worked",IF(AND(C12>1,E12>$C$50),"Contingency pln",""))) | Y12: =IF(I12>0,IF(E12>=Q$21,IF(I12>=S$23,1,0),0),0) -> 0
A13: =IF(E13=$E$18,C13,"") -> 0 | B13: =B12+1 -> 11 | F13: =IF(D13>0,IF(E13>D13,"+","-"),"") | G13: =V13 | H13: =IF(AND(LEN(V13)>0,LEN(W13)>0),"-","")&W13 | O13: =O12+1 -> 11 | P13: =IF(ISBLANK(D13),"",IF(D13>P$18+P$19/1.5,"H",IF(D13<P$18-P$19/1.5,"L",""))) | Q13: =IF(ISBLANK(D13),"",IF(E13=Q$20,"1st",IF(E13=Q$21,"2nd",IF(E13=Q$22,"3rd",IF(E13<7,"Fell",""))))) | R13: =IF(ISBLANK(D13),"",IF(E13=C$52,IF(C$52>MAX(E$3:E$10),"3rd Mvr Ad",""),"")) | S13: =IF(ISBLANK(I13),"",IF(I13=S$20,"1st",IF(I13=S$21,"2nd",IF(I13=S$22,"3rd",IF(I13<7,"Fell",""))))) | T13: =IF(Y13=1,"Sust Adv",IF(I13>E13+4,"Learned","")) | V13: =IF($E13>0,IF($E13=$J$50,"1st",IF($E13=$J$51,"2nd",IF($E13=$J$52,"3rd",IF($E13<9,"Fell","")))),"") | W13: =IF(E13=0,"",IF(AND(C13=1,E13=$C$50),"Std pln worked",IF(AND(C13>1,E13>$C$50),"Contingency pln",""))) | Y13: =IF(I13>0,IF(E13>=Q$21,IF(I13>=S$23,1,0),0),0) -> 0
A14: =IF(E14=$E$18,C14,"") -> 0 | B14: =B13+1 -> 12 | F14: =IF(D14>0,IF(E14>D14,"+","-"),"") | G14: =V14 | H14: =IF(AND(LEN(V14)>0,LEN(W14)>0),"-","")&W14 | O14: =O13+1 -> 12 | P14: =IF(ISBLANK(D14),"",IF(D14>P$18+P$19/1.5,"H",IF(D14<P$18-P$19/1.5,"L",""))) | Q14: =IF(ISBLANK(D14),"",IF(E14=Q$20,"1st",IF(E14=Q$21,"2nd",IF(E14=Q$22,"3rd",IF(E14<7,"Fell",""))))) | R14: =IF(ISBLANK(D14),"",IF(E14=C$52,IF(C$52>MAX(E$3:E$10),"3rd Mvr Ad",""),"")) | S14: =IF(ISBLANK(I14),"",IF(I14=S$20,"1st",IF(I14=S$21,"2nd",IF(I14=S$22,"3rd",IF(I14<7,"Fell",""))))) | T14: =IF(Y14=1,"Sust Adv",IF(I14>E14+4,"Learned","")) | V14: =IF($E14>0,IF($E14=$J$50,"1st",IF($E14=$J$51,"2nd",IF($E14=$J$52,"3rd",IF($E14<9,"Fell","")))),"") | W14: =IF(E14=0,"",IF(AND(C14=1,E14=$C$50),"Std pln worked",IF(AND(C14>1,E14>$C$50),"Contingency pln",""))) | Y14: =IF(I14>0,IF(E14>=Q$21,IF(I14>=S$23,1,0),0),0) -> 0
B15: =B14+1 -> 13 | O15: =O14+1 -> 13 | P15: =IF(ISBLANK(D15),"",IF(D15>P$18+P$19/1.5,"H",IF(D15<P$18-P$19/1.5,"L",""))) | Q15: =IF(ISBLANK(D15),"",IF(E15=Q$20,"1st",IF(E15=Q$21,"2nd",IF(E15=Q$22,"3rd",IF(E15<7,"Fell",""))))) | R15: =IF(ISBLANK(D15),"",IF(E15=C$52,IF(C$52>MAX(E$3:E$10),"3rd Mvr Ad",""),"")) | S15: =IF(ISBLANK(I15),"",IF(I15=S$20,"1st",IF(I15=S$21,"2nd",IF(I15=S$22,"3rd",IF(I15<7,"Fell",""))))) | T15: =IF(Y15=1,"Sust Adv",IF(I15>E15+4,"Learned","")) | V15: =IF($E15=$J$50,"1st",IF($E15=$J$51,"2nd",IF($E15=$J$52,"3rd",IF($E15<7,"Fell","")))) -> 1st | W15: =IF(E15=0,"",IF(AND(C15=1,E15=$C$50),"Std pln worked",IF(AND(C15>1,E15>$C$50),"Contingency pln",""))) | Y15: =IF(I15>0,IF(E15>=Q$21,IF(I15>=S$23,1,0),0),0) -> 0
B16: =B15+1 -> 14 | O16: =O15+1 -> 14 | P16: =IF(ISBLANK(D16),"",IF(D16>P$18+P$19/1.5,"H",IF(D16<P$18-P$19/1.5,"L",""))) | Q16: =IF(ISBLANK(D16),"",IF(E16=Q$20,"1st",IF(E16=Q$21,"2nd",IF(E16=Q$22,"3rd",IF(E16<7,"Fell",""))))) | R16: =IF(ISBLANK(D16),"",IF(E16=C$52,IF(C$52>MAX(E$3:E$10),"3rd Mvr Ad",""),"")) | S16: =IF(ISBLANK(I16),"",IF(I16=S$20,"1st",IF(I16=S$21,"2nd",IF(I16=S$22,"3rd",IF(I16<7,"Fell",""))))) | T16: =IF(Y16=1,"Sust Adv",IF(I16>E16+4,"Learned","")) | V16: =IF($E16=$J$50,"1st",IF($E16=$J$51,"2nd",IF($E16=$J$52,"3rd",IF($E16<7,"Fell","")))) -> 1st | W16: =IF(E16=0,"",IF(AND(C16=1,E16=$C$50),"Std pln worked",IF(AND(C16>1,E16>$C$50),"Contingency pln",""))) | Y16: =IF(I16>0,IF(E16>=Q$21,IF(I16>=S$23,1,0),0),0) -> 0
B17: =B16+1 -> 15 | O17: =O16+1 -> 15 | P17: =IF(ISBLANK(D17),"",IF(D17>P$18+P$19/1.5,"H",IF(D17<P$18-P$19/1.5,"L",""))) | Q17: =IF(ISBLANK(D17),"",IF(E17=Q$20,"1st",IF(E17=Q$21,"2nd",IF(E17=Q$22,"3rd",IF(E17<7,"Fell",""))))) | R17: =IF(ISBLANK(D17),"",IF(E17=C$52,IF(C$52>MAX(E$3:E$10),"3rd Mvr Ad",""),"")) | S17: =IF(ISBLANK(I17),"",IF(I17=S$20,"1st",IF(I17=S$21,"2nd",IF(I17=S$22,"3rd",IF(I17<7,"Fell",""))))) | T17: =IF(Y17=1,"Sust Adv",IF(I17>E17+4,"Learned","")) | V17: =IF($E17=$J$50,"1st",IF($E17=$J$51,"2nd",IF($E17=$J$52,"3rd",IF($E17<7,"Fell","")))) -> 1st | W17: =IF(E17=0,"",IF(AND(C17=1,E17=$C$50),"Std pln worked",IF(AND(C17>1,E17>$C$50),"Contingency pln",""))) | Y17: =IF(I17>0,IF(E17>=Q$21,IF(I17>=S$23,1,0),0),0) -> 0
A18: =MAX(A3:A14) -> 2 | B18: =IF(A18=1,"st",IF(A18=2,"nd","rd")) -> nd | E18: =MAX(E3:E14) -> 0 | F18: =TEXT(A18,"#")&B18 -> 2nd | G18: =COUNTIF(C3:C14,">0") -> 4 | O18: Mean | P18: =AVERAGE(D3:D17) -> #DIV/0! | Q18: =AVERAGE(E3:E17) -> #DIV/0! | S18: =AVERAGE(I3:I17) -> #DIV/0!
O19: StdDev | P19: =STDEV(D3:D14) -> #DIV/0! | Q19: =STDEV(E3:E14) -> #DIV/0! | S19: =STDEV(I3:I14) -> #DIV/0!
O20: 1st | P20: =MAX(D3:D17) -> 0 | Q20: =MAX(E3:E17) -> 0 | S20: =MAX(I3:I17) -> 0
O21: 2nd | P21: =MAX(D55:D69) -> 0 | Q21: =MAX(E55:E69) -> 0 | S21: =MAX(I62:I69) -> 0
O22: 3rd | P22: =MAX(D71:D85) -> 0 | Q22: =MAX(E71:E85) -> 0 | S22: =MAX(I71:I85) -> #REF!
O49: 1st group | P49: 2nd group | Q49: 3rd group
A50: Max 1st mover | C50: =MAX(O50:O64) -> 0 | H50: 1st place | J50: =MAX(E3:E14) -> 0 | K50: 1 | M50: =IF(E3>=$J$50,"",E3) | N50: =IF(E3>=$J$51,"",E3) | O50: =IF($C3=1,$E3,"") | P50: =IF($C3=2,$E3,"") -> 0 | Q50: =IF($C3=3,$E3,"")
A51: Max 2nd mover | C51: =MAX(P50:P64) -> 0 | H51: 2nd place | J51: =MAX(M50:M61) -> 0 | K51: =K50+1 -> 2 | M51: =IF(E4>=$J$50,"",E4) | N51: =IF(E4>=$J$51,"",E4) | O51: =IF($C4=1,$E4,"") | P51: =IF($C4=2,$E4,"") -> 0 | Q51: =IF($C4=3,$E4,"")
A52: Max 3rd mover | C52: =MAX(Q50:Q64) -> 0 | H52: 3rd place | J52: =MAX(N50:N61) -> 0 | K52: =K51+1 -> 3 | M52: =IF(E5>=$J$50,"",E5) | N52: =IF(E5>=$J$51,"",E5) | O52: =IF($C5=1,$E5,"") | P52: =IF($C5=2,$E5,"") -> 0 | Q52: =IF($C5=3,$E5,"")
K53: =K52+1 -> 4 | M53: =IF(E6>=$J$50,"",E6) | N53: =IF(E6>=$J$51,"",E6) | O53: =IF($C6=1,$E6,"") | P53: =IF($C6=2,$E6,"") -> 0 | Q53: =IF($C6=3,$E6,"")
K54: =K53+1 -> 5 | M54: =IF(E7>=$J$50,"",E7) | N54: =IF(E7>=$J$51,"",E7) | O54: =IF($C7=1,$E7,"") | P54: =IF($C7=2,$E7,"") | Q54: =IF($C7=3,$E7,"")
A55: 1 | D55: =IF(D3<P$20,IF(ISBLANK(D3),"",D3),"") | E55: =IF(E3<Q$20,IF(ISBLANK(E3),"",E3),"") | K55: =K54+1 -> 6 | M55: =IF(E8>=$J$50,"",E8) | N55: =IF(E8>=$J$51,"",E8) | O55: =IF($C8=1,$E8,"") | P55: =IF($C8=2,$E8,"") | Q55: =IF($C8=3,$E8,"")
A56: =A55+1 -> 2 | D56: =IF(D4<P$20,IF(ISBLANK(D4),"",D4),"") | E56: =IF(E4<Q$20,IF(ISBLANK(E4),"",E4),"") | K56: =K55+1 -> 7 | M56: =IF(E9>=$J$50,"",E9) | N56: =IF(E9>=$J$51,"",E9) | O56: =IF($C9=1,$E9,"") | P56: =IF($C9=2,$E9,"") | Q56: =IF($C9=3,$E9,"")
A57: =A56+1 -> 3 | D57: =IF(D5<P$20,IF(ISBLANK(D5),"",D5),"") | E57: =IF(E5<Q$20,IF(ISBLANK(E5),"",E5),"") | K57: =K56+1 -> 8 | M57: =IF(E10>=$J$50,"",E10) | N57: =IF(E10>=$J$51,"",E10) | O57: =IF($C10=1,$E10,"") | P57: =IF($C10=2,$E10,"") | Q57: =IF($C10=3,$E10,"")
A58: =A57+1 -> 4 | D58: =IF(D6<P$20,IF(ISBLANK(D6),"",D6),"") | E58: =IF(E6<Q$20,IF(ISBLANK(E6),"",E6),"") | K58: =K57+1 -> 9 | M58: =IF(E11>=$J$50,"",E11) | N58: =IF(E11>=$J$51,"",E11) | O58: =IF($C11=1,$E11,"") | P58: =IF($C11=2,$E11,"") | Q58: =IF($C11=3,$E11,"")
A59: =A58+1 -> 5 | D59: =IF(D7<P$20,IF(ISBLANK(D7),"",D7),"") | E59: =IF(E7<Q$20,IF(ISBLANK(E7),"",E7),"") | K59: =K58+1 -> 10 | M59: =IF(E12>=$J$50,"",E12) | N59: =IF(E12>=$J$51,"",E12) | O59: =IF($C12=1,$E12,"") | P59: =IF($C12=2,$E12,"") | Q59: =IF($C12=3,$E12,"")
A60: =A59+1 -> 6 | D60: =IF(D8<P$20,IF(ISBLANK(D8),"",D8),"") | E60: =IF(E8<Q$20,IF(ISBLANK(E8),"",E8),"") | K60: =K59+1 -> 11 | M60: =IF(E13>=$J$50,"",E13) | N60: =IF(E13>=$J$51,"",E13) | O60: =IF($C13=1,$E13,"") | P60: =IF($C13=2,$E13,"") | Q60: =IF($C13=3,$E13,"")
A61: =A60+1 -> 7 | D61: =IF(D9<P$20,IF(ISBLANK(D9),"",D9),"") | E61: =IF(E9<Q$20,IF(ISBLANK(E9),"",E9),"") | K61: =K60+1 -> 12 | M61: =IF(E14>=$J$50,"",E14) | N61: =IF(E14>=$J$51,"",E14) | O61: =IF($C14=1,$E14,"") | P61: =IF($C14=2,$E14,"") | Q61: =IF($C14=3,$E14,"")
A62: =A61+1 -> 8 | D62: =IF(D10<P$20,IF(ISBLANK(D10),"",D10),"") | E62: =IF(E10<Q$20,IF(ISBLANK(E10),"",E10),"") | I62: =IF(I10<S$20,IF(ISBLANK(I10),"",I10),"") | K62: =K61+1 -> 13 | M62: =IF(E15>=$J$50,"",E15) | N62: =IF(E15>=$J$51,"",E15) | O62: =IF($C15=1,$E15,"") | P62: =IF($C15=2,$E15,"") | Q62: =IF($C15=3,$E15,"")
A63: =A62+1 -> 9 | D63: =IF(D11<P$20,IF(ISBLANK(D11),"",D11),"") | E63: =IF(E11<Q$20,IF(ISBLANK(E11),"",E11),"") | I63: =IF(I11<S$20,IF(ISBLANK(I11),"",I11),"") | K63: =K62+1 -> 14 | M63: =IF(E16>=$J$50,"",E16) | N63: =IF(E16>=$J$51,"",E16) | O63: =IF($C16=1,$E16,"") | P63: =IF($C16=2,$E16,"") | Q63: =IF($C16=3,$E16,"")
A64: =A63+1 -> 10 | D64: =IF(D12<P$20,IF(ISBLANK(D12),"",D12),"") | E64: =IF(E12<Q$20,IF(ISBLANK(E12),"",E12),"") | I64: =IF(I12<S$20,IF(ISBLANK(I12),"",I12),"") | K64: =K63+1 -> 15 | M64: =IF(E17>=$J$50,"",E17) | N64: =IF(E17>=$J$51,"",E17) | O64: =IF($C17=1,$E17,"") | P64: =IF($C17=2,$E17,"") | Q64: =IF($C17=3,$E17,"")
A65: =A64+1 -> 11 | D65: =IF(D13<P$20,IF(ISBLANK(D13),"",D13),"") | E65: =IF(E13<Q$20,IF(ISBLANK(E13),"",E13),"") | I65: =IF(I13<S$20,IF(ISBLANK(I13),"",I13),"")
A66: =A65+1 -> 12 | D66: =IF(D14<P$20,IF(ISBLANK(D14),"",D14),"") | E66: =IF(E14<Q$20,IF(ISBLANK(E14),"",E14),"") | I66: =IF(I14<S$20,IF(ISBLANK(I14),"",I14),"")
...
