Workbook

Sheet Summary & Solution
B1: Gourmet Adventures Results
C2: # | D2: # | E2: Avg | F2: Avg | H2: Gain/
B3: Class | C3: Grps | D3: Classes | E3: Est. | F3: Bid | G3: Winner | H3: (Loss)
B4: EMBA (F12) | C4: 7 | D4: 1 | E4: =IF($R4<>0,R4,0) -> 20.35 | F4: =IF($R4<>0,S4,0) -> 17.934286 | G4: =IF($R4<>0,T4,0) -> 28.28 | H4: =IF($R4<>0,U4,0) -> -13.44 | K4: 0 | L4: =D4*H4 -> -13.44 | M4: =C4*E4 -> 142.45 | N4: =$C4*F4 -> 125.54 | O4: =$C4*G4 -> 197.96 | P4: =$C4*H4 -> -94.08 | R4: =EMBA!C$19 -> 20.35 | S4: =EMBA!D$19 -> 17.934286 | T4: =$D$34-U$4 -> 28.28 | U4: =EMBA!G$19 -> -13.44 | W4: =IF(G4>0,G4,"") -> 28.28
B5: 723-1 (F12) | C5: 10 | D5: 1 | E5: =IF($R5<>0,R5,0) -> 0 | F5: =IF($R5<>0,S5,0) -> 0 | G5: =IF($R5<>0,T5,0) -> 0 | H5: =IF($R5<>0,U5,0) -> 0 | K5: =IF(E5>0,C5,"") | L5: =D5*H5 -> 0 | M5: =C5*E5 -> 0 | N5: =$C5*F5 -> 0 | O5: =$C5*G5 -> 0 | P5: =$C5*H5 -> 0 | R5: ='Sec1'!C$19 -> 0 | S5: ='Sec1'!D$19 -> 0 | T5: =$D$34-U$5 -> 14.84 | U5: ='Sec1'!G$19 -> 0 | W5: =IF(G5>0,G5,"")
B6: 723-2 (F12) | C6: 11 | D6: 1 | E6: =IF($R6<>0,R6,0) -> 0 | F6: =IF($R6<>0,S6,0) -> 0 | G6: =IF($R6<>0,T6,0) -> 0 | H6: =IF($R6<>0,U6,0) -> 0 | K6: =IF(E6>0,C6,"") | L6: =D6*H6 -> 0 | M6: =C6*E6 -> 0 | N6: =$C6*F6 -> 0 | O6: =$C6*G6 -> 0 | P6: =$C6*H6 -> 0 | R6: ='Sec2'!C$18 -> 0 | S6: ='Sec2'!D$18 -> 0 | T6: =$D$34-U$6 -> 14.84 | U6: ='Sec2'!G$18 -> 0 | W6: =IF(G6>0,G6,"")
B7: Summary | C7: =SUM(C4:C6) -> 28 | D7: =SUM(D4:D6) -> 3 | E7: =M7 -> 5.0875 | F7: =N7 -> 4.4835714 | G7: =O7 -> 7.07 | H7: =P7 -> -3.36 | K7: =C7 -> 28 | L7: =D7 -> 3 | M7: =IF(C7>0,SUM(M4:M6)/$C7,0) -> 5.0875 | N7: =IF(C7>0,SUM(N4:N6)/$C7,0) -> 4.4835714 | O7: =IF(C7>0,SUM(O4:O6)/$C7,0) -> 7.07 | P7: =IF(C7>0,SUM(P4:P6)/$C7,0) -> -3.36 | W7: =IF(G7>0,G7,"") -> 7.07
K8: =C8 -> 0 | L8: =D8*H8 -> 0 | M8: =C8*E8 -> 0 | N8: =$C8*F8 -> 0 | O8: =$C8*G8 -> 0 | P8: =$C8*H8 -> 0 | W8: =IF(G8>0,G8,"")
K9: =C9 -> 0 | L9: =D9*H9 -> 0 | M9: =C9*E9 -> 0 | N9: =$C9*F9 -> 0 | O9: =$C9*G9 -> 0 | P9: =$C9*H9 -> 0
B10: EMBA (F11) | C10: 7 | D10: 1 | E10: 20.35 | F10: 17.934286 | G10: 28.28 | H10: -13.44 | K10: =C10 -> 7 | L10: =D10*H10 -> -13.44 | M10: =C10*E10 -> 142.45 | N10: =$C10*F10 -> 125.54 | O10: =$C10*G10 -> 197.96 | P10: =$C10*H10 -> -94.08
B11: 723-1&2 (F11) | C11: 21 | D11: 2 | E11: 18.361667 | F11: 16.92 | G11: 22.255714 | H11: -7.4157143 | K11: =C11 -> 21 | L11: =D11*H11 -> -14.831429 | M11: =C11*E11 -> 385.595 | N11: =$C11*F11 -> 355.32 | O11: =$C11*G11 -> 467.37 | P11: =$C11*H11 -> -155.73
B12: EMBA (F10) | C12: 5 | D12: 1 | E12: 26.4 | F12: 24.186 | G12: 70 | H12: -55.16 | K12: =C12 -> 5 | L12: =D12*H12 -> -55.16 | M12: =C12*E12 -> 132 | N12: =$C12*F12 -> 120.93 | O12: =$C12*G12 -> 350 | P12: =$C12*H12 -> -275.8
B13: 723-1&2 (F10) | C13: 22 | D13: 2 | E13: 16.996364 | F13: 16.197727 | G13: 27.15 | H13: -12.31 | K13: =C13 -> 22 | L13: =D13*H13 -> -24.62 | M13: =C13*E13 -> 373.92 | N13: =$C13*F13 -> 356.35 | O13: =$C13*G13 -> 597.3 | P13: =$C13*H13 -> -270.82 | W13: =IF(G13>0,G13,"") -> 27.15
B14: M&A 672P (F09) | C14: 7 | D14: 1 | E14: 20.412857 | F14: 17.758571 | G14: 23.31 | H14: -8.47 | K14: =C14 -> 7 | L14: =D14*H14 -> -8.47 | M14: =C14*E14 -> 142.89 | N14: =$C14*F14 -> 124.31 | O14: =$C14*G14 -> 163.17 | P14: =$C14*H14 -> -59.29 | W14: =IF(G14>0,G14,"") -> 23.31
B15: M&A 472 (F09) | C15: 7 | D15: 1 | E15: 19.668571 | F15: 17.361429 | G15: 20.5 | H15: -5.66 | K15: =C15 -> 7 | L15: =D15*H15 -> -5.66 | M15: =C15*E15 -> 137.68 | N15: =$C15*F15 -> 121.53 | O15: =$C15*G15 -> 143.5 | P15: =$C15*H15 -> -39.62 | W15: =IF(G15>0,G15,"") -> 20.5
B16: M&A 672P (S09) | C16: 10 | D16: 1 | E16: 18.804 | F16: 17.012 | G16: 21 | H16: -6.16 | K16: =C16 -> 10 | L16: =D16*H16 -> -6.16 | M16: =C16*E16 -> 188.04 | N16: =$C16*F16 -> 170.12 | O16: =$C16*G16 -> 210 | P16: =$C16*H16 -> -61.6 | W16: =IF(G16>0,G16,"") -> 21
B17: M&A 472 (S09) | C17: 6 | D17: 1 | E17: 16.681667 | F17: 16.308333 | G17: 22.37 | H17: -7.53 | K17: =C17 -> 6 | L17: =D17*H17 -> -7.53 | M17: =C17*E17 -> 100.09 | N17: =$C17*F17 -> 97.85 | O17: =$C17*G17 -> 134.22 | P17: =$C17*H17 -> -45.18 | W17: =IF(G17>0,G17,"") -> 22.37
B18: Wharton (F08) | C18: 20 | D18: 2 | E18: 23.285 | F18: 20.15 | G18: 28.9 | H18: -14.06 | K18: =C18 -> 20 | L18: =D18*H18 -> -28.12 | M18: =C18*E18 -> 465.7 | N18: =$C18*F18 -> 403 | O18: =$C18*G18 -> 578 | P18: =$C18*H18 -> -281.2 | W18: =IF(G18>0,G18,"") -> 28.9
B19: ICA (S08) | C19: 9 | D19: 2 | E19: 16.807778 | F19: 15.177778 | G19: 21.777778 | H19: -6.9377778 | K19: =C19 -> 9 | L19: =D19*H19 -> -13.875556 | M19: =C19*E19 -> 151.27 | N19: =$C19*F19 -> 136.6 | O19: =$C19*G19 -> 196 | P19: =$C19*H19 -> -62.44 | W19: =IF(G19>0,G19,"") -> 21.777778
B20: ICA (F06) | C20: 24 | D20: 3 | E20: 17.065926 | F20: 15.442426 | G20: 21.925926 | H20: -7.0859259 | K20: =C20 -> 24 | L20: =D20*H20 -> -21.257778 | M20: =C20*E20 -> 409.58222 | N20: =$C20*F20 -> 370.61822 | O20: =$C20*G20 -> 526.22222 | P20: =$C20*H20 -> -170.06222 | W20: =IF(G20>0,G20,"") -> 21.925926
B21: ICA (F05) | C21: 18 | D21: 3 | E21: 17.430397 | F21: 15.259841 | G21: 24.438333 | H21: -9.5983333 | K21: =C21 -> 18 | L21: =D21*H21 -> -28.795 | M21: =C21*E21 -> 313.74714 | N21: =$C21*F21 -> 274.67714 | O21: =$C21*G21 -> 439.89 | P21: =$C21*H21 -> -172.77 | W21: =IF(G21>0,G21,"") -> 24.438333
B22: ICA (S05) | C22: 19 | D22: 3 | E22: 20.481548 | F22: 17.364702 | G22: 29.666667 | H22: -14.826667 | K22: =C22 -> 19 | L22: =D22*H22 -> -44.48 | M22: =C22*E22 -> 389.1494 | N22: =$C22*F22 -> 329.92935 | O22: =$C22*G22 -> 563.66667 | P22: =$C22*H22 -> -281.70667 | W22: =IF(G22>0,G22,"") -> 29.666667
B23: MBA ICA (S04) | C23: 23 | D23: 3 | E23: 16.715694 | F23: 15.25037 | G23: 21.756667 | H23: -6.9166667 | K23: =C23 -> 23 | L23: =D23*H23 -> -20.75 | M23: =C23*E23 -> 384.46097 | N23: =$C23*F23 -> 350.75852 | O23: =$C23*G23 -> 500.40333 | P23: =$C23*H23 -> -159.08333 | W23: =IF(G23>0,G23,"") -> 21.756667
B24: MBA ICA (S03) | C24: 17 | D24: 3 | E24: =(18.13+15.16+13.43)/3 -> 15.573333 | F24: =(15.96+15.08+9.75)/3 -> 13.596667 | G24: =(25+17.51+10.3)/3 -> 17.603333 | H24: =(-10.55-3.06+4.15)/3 -> -3.1533333 | K24: =C24 -> 17 | L24: =D24*H24 -> -9.46 | M24: =C24*E24 -> 264.74667 | N24: =$C24*F24 -> 231.14333 | O24: =$C24*G24 -> 299.25667 | P24: =$C24*H24 -> -53.606667 | W24: =IF(G24>0,G24,"") -> 17.603333
B25: MBA Strat (F01) | C25: 16 | D25: 2 | E25: =(17+16.09)/2 -> 16.545 | F25: =(15.42+13.98)/2 -> 14.7 | G25: =(20.5+29.64)/2 -> 25.07 | H25: =-(15.19+6.05)/2 -> -10.62 | K25: =C25 -> 16 | L25: =D25*H25 -> -21.24 | M25: =C25*E25 -> 264.72 | N25: =$C25*F25 -> 235.2 | O25: =$C25*G25 -> 401.12 | P25: =$C25*H25 -> -169.92 | W25: =IF(G25>0,G25,"") -> 25.07
B26: MBA Strat (F00) | C26: 16 | D26: 2 | E26: 18.39625 | F26: 16.4 | G26: 26.56 | H26: -12.11 | K26: =C26 -> 16 | L26: =D26*H26 -> -24.22 | M26: =C26*E26 -> 294.34 | N26: =$C26*F26 -> 262.4 | O26: =$C26*G26 -> 424.96 | P26: =$C26*H26 -> -193.76 | W26: =IF(G26>0,G26,"") -> 26.56
B27: BBA Strat (F99) | C27: 24 | D27: 2 | E27: 17.237083 | F27: 14.454583 | G27: 25.5 | H27: -11.05 | K27: =C27 -> 24 | L27: =D27*H27 -> -22.1 | M27: =C27*E27 -> 413.69 | N27: =C27*F27 -> 346.91 | O27: =$C27*G27 -> 612 | P27: =$C27*H27 -> -265.2 | W27: =IF(G27>0,G27,"") -> 25.5
B28: Execs (98,99) | C28: 7 | D28: 2 | E28: 16.8875 | F28: 15.582917 | G28: 20.25 | H28: -5.78 | K28: =C28 -> 7 | L28: =D28*H28 -> -11.56 | M28: =C28*E28 -> 118.2125 | N28: =C28*F28 -> 109.08042 | O28: =$C28*G28 -> 141.75 | P28: =$C28*H28 -> -40.46 | W28: =IF(G28>0,G28,"") -> 20.25
B29: MBAs (98) | C29: 35 | D29: 5 | E29: 17.701109 | F29: 14.080092 | G29: 20.030433 | H29: -9.565 | K29: =C29 -> 35 | L29: =D29*H29 -> -47.825 | M29: =C29*E29 -> 619.53883 | N29: =C29*F29 -> 492.80323 | O29: =$C29*G29 -> 701.06517 | P29: =$C29*H29 -> -334.775 | W29: =IF(G29>0,G29,"") -> 20.030433
K30: 1 | L30: =K30*H30 -> 0 | M30: =C30*E30 -> 0 | N30: =C30*F30 -> 0 | O30: =$C30*G30 -> 0 | P30: =$C30*H30 -> 0 | W30: =IF(G30>0,G30,"")
K31: 1 | L31: =K31*H31 -> 0 | M31: =C31*E31 -> 0 | N31: =C31*F31 -> 0 | O31: =$C31*G31 -> 0 | P31: =$C31*H31 -> 0 | W31: =IF(G31>0,G31,"")
B32: Weighted Avg. | C32: =SUM(C4:C31) -> 369 | D32: =SUM(D4:D31) -> 48 | E32: =M32/$K32 -> 16.706482 | F32: =N32/$K32 -> 14.720099 | G32: =O32/$K32 -> 22.448458 | H32: =P32/$K32 -> -9.3561991 | K32: =SUM(K7:K29) -> 341 | L32: =SUM(L7:L31) -> -426.55476 | M32: =SUM(M7:M31) -> 5696.9102 | N32: =SUM(N7:N31) -> 5019.5538 | O32: =SUM(O7:O31) -> 7654.9241 | P32: =SUM(P7:P31) -> -3190.4639 | W32: =IF(G32>0,G32,"") -> 22.448458
B33: Coff Corp Profit | H33: =L32 -> -426.55476 | W33: =IF(G33>0,G33,"")
B34: Value of Gourmet Adventures | D34: =I57 -> 14.84
B37: Total Deals 1996-2006 (51-100%) | C37: 72525
B38: # Hostile or unsolicited | C38: 57 | D38: =C38/C37 -> 0.00078593588
B39: # Friendly or neutral | C39: 72468 | D39: =C39/C37 -> 0.99921406 | G39: =MAX(G4:G29) -> 70
G40: =MIN(W4:W32) -> 7.07
B49: Gourmet Adventures Simple Solution
C50: Estimation Tool | E50: Estimated | H50: Est. | I50: Actual
C51: $ | D51: ML | E51: Inches | F51: % of jar | G51: ML | H51: Value | I51: Value
B52: Jar/Total | E52: 5.4 | F52: =SUM(F54:F57) -> 1 | G52: 500
B54: Quarters | C54: 2 | D54: 9 | E54: 0.25 | F54: =E54/E$52 -> 0.046296296 | G54: =F54*G$52 -> 23.148148 | H54: =G54/D54*C54 -> 5.1440329 | I54: 5.25
B55: Nickels | C55: 0.5 | D55: 12 | E55: 1.5 | F55: =E55/E$52 -> 0.27777778 | G55: =F55*G$52 -> 138.88889 | H55: =G55/D55*C55 -> 5.787037 | I55: 6.05
B56: Pennies | C56: 0.25 | D56: 20 | E56: 3 | F56: =E56/E$52 -> 0.55555556 | G56: =F56*G$52 -> 277.77778 | H56: =G56/D56*C56 -> 3.4722222 | I56: 3.54
B57: Air | C57: 0 | E57: =E52-E54-E55-E56 -> 0.65 | F57: =E57/E$52 -> 0.12037037 | G57: =F57*G$52 -> 60.185185 | H57: =SUM(H54:H56) -> 14.403292 | I57: =SUM(I54:I56) -> 14.84
B70: Constructing a Confidence Interval
C71: Est 1 | D71: Est 2 | E71: Est 3 | F71: Est 4 | G71: Est 5 | H71: Est 6 | I71: Est 7
B72: Jar/Total | C72: 5.45 | D72: 5.4 | E72: 5.35 | F72: 5.45 | G72: 5.35 | H72: 5.35 | I72: 5.4
B74: Quarters | C74: 0.2 | D74: 0.25 | E74: 0.3 | F74: 0.3 | G74: 0.2 | H74: 0.25 | I74: 0.25
B75: Nickels | C75: 1.4 | D75: 1.5 | E75: 1.6 | F75: 1.6 | G75: 1.4 | H75: 1.6 | I75: 1.5
B76: Pennies | C76: 3.25 | D76: 3 | E76: 3 | F76: 2.75 | G76: 3.25 | H76: 3 | I76: 3.2
B77: Air | C77: =C72-C74-C75-C76 -> 0.6 | D77: =D72-D74-D75-D76 -> 0.65 | E77: =E72-E74-E75-E76 -> 0.45 | F77: =F72-F74-F75-F76 -> 0.8 | G77: =G72-G74-G75-G76 -> 0.5 | H77: =H72-H74-H75-H76 -> 0.5 | I77: =I72-I74-I75-I76 -> 0.45
B78: Estimated Value: | C78: =(C74/C72*$G$52)/$D$54*$C$54+(C75/C72*$G$52)/$D$55*$C$55+(C76/C72*$G$52)/$D$56*$C$56 -> 13.156218 | D78: =(D74/D72*$G$52)/$D$54*$C$54+(D75/D72*$G$52)/$D$55*$C$55+(D76/D72*$G$52)/$D$56*$C$56 -> 14.403292 | E78: =(E74/E72*$G$52)/$D$54*$C$54+(E75/E72*$G$52)/$D$55*$C$55+(E76/E72*$G$52)/$D$56*$C$56 -> 15.965732 | F78: =(F74/F72*$G$52)/$D$54*$C$54+(F75/F72*$G$52)/$D$55*$C$55+(F76/F72*$G$52)/$D$56*$C$56 -> 15.386086 | G78: =(G74/G72*$G$52)/$D$54*$C$54+(G75/G72*$G$52)/$D$55*$C$55+(G76/G72*$G$52)/$D$56*$C$56 -> 13.402129 | H78: =(H74/H72*$G$52)/$D$54*$C$54+(H75/H72*$G$52)/$D$55*$C$55+(H76/H72*$G$52)/$D$56*$C$56 -> 14.92731 | I78: =(I74/I72*$G$52)/$D$54*$C$54+(I75/I72*$G$52)/$D$55*$C$55+(I76/I72*$G$52)/$D$56*$C$56 -> 14.634774
B79: Average | C79: =AVERAGE(C78:I78) -> 14.553649
B80: Std Deviation (s) | C80: =STDEV(C78:I78) -> 1.0111505 | D80: t(.025,6)= | E80: 2.447
B81: 95% Conf H | C81: =C79+(E80*C80)/SQRT(7) -> 15.488841 | D81: =SampleMean+2.447*s/SQRT(n)
B82: 95% Conf L | C82: =C79-(E80*C80)/SQRT(7) -> 13.618457 | D82: =SampleMean-2.447*s/SQRT(n)
B96: Gourmet Adventures - Paris Edition
C97: Estimation Tool | E97: Estimated | H97: Est. | I97: Actual
C98: € | D98: ML | E98: CM | F98: %CM | G98: ML | H98: Value | I98: Value
B99: Jar/Total | E99: 8 | F99: =SUM(F101:F104) -> 1 | G99: 200
B101: Quarters (U.S) | C101: =D107 -> 1.268 | D101: 11 | E101: 1.25 | F101: =E101/E99 -> 0.15625 | G101: =F101*G99 -> 31.25 | H101: =G101/D101*C101 -> 3.6022727 | I101: 4.05
B102: 2 Euro Cent | C102: 0.5 | D102: 17 | E102: 5 | F102: =E102/E99 -> 0.625 | G102: =F102*G99 -> 125 | H102: =G102/D102*C102 -> 3.6764706 | I102: 3.74
B103: Pennies | C103: =D108 -> 0.1585 | D103: 20 | E103: 1 | F103: =E103/E99 -> 0.125 | G103: =F103*G99 -> 25 | H103: =G103/D103*C103 -> 0.198125 | I103: =0.3*C106 -> 0.1902
B104: Air | C104: 0 | E104: =E99-E101-E102-E103 -> 0.75 | F104: =E104/E99 -> 0.09375 | G104: =F104*G99 -> 18.75 | H104: =SUM(H101:H103) -> 7.4768683 | I104: =SUM(I101:I103) -> 7.9802
B106: Exchange rate | C106: 0.634 | F106: XChngRate | G106: Date | H106: Value | I106: Error
B107: Quarters: | C107: 2 | D107: =C107*C106 -> 1.268 | F107: 0.735 | G107: 39217 | H107: 8.01 | I107: 0.07
B108: Pennies | C108: 0.25 | D108: =C108*C106 -> 0.1585 | F108: 0.634 | G108: 39524 | H108: 7.98 | I108: -0.5

Sheet Sec1
B2: 723-1Gourmet Adventures Results
B3: Team | C3: Estimate | D3: Bid | E3: Adj | F3: Winner? | H3: If Unbiased
B4: 1 | E4: =IF(ISBLANK(C4),"",D4-C4) | F4: =IF(ISBLANK(C4),"",IF(D4=MAX(D$4:D$18),"H","")) | G4: =IF(F4="H",'Summary & Solution'!$I$57-D4,"") | H4: =IF(F4="H",$C$19-D4,"") | K4: =IF(ISBLANK(C4),"",IF(C4<'Summary & Solution'!$I$57,1,IF(C4>'Summary & Solution'!$I$57,2))) | L4: =IF(ISBLANK(C4),"",IF(D4<'Summary & Solution'!$I$57,1,IF(D4>'Summary & Solution'!$I$57,2))) | N4: =IF(C4>0,1,0) -> 0
B5: =B4+1 -> 2 | E5: =IF(ISBLANK(C5),"",D5-C5) | F5: =IF(ISBLANK(C5),"",IF(D5=MAX(D$4:D$18),"H","")) | G5: =IF(F5="H",'Summary & Solution'!$I$57-D5,"") | H5: =IF(F5="H",$C$19-D5,"") | K5: =IF(ISBLANK(C5),"",IF(C5<'Summary & Solution'!$I$57,1,IF(C5>'Summary & Solution'!$I$57,2))) | L5: =IF(ISBLANK(C5),"",IF(D5<'Summary & Solution'!$I$57,1,IF(D5>'Summary & Solution'!$I$57,2))) | N5: =IF(C5>0,1,0) -> 0
B6: =B5+1 -> 3 | E6: =IF(ISBLANK(C6),"",D6-C6) | F6: =IF(ISBLANK(C6),"",IF(D6=MAX(D$4:D$18),"H","")) | G6: =IF(F6="H",'Summary & Solution'!$I$57-D6,"") | H6: =IF(F6="H",$C$19-D6,"") | K6: =IF(ISBLANK(C6),"",IF(C6<'Summary & Solution'!$I$57,1,IF(C6>'Summary & Solution'!$I$57,2))) | L6: =IF(ISBLANK(C6),"",IF(D6<'Summary & Solution'!$I$57,1,IF(D6>'Summary & Solution'!$I$57,2))) | N6: =IF(C6>0,1,0) -> 0
B7: =B6+1 -> 4 | E7: =IF(ISBLANK(C7),"",D7-C7) | F7: =IF(ISBLANK(C7),"",IF(D7=MAX(D$4:D$18),"H","")) | G7: =IF(F7="H",'Summary & Solution'!$I$57-D7,"") | H7: =IF(F7="H",$C$19-D7,"") | K7: =IF(ISBLANK(C7),"",IF(C7<'Summary & Solution'!$I$57,1,IF(C7>'Summary & Solution'!$I$57,2))) | L7: =IF(ISBLANK(C7),"",IF(D7<'Summary & Solution'!$I$57,1,IF(D7>'Summary & Solution'!$I$57,2))) | N7: =IF(C7>0,1,0) -> 0
B8: =B7+1 -> 5 | E8: =IF(ISBLANK(C8),"",D8-C8) | F8: =IF(ISBLANK(C8),"",IF(D8=MAX(D$4:D$18),"H","")) | G8: =IF(F8="H",'Summary & Solution'!$I$57-D8,"") | H8: =IF(F8="H",$C$19-D8,"") | K8: =IF(ISBLANK(C8),"",IF(C8<'Summary & Solution'!$I$57,1,IF(C8>'Summary & Solution'!$I$57,2))) | L8: =IF(ISBLANK(C8),"",IF(D8<'Summary & Solution'!$I$57,1,IF(D8>'Summary & Solution'!$I$57,2))) | N8: =IF(C8>0,1,0) -> 0
B9: =B8+1 -> 6 | E9: =IF(ISBLANK(C9),"",D9-C9) | F9: =IF(ISBLANK(C9),"",IF(D9=MAX(D$4:D$18),"H","")) | G9: =IF(F9="H",'Summary & Solution'!$I$57-D9,"") | H9: =IF(F9="H",$C$19-D9,"") | K9: =IF(ISBLANK(C9),"",IF(C9<'Summary & Solution'!$I$57,1,IF(C9>'Summary & Solution'!$I$57,2))) | L9: =IF(ISBLANK(C9),"",IF(D9<'Summary & Solution'!$I$57,1,IF(D9>'Summary & Solution'!$I$57,2))) | N9: =IF(C9>0,1,0) -> 0
B10: =B9+1 -> 7 | E10: =IF(ISBLANK(C10),"",D10-C10) | F10: =IF(ISBLANK(C10),"",IF(D10=MAX(D$4:D$18),"H","")) | G10: =IF(F10="H",'Summary & Solution'!$I$57-D10,"") | H10: =IF(F10="H",$C$19-D10,"") | K10: =IF(ISBLANK(C10),"",IF(C10<'Summary & Solution'!$I$57,1,IF(C10>'Summary & Solution'!$I$57,2))) | L10: =IF(ISBLANK(C10),"",IF(D10<'Summary & Solution'!$I$57,1,IF(D10>'Summary & Solution'!$I$57,2))) | N10: =IF(C10>0,1,0) -> 0
B11: =B10+1 -> 8 | E11: =IF(ISBLANK(C11),"",D11-C11) | F11: =IF(ISBLANK(C11),"",IF(D11=MAX(D$4:D$18),"H","")) | G11: =IF(F11="H",'Summary & Solution'!$I$57-D11,"") | H11: =IF(F11="H",$C$19-D11,"") | K11: =IF(ISBLANK(C11),"",IF(C11<'Summary & Solution'!$I$57,1,IF(C11>'Summary & Solution'!$I$57,2))) | L11: =IF(ISBLANK(C11),"",IF(D11<'Summary & Solution'!$I$57,1,IF(D11>'Summary & Solution'!$I$57,2))) | N11: =IF(C11>0,1,0) -> 0
B12: =B11+1 -> 9 | E12: =IF(ISBLANK(C12),"",D12-C12) | F12: =IF(ISBLANK(C12),"",IF(D12=MAX(D$4:D$18),"H","")) | G12: =IF(F12="H",'Summary & Solution'!$I$57-D12,"") | H12: =IF(F12="H",$C$19-D12,"") | K12: =IF(ISBLANK(C12),"",IF(C12<'Summary & Solution'!$I$57,1,IF(C12>'Summary & Solution'!$I$57,2))) | L12: =IF(ISBLANK(C12),"",IF(D12<'Summary & Solution'!$I$57,1,IF(D12>'Summary & Solution'!$I$57,2))) | N12: =IF(C12>0,1,0) -> 0
B13: =B12+1 -> 10 | E13: =IF(ISBLANK(C13),"",D13-C13) | F13: =IF(ISBLANK(C13),"",IF(D13=MAX(D$4:D$18),"H","")) | G13: =IF(F13="H",'Summary & Solution'!$I$57-D13,"") | H13: =IF(F13="H",$C$19-D13,"") | K13: =IF(ISBLANK(C13),"",IF(C13<'Summary & Solution'!$I$57,1,IF(C13>'Summary & Solution'!$I$57,2))) | L13: =IF(ISBLANK(C13),"",IF(D13<'Summary & Solution'!$I$57,1,IF(D13>'Summary & Solution'!$I$57,2))) | N13: =IF(C13>0,1,0) -> 0
B14: =B13+1 -> 11 | E14: =IF(ISBLANK(C14),"",D14-C14) | F14: =IF(ISBLANK(C14),"",IF(D14=MAX(D$4:D$18),"H","")) | G14: =IF(F14="H",'Summary & Solution'!$I$57-D14,"") | H14: =IF(F14="H",$C$19-D14,"") | K14: =IF(ISBLANK(C14),"",IF(C14<'Summary & Solution'!$I$57,1,IF(C14>'Summary & Solution'!$I$57,2))) | L14: =IF(ISBLANK(C14),"",IF(D14<'Summary & Solution'!$I$57,1,IF(D14>'Summary & Solution'!$I$57,2))) | N14: =IF(C14>0,1,0) -> 0
B15: =B14+1 -> 12 | E15: =IF(ISBLANK(C15),"",D15-C15) | F15: =IF(ISBLANK(C15),"",IF(D15=MAX(D$4:D$18),"H","")) | G15: =IF(F15="H",'Summary & Solution'!$I$57-D15,"") | H15: =IF(F15="H",$C$19-D15,"") | K15: =IF(ISBLANK(C15),"",IF(C15<'Summary & Solution'!$I$57,1,IF(C15>'Summary & Solution'!$I$57,2))) | L15: =IF(ISBLANK(C15),"",IF(D15<'Summary & Solution'!$I$57,1,IF(D15>'Summary & Solution'!$I$57,2))) | N15: =IF(C15>0,1,0) -> 0
B16: =B15+1 -> 13 | E16: =IF(ISBLANK(C16),"",D16-C16) | F16: =IF(ISBLANK(C16),"",IF(D16=MAX(D$4:D$18),"H","")) | G16: =IF(F16="H",'Summary & Solution'!$I$57-D16,"") | H16: =IF(F16="H",$C$19-D16,"") | K16: =IF(ISBLANK(C16),"",IF(C16<'Summary & Solution'!$I$57,1,IF(C16>'Summary & Solution'!$I$57,2))) | L16: =IF(ISBLANK(C16),"",IF(D16<'Summary & Solution'!$I$57,1,IF(D16>'Summary & Solution'!$I$57,2))) | N16: =IF(C16>0,1,0) -> 0
... B18: =B17+1 -> 15 | E18: =IF(ISBLANK(C18),"",D18-C18) | F18: =IF(ISBLANK(C18),"",IF(D18=MAX(D$4:D$18),"H","")) | G18: =IF(F18="H",'Summary & Solution'!$I$57-D18,"") | H18: =IF(F18="H",$C$19-D18,"") | K18: =IF(ISBLANK(C18),"",IF(C18<'Summary & Solution'!$I$57,1,IF(C18>'Summary & Solution'!$I$57,2))) | L18: =IF(ISBLANK(C18),"",IF(D18<'Summary & Solution'!$I$57,1,IF(D18>'Summary & Solution'!$I$57,2))) | N18: =IF(C18>0,1,0) -> 0
B19: Mean | C19: =IF(SUM(C4:C18)>0,AVERAGEA(C4:C18),0) -> 0 | D19: =IF(SUM(D4:D18)>0,AVERAGEA(D4:D18),0) -> 0 | E19: =AVERAGEA(E4:E18) -> 0 | F19: =IF(G19<0,"Cursed:","Winner!") -> Winner! | G19: =SUM(G4:G18) -> 0 | H19: =SUM(H4:H18) -> 0 | M19: #Grps | N19: =SUM(N4:N18) -> 0
B20: SD | C20: =IF(SUM(C4:C18)>0,STDEVPA(C4:C18),"") | D20: =IF(SUM(D4:D18)>0,STDEVPA(D4:D18),"") | E20: =STDEVPA(E4:E18) -> 0
B21: Median | C21: =MEDIAN(C4:C18) -> #NUM! | D21: =MEDIAN(D4:D18) -> #NUM! | E21: =MEDIAN(E4:E18) -> #NUM!
B22: #Below | C22: =COUNTIF(K$4:K$18,"=1") -> 0 | D22: =COUNTIF(L$4:L$18,"=1") -> 0
B23: #Above | C23: =COUNTIF(K$4:K$18,"=2") -> 0 | D23: =COUNTIF(L$4:L$18,"=2") -> 0
B34: #Groups | C34: =COUNTIF(C4:C18,">0") -> 0
B43: =B3 -> Team | C43: =D3 -> Bid | D43: Change? | E43: Final
B44: =B4 -> 1 | C44: =D4 -> 0 | E44: =MAX(C44:D44) -> 0 | F44: =IF(MAX(C44:D44)=C$64,"Winner!","")
B45: =B5 -> 2 | C45: =D5 -> 0 | E45: =MAX(C45:D45) -> 0 | F45: =IF(MAX(C45:D45)=C$64,"Winner!","")
B46: =B6 -> 3 | C46: =D6 -> 0 | E46: =MAX(C46:D46) -> 0 | F46: =IF(MAX(C46:D46)=C$64,"Winner!","")
B47: =B7 -> 4 | C47: =D7 -> 0 | D47: 17.51 | E47: =MAX(C47:D47) -> 17.51 | F47: =IF(MAX(C47:D47)=C$64,"Winner!","") -> Winner!
B48: =B8 -> 5 | C48: =D8 -> 0 | E48: =MAX(C48:D48) -> 0 | F48: =IF(MAX(C48:D48)=C$64,"Winner!","")
B49: =B9 -> 6 | C49: =D9 -> 0 | E49: =MAX(C49:D49) -> 0 | F49: =IF(MAX(C49:D49)=C$64,"Winner!","")
B50: =B10 -> 7 | C50: =D10 -> 0 | E50: =MAX(C50:D50) -> 0 | F50: =IF(MAX(C50:D50)=C$64,"Winner!","")
B51: =B11 -> 8 | C51: =D11 -> 0 | E51: =MAX(C51:D51) -> 0 | F51: =IF(MAX(C51:D51)=C$64,"Winner!","")
B52: =B12 -> 9 | C52: =D12 -> 0 | E52: =MAX(C52:D52) -> 0 | F52: =IF(MAX(C52:D52)=C$64,"Winner!","")
B53: =B13 -> 10 | C53: =D13 -> 0 | E53: =MAX(C53:D53) -> 0 | F53: =IF(MAX(C53:D53)=C$64,"Winner!","")
B54: =B14 -> 11 | C54: =D14 -> 0 | E54: =MAX(C54:D54) -> 0 | F54: =IF(MAX(C54:D54)=C$64,"Winner!","")
B55: =B15 -> 12 | C55: =D15 -> 0 | E55: =MAX(C55:D55) -> 0 | F55: =IF(MAX(C55:D55)=C$64,"Winner!","")
B56: =B16 -> 13 | C56: =D16 -> 0 | E56: =MAX(C56:D56) -> 0 | F56: =IF(MAX(C56:D56)=C$64,"Winner!","")
B57: =B17 -> 14 | C57: =D17 -> 0 | E57: =MAX(C57:D57) -> 0 | F57: =IF(MAX(C57:D57)=C$64,"Winner!","")
B58: =B18 -> 15 | C58: =D18 -> 0 | E58: =MAX(C58:D58) -> 0 | F58: =IF(MAX(C58:D58)=C$64,"Winner!","")
C64: =MAX(C44:D59) -> 17.51

Sheet Sec2
B1: 723-2 Gourmet Adventures Results
B2: Team | C2: Estimate | D2: Bid | E2: Adj | F2: Winner? | H2: If Unbiased
B3: 12 | E3: =IF(ISBLANK(C3),"",D3-C3) | F3: =IF(ISBLANK(C3),"",IF(D3=MAX(D$3:D$17),"H","")) | G3: =IF(F3="H",'Summary & Solution'!$I$57-D3,"") | H3: =IF(F3="H",$C$18-D3,"") | Q3: =IF(ISBLANK(C3),"",IF(C3<'Summary & Solution'!$I$57,1,IF(C3>'Summary & Solution'!$I$57,2))) | R3: =IF(ISBLANK(C3),"",IF(D3<'Summary & Solution'!$I$57,1,IF(D3>'Summary & Solution'!$I$57,2)))
B4: =B3+1 -> 13 | E4: =IF(ISBLANK(C4),"",D4-C4) | F4: =IF(ISBLANK(C4),"",IF(D4=MAX(D$3:D$17),"H","")) | G4: =IF(F4="H",'Summary & Solution'!$I$57-D4,"") | H4: =IF(F4="H",$C$18-D4,"") | Q4: =IF(ISBLANK(C4),"",IF(C4<'Summary & Solution'!$I$57,1,IF(C4>'Summary & Solution'!$I$57,2))) | R4: =IF(ISBLANK(C4),"",IF(D4<'Summary & Solution'!$I$57,1,IF(D4>'Summary & Solution'!$I$57,2)))
B5: =B4+1 -> 14 | E5: =IF(ISBLANK(C5),"",D5-C5) | F5: =IF(ISBLANK(C5),"",IF(D5=MAX(D$3:D$17),"H","")) | G5: =IF(F5="H",'Summary & Solution'!$I$57-D5,"") | H5: =IF(F5="H",$C$18-D5,"") | Q5: =IF(ISBLANK(C5),"",IF(C5<'Summary & Solution'!$I$57,1,IF(C5>'Summary & Solution'!$I$57,2))) | R5: =IF(ISBLANK(C5),"",IF(D5<'Summary & Solution'!$I$57,1,IF(D5>'Summary & Solution'!$I$57,2)))
B6: =B5+1 -> 15 | E6: =IF(ISBLANK(C6),"",D6-C6) | F6: =IF(ISBLANK(C6),"",IF(D6=MAX(D$3:D$17),"H","")) | G6: =IF(F6="H",'Summary & Solution'!$I$57-D6,"") | H6: =IF(F6="H",$C$18-D6,"") | Q6: =IF(ISBLANK(C6),"",IF(C6<'Summary & Solution'!$I$57,1,IF(C6>'Summary & Solution'!$I$57,2))) | R6: =IF(ISBLANK(C6),"",IF(D6<'Summary & Solution'!$I$57,1,IF(D6>'Summary & Solution'!$I$57,2)))
B7: =B6+1 -> 16 | E7: =IF(ISBLANK(C7),"",D7-C7) | F7: =IF(ISBLANK(C7),"",IF(D7=MAX(D$3:D$17),"H","")) | G7: =IF(F7="H",'Summary & Solution'!$I$57-D7,"") | H7: =IF(F7="H",$C$18-D7,"") | Q7: =IF(ISBLANK(C7),"",IF(C7<'Summary & Solution'!$I$57,1,IF(C7>'Summary & Solution'!$I$57,2))) | R7: =IF(ISBLANK(C7),"",IF(D7<'Summary & Solution'!$I$57,1,IF(D7>'Summary & Solution'!$I$57,2)))
B8: =B7+1 -> 17 | E8: =IF(ISBLANK(C8),"",D8-C8) | F8: =IF(ISBLANK(C8),"",IF(D8=MAX(D$3:D$17),"H","")) | G8: =IF(F8="H",'Summary & Solution'!$I$57-D8,"") | H8: =IF(F8="H",$C$18-D8,"") | Q8: =IF(ISBLANK(C8),"",IF(C8<'Summary & Solution'!$I$57,1,IF(C8>'Summary & Solution'!$I$57,2))) | R8: =IF(ISBLANK(C8),"",IF(D8<'Summary & Solution'!$I$57,1,IF(D8>'Summary & Solution'!$I$57,2)))
B9: =B8+1 -> 18 | E9: =IF(ISBLANK(C9),"",D9-C9) | F9: =IF(ISBLANK(C9),"",IF(D9=MAX(D$3:D$17),"H","")) | G9: =IF(F9="H",'Summary & Solution'!$I$57-D9,"") | H9: =IF(F9="H",$C$18-D9,"") | Q9: =IF(ISBLANK(C9),"",IF(C9<'Summary & Solution'!$I$57,1,IF(C9>'Summary & Solution'!$I$57,2))) | R9: =IF(ISBLANK(C9),"",IF(D9<'Summary & Solution'!$I$57,1,IF(D9>'Summary & Solution'!$I$57,2)))
B10: =B9+1 -> 19 | E10: =IF(ISBLANK(C10),"",D10-C10) | F10: =IF(ISBLANK(C10),"",IF(D10=MAX(D$3:D$17),"H","")) | G10: =IF(F10="H",'Summary & Solution'!$I$57-D10,"") | H10: =IF(F10="H",$C$18-D10,"") | Q10: =IF(ISBLANK(C10),"",IF(C10<'Summary & Solution'!$I$57,1,IF(C10>'Summary & Solution'!$I$57,2))) | R10: =IF(ISBLANK(C10),"",IF(D10<'Summary & Solution'!$I$57,1,IF(D10>'Summary & Solution'!$I$57,2)))
B11: =B10+1 -> 20 | E11: =IF(ISBLANK(C11),"",D11-C11) | F11: =IF(ISBLANK(C11),"",IF(D11=MAX(D$3:D$17),"H","")) | G11: =IF(F11="H",'Summary & Solution'!$I$57-D11,"") | H11: =IF(F11="H",$C$18-D11,"") | Q11: =IF(ISBLANK(C11),"",IF(C11<'Summary & Solution'!$I$57,1,IF(C11>'Summary & Solution'!$I$57,2))) | R11: =IF(ISBLANK(C11),"",IF(D11<'Summary & Solution'!$I$57,1,IF(D11>'Summary & Solution'!$I$57,2)))
B12: =B11+1 -> 21 | E12: =IF(ISBLANK(C12),"",D12-C12) | F12: =IF(ISBLANK(C12),"",IF(D12=MAX(D$3:D$17),"H","")) | G12: =IF(F12="H",'Summary & Solution'!$I$57-D12,"") | H12: =IF(F12="H",$C$18-D12,"") | Q12: =IF(ISBLANK(C12),"",IF(C12<'Summary & Solution'!$I$57,1,IF(C12>'Summary & Solution'!$I$57,2))) | R12: =IF(ISBLANK(C12),"",IF(D12<'Summary & Solution'!$I$57,1,IF(D12>'Summary & Solution'!$I$57,2)))
B13: =B12+1 -> 22 | E13: =IF(ISBLANK(C13),"",D13-C13) | F13: =IF(ISBLANK(C13),"",IF(D13=MAX(D$3:D$17),"H","")) | G13: =IF(F13="H",'Summary & Solution'!$I$57-D13,"") | H13: =IF(F13="H",$C$18-D13,"") | Q13: =IF(ISBLANK(C13),"",IF(C13<'Summary & Solution'!$I$57,1,IF(C13>'Summary & Solution'!$I$57,2))) | R13: =IF(ISBLANK(C13),"",IF(D13<'Summary & Solution'!$I$57,1,IF(D13>'Summary & Solution'!$I$57,2)))
B14: =B13+1 -> 23 | E14: =IF(ISBLANK(C14),"",D14-C14) | F14: =IF(ISBLANK(C14),"",IF(D14=MAX(D$3:D$17),"H","")) | G14: =IF(F14="H",'Summary & Solution'!$I$57-D14,"") | H14: =IF(F14="H",$C$18-D14,"") | Q14: =IF(ISBLANK(C14),"",IF(C14<'Summary & Solution'!$I$57,1,IF(C14>'Summary & Solution'!$I$57,2))) | R14: =IF(ISBLANK(C14),"",IF(D14<'Summary & Solution'!$I$57,1,IF(D14>'Summary & Solution'!$I$57,2)))
B15: =B14+1 -> 24 | E15: =IF(ISBLANK(C15),"",D15-C15) | F15: =IF(ISBLANK(C15),"",IF(D15=MAX(D$3:D$17),"H","")) | G15: =IF(F15="H",'Summary & Solution'!$I$57-D15,"") | H15: =IF(F15="H",$C$18-D15,"") | Q15: =IF(ISBLANK(C15),"",IF(C15<'Summary & Solution'!$I$57,1,IF(C15>'Summary & Solution'!$I$57,2))) | R15: =IF(ISBLANK(C15),"",IF(D15<'Summary & Solution'!$I$57,1,IF(D15>'Summary & Solution'!$I$57,2)))
B16: =B15+1 -> 25 | E16: =IF(ISBLANK(C16),"",D16-C16) | F16: =IF(ISBLANK(C16),"",IF(D16=MAX(D$3:D$17),"H","")) | G16: =IF(F16="H",'Summary & Solution'!$I$57-D16,"") | H16: =IF(F16="H",$C$18-D16,"") | Q16: =IF(ISBLANK(C16),"",IF(C16<'Summary & Solution'!$I$57,1,IF(C16>'Summary & Solution'!$I$57,2))) | R16: =IF(ISBLANK(C16),"",IF(D16<'Summary & Solution'!$I$57,1,IF(D16>'Summary & Solution'!$I$57,2)))
B17: =B16+1 -> 26 | E17: =IF(ISBLANK(C17),"",C17-D17) | F17: =IF(ISBLANK(C17),"",IF(D17=MAX(D$3:D$17),"H","")) | G17: =IF(F17="H",'Summary & Solution'!$I$57-D17,"") | H17: =IF(F17="H",$C$18-D17,"") | Q17: =IF(ISBLANK(C17),"",IF(C17<'Summary & Solution'!$I$57,1,IF(C17>'Summary & Solution'!$I$57,2))) | R17: =IF(ISBLANK(C17),"",IF(D17<'Summary & Solution'!$I$57,1,IF(D17>'Summary & Solution'!$I$57,2)))
B18: Mean | C18: =IF(SUM(C3:C17)>0,AVERAGEA(C3:C17),0) -> 0 | D18: =IF(SUM(D3:D17)>0,AVERAGEA(D3:D17),0) -> 0 | E18: =AVERAGEA(E3:E17) -> 0 | F18: =IF(G18<0,"Cursed:","Winner!") -> Winner! | G18: =SUM(G3:G17) -> 0 | H18: =SUM(H3:H17) -> 0
B19: SD | C19: =IF(SUM(C3:C17)>0,STDEVPA(C3:C17),"") | D19: =IF(SUM(D3:D17)>0,STDEVPA(D3:D17),"") | E19: =STDEVPA(E3:E17) -> 0
B20: Median | C20: =MEDIAN(C3:C17) -> #NUM! | D20: =MEDIAN(D3:D17) -> #NUM! | E20: =MEDIAN(E3:E17) -> #NUM!
B21: #Below | C21: =COUNTIF(Q$3:Q$17,"=1") -> 0 | D21: =COUNTIF(R$3:R$17,"=1") -> 0
B22: #Above | C22: =COUNTIF(Q$3:Q$17,"=2") -> 0 | D22: =COUNTIF(R$3:R$17,"=2") -> 0
B34: #Groups | C34: =COUNTIF(C3:C17,">0") -> 0
B43: =B2 -> Team | C43: =D2 -> Bid | D43: Change? | E43: Final
B44: =B3 -> 12 | C44: =D3 -> 0 | E44: =MAX(C44:D44) -> 0 | F44: =IF(MAX(C44:D44)=C$64,"Winner!","") -> Winner!
B45: =B4 -> 13 | C45: =D4 -> 0 | E45: =MAX(C45:D45) -> 0 | F45: =IF(MAX(C45:D45)=C$64,"Winner!","") -> Winner!
B46: =B5 -> 14 | C46: =D5 -> 0 | E46: =MAX(C46:D46) -> 0 | F46: =IF(MAX(C46:D46)=C$64,"Winner!","") -> Winner!
B47: =B6 -> 15 | C47: =D6 -> 0 | E47: =MAX(C47:D47) -> 0 | F47: =IF(MAX(C47:D47)=C$64,"Winner!","") -> Winner!
B48: =B7 -> 16 | C48: =D7 -> 0 | E48: =MAX(C48:D48) -> 0 | F48: =IF(MAX(C48:D48)=C$64,"Winner!","") -> Winner!
B49: =B8 -> 17 | C49: =D8 -> 0 | E49: =MAX(C49:D49) -> 0 | F49: =IF(MAX(C49:D49)=C$64,"Winner!","") -> Winner!
B50: =B9 -> 18 | C50: =D9 -> 0 | E50: =MAX(C50:D50) -> 0 | F50: =IF(MAX(C50:D50)=C$64,"Winner!","") -> Winner!
B51: =B10 -> 19 | C51: =D10 -> 0 | E51: =MAX(C51:D51) -> 0 | F51: =IF(MAX(C51:D51)=C$64,"Winner!","") -> Winner!
B52: =B11 -> 20 | C52: =D11 -> 0 | E52: =MAX(C52:D52) -> 0 | F52: =IF(MAX(C52:D52)=C$64,"Winner!","") -> Winner!
B53: =B12 -> 21 | C53: =D12 -> 0 | E53: =MAX(C53:D53) -> 0 | F53: =IF(MAX(C53:D53)=C$64,"Winner!","") -> Winner!
B54: =B13 -> 22 | C54: =D13 -> 0 | E54: =MAX(C54:D54) -> 0 | F54: =IF(MAX(C54:D54)=C$64,"Winner!","") -> Winner!
B55: =B14 -> 23 | C55: =D14 -> 0 | E55: =MAX(C55:D55) -> 0 | F55: =IF(MAX(C55:D55)=C$64,"Winner!","") -> Winner!
... B58: =B17 -> 26 | C58: =D17 -> 0 | E58: =MAX(C58:D58) -> 0 | F58: =IF(MAX(C58:D58)=C$64,"Winner!","") -> Winner!
C64: =MAX(C44:D59) -> 0

Sheet EMBA
B2: EMBA Business Strategy Results
B3: Team | C3: Estimate | D3: Bid | E3: Adj | F3: Winner?
B4: 1 | C4: 18 | D4: 16.91 | E4: =IF(ISBLANK(C4),"",D4-C4) -> -1.09 | F4: =IF(ISBLANK(C4),"",IF(D4=MAX(D$4:D$18),"H","")) | G4: =IF(F4="H",'Summary & Solution'!$I$57-D4,"") | K4: =IF(ISBLANK(C4),"",IF(C4<'Summary & Solution'!$I$57,1,IF(C4>'Summary & Solution'!$I$57,2))) -> 2 | L4: =IF(ISBLANK(C4),"",IF(D4<'Summary & Solution'!$I$57,1,IF(D4>'Summary & Solution'!$I$57,2))) -> 2 | N4: =IF(C4>0,1,0) -> 1
B5: =B4+1 -> 2 | C5: 9.67 | D5: 12.86 | E5: =IF(ISBLANK(C5),"",D5-C5) -> 3.19 | F5: =IF(ISBLANK(C5),"",IF(D5=MAX(D$4:D$18),"H","")) | G5: =IF(F5="H",'Summary & Solution'!$I$57-D5,"") | K5: =IF(ISBLANK(C5),"",IF(C5<'Summary & Solution'!$I$57,1,IF(C5>'Summary & Solution'!$I$57,2))) -> 1 | L5: =IF(ISBLANK(C5),"",IF(D5<'Summary & Solution'!$I$57,1,IF(D5>'Summary & Solution'!$I$57,2))) -> 1 | N5: =IF(C5>0,1,0) -> 1
B6: =B5+1 -> 3 | C6: 11.25 | D6: 11 | E6: =IF(ISBLANK(C6),"",D6-C6) -> -0.25 | F6: =IF(ISBLANK(C6),"",IF(D6=MAX(D$4:D$18),"H","")) | G6: =IF(F6="H",'Summary & Solution'!$I$57-D6,"") | K6: =IF(ISBLANK(C6),"",IF(C6<'Summary & Solution'!$I$57,1,IF(C6>'Summary & Solution'!$I$57,2))) -> 1 | L6: =IF(ISBLANK(C6),"",IF(D6<'Summary & Solution'!$I$57,1,IF(D6>'Summary & Solution'!$I$57,2))) -> 1 | N6: =IF(C6>0,1,0) -> 1
B7: =B6+1 -> 4 | C7: 30.15 | D7: 20.25 | E7: =IF(ISBLANK(C7),"",D7-C7) -> -9.9 | F7: =IF(ISBLANK(C7),"",IF(D7=MAX(D$4:D$18),"H","")) | G7: =IF(F7="H",'Summary & Solution'!$I$57-D7,"") | K7: =IF(ISBLANK(C7),"",IF(C7<'Summary & Solution'!$I$57,1,IF(C7>'Summary & Solution'!$I$57,2))) -> 2 | L7: =IF(ISBLANK(C7),"",IF(D7<'Summary & Solution'!$I$57,1,IF(D7>'Summary & Solution'!$I$57,2))) -> 2 | N7: =IF(C7>0,1,0) -> 1
B8: =B7+1 -> 5 | C8: 15.8 | D8: 14 | E8: =IF(ISBLANK(C8),"",D8-C8) -> -1.8 | F8: =IF(ISBLANK(C8),"",IF(D8=MAX(D$4:D$18),"H","")) | G8: =IF(F8="H",'Summary & Solution'!$I$57-D8,"") | K8: =IF(ISBLANK(C8),"",IF(C8<'Summary & Solution'!$I$57,1,IF(C8>'Summary & Solution'!$I$57,2))) -> 2 | L8: =IF(ISBLANK(C8),"",IF(D8<'Summary & Solution'!$I$57,1,IF(D8>'Summary & Solution'!$I$57,2))) -> 1 | N8: =IF(C8>0,1,0) -> 1
B9: =B8+1 -> 6 | C9: 35.35 | D9: 28.28 | E9: =IF(ISBLANK(C9),"",D9-C9) -> -7.07 | F9: =IF(ISBLANK(C9),"",IF(D9=MAX(D$4:D$18),"H","")) -> H | G9: =IF(F9="H",'Summary & Solution'!$I$57-D9,"") -> -13.44 | K9: =IF(ISBLANK(C9),"",IF(C9<'Summary & Solution'!$I$57,1,IF(C9>'Summary & Solution'!$I$57,2))) -> 2 | L9: =IF(ISBLANK(C9),"",IF(D9<'Summary & Solution'!$I$57,1,IF(D9>'Summary & Solution'!$I$57,2))) -> 2 | N9: =IF(C9>0,1,0) -> 1
B10: =B9+1 -> 7 | C10: 22.23 | D10: 22.24 | E10: =IF(ISBLANK(C10),"",D10-C10) -> 0.01 | F10: =IF(ISBLANK(C10),"",IF(D10=MAX(D$4:D$18),"H","")) | G10: =IF(F10="H",'Summary & Solution'!$I$57-D10,"") | K10: =IF(ISBLANK(C10),"",IF(C10<'Summary & Solution'!$I$57,1,IF(C10>'Summary & Solution'!$I$57,2))) -> 2 | L10: =IF(ISBLANK(C10),"",IF(D10<'Summary & Solution'!$I$57,1,IF(D10>'Summary & Solution'!$I$57,2))) -> 2 | N10: =IF(C10>0,1,0) -> 1
B11: =B10+1 -> 8 | E11: =IF(ISBLANK(C11),"",D11-C11) | F11: =IF(ISBLANK(C11),"",IF(D11=MAX(D$4:D$18),"H","")) | G11: =IF(F11="H",'Summary & Solution'!$I$57-D11,"") | K11: =IF(ISBLANK(C11),"",IF(C11<'Summary & Solution'!$I$57,1,IF(C11>'Summary & Solution'!$I$57,2))) | L11: =IF(ISBLANK(C11),"",IF(D11<'Summary & Solution'!$I$57,1,IF(D11>'Summary & Solution'!$I$57,2))) | N11: =IF(C11>0,1,0) -> 0
B12: =B11+1 -> 9 | E12: =IF(ISBLANK(C12),"",D12-C12) | F12: =IF(ISBLANK(C12),"",IF(D12=MAX(D$4:D$18),"H","")) | G12: =IF(F12="H",'Summary & Solution'!$I$57-D12,"") | K12: =IF(ISBLANK(C12),"",IF(C12<'Summary & Solution'!$I$57,1,IF(C12>'Summary & Solution'!$I$57,2))) | L12: =IF(ISBLANK(C12),"",IF(D12<'Summary & Solution'!$I$57,1,IF(D12>'Summary & Solution'!$I$57,2))) | N12: =IF(C12>0,1,0) -> 0
B13: =B12+1 -> 10 | E13: =IF(ISBLANK(C13),"",D13-C13) | F13: =IF(ISBLANK(C13),"",IF(D13=MAX(D$4:D$18),"H","")) | G13: =IF(F13="H",'Summary & Solution'!$I$57-D13,"") | K13: =IF(ISBLANK(C13),"",IF(C13<'Summary & Solution'!$I$57,1,IF(C13>'Summary & Solution'!$I$57,2))) | L13: =IF(ISBLANK(C13),"",IF(D13<'Summary & Solution'!$I$57,1,IF(D13>'Summary & Solution'!$I$57,2))) | N13: =IF(C13>0,1,0) -> 0
B14: =B13+1 -> 11 | E14: =IF(ISBLANK(C14),"",D14-C14) | F14: =IF(ISBLANK(C14),"",IF(D14=MAX(D$4:D$18),"H","")) | G14: =IF(F14="H",'Summary & Solution'!$I$57-D14,"") | K14: =IF(ISBLANK(C14),"",IF(C14<'Summary & Solution'!$I$57,1,IF(C14>'Summary & Solution'!$I$57,2))) | L14: =IF(ISBLANK(C14),"",IF(D14<'Summary & Solution'!$I$57,1,IF(D14>'Summary & Solution'!$I$57,2))) | N14: =IF(C14>0,1,0) -> 0
B15: =B14+1 -> 12 | E15: =IF(ISBLANK(C15),"",D15-C15) | F15: =IF(ISBLANK(C15),"",IF(D15=MAX(D$4:D$18),"H","")) | G15: =IF(F15="H",'Summary & Solution'!$I$57-D15,"") | K15: =IF(ISBLANK(C15),"",IF(C15<'Summary & Solution'!$I$57,1,IF(C15>'Summary & Solution'!$I$57,2))) | L15: =IF(ISBLANK(C15),"",IF(D15<'Summary & Solution'!$I$57,1,IF(D15>'Summary & Solution'!$I$57,2))) | N15: =IF(C15>0,1,0) -> 0
B16: =B15+1 -> 13 | E16: =IF(ISBLANK(C16),"",C16-D16) | F16: =IF(ISBLANK(C16),"",IF(D16=MAX(D$4:D$18),"H","")) | G16: =IF(F16="H",'Summary & Solution'!$I$57-D16,"") | K16: =IF(ISBLANK(C16),"",IF(C16<'Summary & Solution'!$I$57,1,IF(C16>'Summary & Solution'!$I$57,2))) | L16: =IF(ISBLANK(C16),"",IF(D16<'Summary & Solution'!$I$57,1,IF(D16>'Summary & Solution'!$I$57,2))) | N16: =IF(C16>0,1,0) -> 0
B17: =B16+1 -> 14 | E17: =IF(ISBLANK(C17),"",C17-D17) | F17: =IF(ISBLANK(C17),"",IF(D17=MAX(D$4:D$18),"H","")) | G17: =IF(F17="H",'Summary & Solution'!$I$57-D17,"") | K17: =IF(ISBLANK(C17),"",IF(C17<'Summary & Solution'!$I$57,1,IF(C17>'Summary & Solution'!$I$57,2))) | L17: =IF(ISBLANK(C17),"",IF(D17<'Summary & Solution'!$I$57,1,IF(D17>'Summary & Solution'!$I$57,2))) | N17: =IF(C17>0,1,0) -> 0
B18: =B17+1 -> 15 | E18: =IF(ISBLANK(C18),"",C18-D18) | F18: =IF(ISBLANK(C18),"",IF(D18=MAX(D$4:D$18),"H","")) | G18: =IF(F18="H",'Summary & Solution'!$I$57-D18,"") | K18: =IF(ISBLANK(C18),"",IF(C18<'Summary & Solution'!$I$57,1,IF(C18>'Summary & Solution'!$I$57,2))) | L18: =IF(ISBLANK(C18),"",IF(D18<'Summary & Solution'!$I$57,1,IF(D18>'Summary & Solution'!$I$57,2))) | N18: =IF(C18>0,1,0) -> 0
B19: Mean | C19: =IF(SUM(C4:C18)>0,AVERAGEA(C4:C18),0) -> 20.35 | D19: =IF(SUM(D4:D18)>0,AVERAGEA(D4:D18),0) -> 17.934286 | E19: =AVERAGEA(E4:E18) -> -1.1273333 | F19: =IF(G19<0,"Cursed:","Winner!") -> Cursed: | G19: =SUM(G4:G18) -> -13.44 | M19: #Grps | N19: =SUM(N4:N18) -> 7
B20: SD | C20: =IF(SUM(C4:C18)>0,STDEVPA(C4:C18),"") -> 8.8452715 | D20: =IF(SUM(D4:D18)>0,STDEVPA(D4:D18),"") -> 5.6226071 | E20: =STDEVPA(E4:E18) -> 3.0940641
B21: Median | C21: =MEDIAN(C4:C18) -> 18 | D21: =MEDIAN(D4:D18) -> 16.91 | E21: =MEDIAN(E4:E18) -> -1.09
B22: #Below | C22: =COUNTIF(K$4:K$18,"=1") -> 2 | D22: =COUNTIF(L$4:L$18,"=1") -> 3
B23: #Above | C23: =COUNTIF(K$4:K$18,"=2") -> 5 | D23: =COUNTIF(L$4:L$18,"=2") -> 4
B43: =B3 -> Team | C43: =D3 -> Bid | D43: Change? | E43: Final
B44: =B4 -> 1 | C44: =D4 -> 16.91 | E44: =MAX(C44:D44) -> 16.91 | F44: =IF(MAX(C44:D44)=C$64,"Winner!","")
B45: =B5 -> 2 | C45: =D5 -> 12.86 | E45: =MAX(C45:D45) -> 12.86 | F45: =IF(MAX(C45:D45)=C$64,"Winner!","")
B46: =B6 -> 3 | C46: =D6 -> 11 | E46: =MAX(C46:D46) -> 11 | F46: =IF(MAX(C46:D46)=C$64,"Winner!","")
B47: =B7 -> 4 | C47: =D7 -> 20.25 | E47: =MAX(C47:D47) -> 20.25 | F47: =IF(MAX(C47:D47)=C$64,"Winner!","")
B48: =B8 -> 5 | C48: =D8 -> 14 | E48: =MAX(C48:D48) -> 14 | F48: =IF(MAX(C48:D48)=C$64,"Winner!","")
B49: =B9 -> 6 | C49: =D9 -> 28.28 | E49: =MAX(C49:D49) -> 28.28 | F49: =IF(MAX(C49:D49)=C$64,"Winner!","") -> Winner!
B50: =B10 -> 7 | C50: =D10 -> 22.24 | E50: =MAX(C50:D50) -> 22.24 | F50: =IF(MAX(C50:D50)=C$64,"Winner!","")
B51: =B11 -> 8 | C51: =D11 -> 0 | E51: =MAX(C51:D51) -> 0 | F51: =IF(MAX(C51:D51)=C$64,"Winner!","")
B52: =B12 -> 9 | C52: =D12 -> 0 | E52: =MAX(C52:D52) -> 0 | F52: =IF(MAX(C52:D52)=C$64,"Winner!","")
B53: =B13 -> 10 | C53: =D13 -> 0 | E53: =MAX(C53:D53) -> 0 | F53: =IF(MAX(C53:D53)=C$64,"Winner!","")
B54: =B14 -> 11 | C54: =D14 -> 0 | E54: =MAX(C54:D54) -> 0 | F54: =IF(MAX(C54:D54)=C$64,"Winner!","")
B55: =B15 -> 12 | C55: =D15 -> 0 | E55: =MAX(C55:D55) -> 0 | F55: =IF(MAX(C55:D55)=C$64,"Winner!","")
... B58: =B18 -> 15 | C58: =D18 -> 0 | E58: =MAX(C58:D58) -> 0 | F58: =IF(MAX(C58:D58)=C$64,"Winner!","")
C64: =MAX(C44:D59) -> 28.28

Sheet EM3
A2: EM3 Gourmet Adventures Results
A3: Team | B3: Estimate | C3: Bid | D3: Adj | E3: Winner?
A4: A | B4: 12.5 | C4: 12 | D4: =B4-C4 -> 0.5 | E4: =IF(C4=MAX(C$4:C$7),"H","") | F4: =IF(E4="H",'Summary & Solution'!$I$57-C4,"") | J4: =IF(B4<'Summary & Solution'!$I$57,1,IF(B4>'Summary & Solution'!$I$57,2)) -> 1 | K4: =IF(C4<'Summary & Solution'!$I$57,1,IF(C4>'Summary & Solution'!$I$57,2)) -> 1
A5: B | B5: 21.88 | C5: 20.5 | D5: =B5-C5 -> 1.38 | E5: =IF(C5=MAX(C$4:C$7),"H","") -> H | F5: =IF(E5="H",'Summary & Solution'!$I$57-C5,"") -> -5.66 | J5: =IF(B5<'Summary & Solution'!$I$57,1,IF(B5>'Summary & Solution'!$I$57,2)) -> 2 | K5: =IF(C5<'Summary & Solution'!$I$57,1,IF(C5>'Summary & Solution'!$I$57,2)) -> 2
A6: C | B6: 19.21 | C6: 20.17 | D6: =B6-C6 -> -0.96 | E6: =IF(C6=MAX(C$4:C$7),"H","") | F6: =IF(E6="H",'Summary & Solution'!$I$57-C6,"") | J6: =IF(B6<'Summary & Solution'!$I$57,1,IF(B6>'Summary & Solution'!$I$57,2)) -> 2 | K6: =IF(C6<'Summary & Solution'!$I$57,1,IF(C6>'Summary & Solution'!$I$57,2)) -> 2
A7: D | B7: 15.47 | C7: 14.5 | D7: =B7-C7 -> 0.97 | E7: =IF(C7=MAX(C$4:C$7),"H","") | F7: =IF(E7="H",'Summary & Solution'!$I$57-C7,"") | J7: =IF(B7<'Summary & Solution'!$I$57,1,IF(B7>'Summary & Solution'!$I$57,2)) -> 2 | K7: =IF(C7<'Summary & Solution'!$I$57,1,IF(C7>'Summary & Solution'!$I$57,2)) -> 1
A8: Mean | B8: =AVERAGEA(B4:B7) -> 17.265 | C8: =AVERAGEA(C4:C7) -> 16.7925 | D8: =AVERAGEA(D4:D7) -> 0.4725 | E8: =IF(F8<0,"Cursed:","Winner!") -> Cursed: | F8: =SUM(F4:F6) -> -5.66
A9: SD | B9: =STDEVPA(B4:B7) -> 3.5710118 | C9: =STDEVPA(C4:C7) -> 3.6529671 | D9: =STDEVPA(D4:D7) -> 0.88372436
A10: True Value | B10: =#REF! -> #REF! | C10: =#REF! -> #REF!
A11: #Below | B11: =COUNTIF(J$4:J$10,"=1") -> 1 | C11: =COUNTIF(K$4:K$10,"=1") -> 2
A12: #Above | B12: =COUNTIF(J$4:J$7,"=2") -> 3 | C12: =COUNTIF(K$4:K$7,"=2") -> 2
A20: EM3 Gourmet Adventures Results (S99)
A21: Mean | B21: 17.265 | C21: 16.7925 | D21: 0.4725 | E21: Cursed: | F21: -6.05
A22: SD | B22: 3.5710118 | C22: 3.6529671 | D22: 0.88372436
A23: #Below | B23: 1 | C23: 1
A24: #Above | B24: 3 | C24: 3
