Workbook

Sheet Scenarios
B1: Love Triangle Scenarios for Dollar General | J1: Model Assumptions
E3: =L19 -> 0.4 | F3: =_xll.PTreeNodeProbability(treeCalc_2!$F$2,6) -> 0.24 | J3: FD Standalone val | L3: 8.5
E4: =L3+L7+M7 -> 31.960493 | F4: =_xll.PTreeNodeValue(treeCalc_2!$F$2,6) -> 22.860493 | J4: DG Bid | L4: 9.1
D5: =L18 -> 0.6 | E5: DG Value Created? | L5: NPV of | N5: Annual Synergies | P5: Future Cash Flows From Synergies
D6: 0 | E6: =_xll.PTreeNodeValue(treeCalc_2!$F$2,4) -> 7.8502957 | L6: Synergies | N6: Revenue | O6: Margin | P6: 2015 | Q6: =P6+1 -> 2016 | R6: =Q6+1 -> 2017 | S6: =R6+1 -> 2018 | T6: =S6+1 -> 2019 | U6: Terminal | V6: NPV
E7: =1-E3 -> 0.6 | F7: =_xll.PTreeNodeProbability(treeCalc_2!$F$2,7) -> 0.36 | J7: DG Synergies (H) | L7: =V7 -> 23.460493 | N7: 2.1 | O7: 0.6 | P7: 0 | Q7: =T7/5+P7 -> 0.54 | R7: =$T7/5+SUM($P7:Q7) -> 1.08 | S7: =$T7/5+SUM($P7:R7) -> 2.16 | T7: =O7+N7 -> 2.7 | U7: =T7/($L$14-$L$15) -> 33.75 | V7: =NPV($L$14,P7:U7) -> 23.460493
E8: =L3+L8+M8 -> 6.9434977 | F8: =_xll.PTreeNodeValue(treeCalc_2!$F$2,7) -> -2.1565023 | J8: DG Synergies (L) | L8: =V8 -> -1.5565023 | N8: -0.5 | O8: -0.25 | P8: =O8+N8 -> -0.75 | Q8: =3*($P8/4) -> -0.5625 | R8: =2*($P8/4) -> -0.375 | S8: =1*($P8/4) -> -0.1875 | T8: 0 | U8: =T8/($L$14-$L$15) -> 0 | V8: =NPV($L$14,P8:U8) -> -1.5565023
C9: =_xll.PTreeNodeDecision(treeCalc_2!$F$2,2) -> TRUE | D9: Will it close? | J9: DT Synergies (H) | L9: =V9 -> 4.5808784 | N9: 0.2272 | O9: 0.3 | P9: 0 | Q9: =T9/5+P9 -> 0.10544 | R9: =$T9/5+SUM($P9:Q9) -> 0.21088 | S9: =$T9/5+SUM($P9:R9) -> 0.42176 | T9: =O9+N9 -> 0.5272 | U9: =T9/($L$14-$L$15) -> 6.59 | V9: =NPV($L$14,P9:U9) -> 4.5808784
C10: -9.1 | D10: =_xll.PTreeNodeValue(treeCalc_2!$F$2,2) -> 0.98514039 | J10: DT Synergies (L) | L10: =V10 -> -1.5565023 | N10: -0.5 | O10: -0.25 | P10: =O10+N10 -> -0.75 | Q10: =3*($P10/4) -> -0.5625 | R10: =2*($P10/4) -> -0.375 | S10: =1*($P10/4) -> -0.1875 | T10: 0 | U10: =T10/($L$14-$L$15) -> 0 | V10: =NPV($L$14,P10:U10) -> -1.5565023
E11: =L20 -> 0.6 | F11: =_xll.PTreeNodeProbability(treeCalc_2!$F$2,8) -> 0.24
E12: =D20 -> -0.45808784 | F12: =_xll.PTreeNodeValue(treeCalc_2!$F$2,8) -> -9.5580878
D13: =1-D5 -> 0.4 | E13: Rival (DT) Val Created? | J13: Cost of Strong rival | L13: 0.1 | M13: of their gains in the deal
D14: 0 | E14: =_xll.PTreeNodeValue(treeCalc_2!$F$2,5) -> -9.3125926 | J14: Discount rate | L14: 0.1
E15: =1-E11 -> 0.4 | F15: =_xll.PTreeNodeProbability(treeCalc_2!$F$2,9) -> 0.16 | J15: Terminal Growth rate | L15: 0.02
E16: =D24 -> 0.15565023 | F16: =_xll.PTreeNodeValue(treeCalc_2!$F$2,9) -> -8.9443498
C17: =IF(C18=D10,"Go Hostile!", "Lay Low") -> Go Hostile! | J17: Probabilities:
C18: =_xll.PTreeNodeValue(treeCalc_2!$F$2,1) -> 0.98514039 | J18: P(Deal Closes) | L18: 0.6
D19: =L20 -> 0.6 | E19: =_xll.PTreeNodeProbability(treeCalc_2!$F$2,10) -> 0 | J19: P(DG creates value) | L19: 0.4
D20: =-L13*(L9+M9) -> -0.45808784 | E20: =_xll.PTreeNodeValue(treeCalc_2!$F$2,10) -> -0.45808784 | J20: P(DT creates value) | L20: 0.6
C21: =_xll.PTreeNodeDecision(treeCalc_2!$F$2,3) -> FALSE | D21: Rival (DT) Val Created?
C22: 0 | D22: =_xll.PTreeNodeValue(treeCalc_2!$F$2,3) -> -0.21259261
D23: =1-D19 -> 0.4 | E23: =_xll.PTreeNodeProbability(treeCalc_2!$F$2,11) -> 0
D24: =-L13*(+L10+M10) -> 0.15565023 | E24: =_xll.PTreeNodeValue(treeCalc_2!$F$2,11) -> 0.15565023
H59: Base Case -- Dropped Signal (Stand Alone value excluding cash assets, Android profit assumes Apple wins, partners stay)
H61: Assumptions:
H62: Motorola Gross Profit Margin (2010) | L62: =N$48 -> 0 | N62: Base margin from Motorola's prior performance
G63: * | H63: Motorola gross margin (Google's target) | L63: =P$36 -> 0 | M63: =L63-L62 -> 0 | N63: Gap (between Google's new target margin and prior performance)
G64: * | H64: Yr Google Hits Target Motorola Margin | L64: =P$37 -> 0 | M64: =L64-J$78 -> -2010 | N64: Years to reach target (straight-line improvement until goal is reached)
H65: Motorola revenue growth rate (2010) | L65: =N$49 -> 0 | N65: Base sales growth rate from Motorola's prior performance
G66: * | H66: Motorola revenue growth (Google's target) | L66: =P$38 -> 0 | M66: =L66-L65 -> 0 | N66: Gap (between Google's new target revenue growth and prior performance)
G67: * | H67: Yr Motorola target revenue growth reached | L67: =P$39 -> 0 | M67: =L67-J$78 -> -2010 | N67: Years to reach target (straight-line improvement until goal is reached)
H68: Android ad revenue growth rate (2010) | L68: =N$50 -> 0
G69: * | H69: Android ad revenue growth (Google target) | L69: =Q$44 -> 0 | M69: =L69-L68 -> 0 | N69: Gap (between Google's projected revenue growth and prior performance)
G70: * | H70: Yr Android target growth reached | L70: =Q$45 -> 0 | M70: =L70-J$78 -> -2010 | N70: Years to reach target (straight-line improvement until goal is reached)
H71: Discount rate | L71: =S$48 -> 0
H72: Tax rate | L72: =S$49 -> 0
H73: Terminal growth rate | L73: =S$50 -> 0
H74: SG&A % of sales (2010) | L74: =N$51 -> 0
H75: *Key strategic parameters to adjust based on the scenario
J77: Actual | K77: Estimated ==>
...

Sheet SensitivityAnalysis
A33: Two-Way Sensitivity Data of Decision Tree 'Hostile Acq?' (Expected Value of Entire Model)
A34: With Variation of P(DG Creates Value) (L19) and P(Deal Closes) (L18)
C35: P(DG Creates Value) (L19)
C36: 0.3 | D36: 0.32 | E36: 0.34 | F36: 0.36 | G36: 0.38 | H36: 0.4 | I36: 0.42 | J36: 0.44 | K36: 0.46 | L36: 0.48 | M36: 0.5
A37: P(Deal Closes) (L18) | B37: 0.45 | C37: -0.21259261 | D37: -0.21259261 | E37: -0.21259261 | F37: -0.21259261 | G37: -0.21259261 | H37: -0.21259261 | I37: -0.21259261 | J37: -0.21259261 | K37: -0.21259261 | L37: -0.21259261 | M37: -0.21259261
B38: 0.48 | C38: -0.21259261 | D38: -0.21259261 | E38: -0.21259261 | F38: -0.21259261 | G38: -0.21259261 | H38: -0.21259261 | I38: -0.21259261 | J38: -0.21259261 | K38: -0.21259261 | L38: -0.1137536 | M38: 0.12640955
B39: 0.51 | C39: -0.21259261 | D39: -0.21259261 | E39: -0.21259261 | F39: -0.21259261 | G39: -0.21259261 | H39: -0.21259261 | I39: -0.21259261 | J39: -0.049172861 | K39: 0.20600049 | L39: 0.46117384 | M39: 0.71634719
B40: 0.54 | C40: -0.21259261 | D40: -0.21259261 | E40: -0.21259261 | F40: -0.21259261 | G40: -0.21259261 | H40: -0.04463291 | I40: 0.22555064 | J40: 0.49573418 | K40: 0.76591773 | L40: 1.0361013 | M40: 1.3062848
B41: 0.57 | C41: -0.21259261 | D41: -0.21259261 | E41: -0.21259261 | F41: -0.10013375 | G41: 0.18506 | H41: 0.47025374 | I41: 0.75544748 | J41: 1.0406412 | K41: 1.325835 | L41: 1.6110287 | M41: 1.8962225
B42: 0.6 | C42: -0.21259261 | D42: -0.21259261 | E42: 0.084528569 | F42: 0.38473251 | G42: 0.68493645 | H42: 0.98514039 | I42: 1.2853443 | J42: 1.5855483 | K42: 1.8857522 | L42: 2.1859562 | M42: 2.4861601
B43: 0.63 | C43: -0.076043646 | D43: 0.23917049 | E43: 0.55438463 | F43: 0.86959877 | G43: 1.1848129 | H43: 1.500027 | I43: 1.8152412 | J43: 2.1304553 | K43: 2.4456695 | L43: 2.7608836 | M43: 3.0760977
B44: 0.66 | C44: 0.36379202 | D44: 0.69401635 | E44: 1.0242407 | F44: 1.354465 | G44: 1.6846894 | H44: 2.0149137 | I44: 2.345138 | J44: 2.6753624 | K44: 3.0055867 | L44: 3.335811 | M44: 3.6660354
B45: 0.69 | C45: 0.80362768 | D45: 1.1488622 | E45: 1.4940967 | F45: 1.8393313 | G45: 2.1845658 | H45: 2.5298003 | I45: 2.8750349 | J45: 3.2202694 | K45: 3.5655039 | L45: 3.9107385 | M45: 4.255973
B46: 0.72 | C46: 1.2434633 | D46: 1.6037081 | E46: 1.9639528 | F46: 2.3241975 | G46: 2.6844423 | H46: 3.044687 | I46: 3.4049317 | J46: 3.7651764 | K46: 4.1254212 | L46: 4.4856659 | M46: 4.8459106
B47: 0.75 | C47: 1.683299 | D47: 2.0585539 | E47: 2.4338089 | F47: 2.8090638 | G47: 3.1843187 | H47: 3.5595736 | I47: 3.9348286 | J47: 4.3100835 | K47: 4.6853384 | L47: 5.0605933 | M47: 5.4358483

Sheet DatingGame
B1: ©Dating Game©
E3: 0.5 | F3: =_xll.PTreeNodeProbability(treeCalc_1!$F$2,6) -> 0
E4: 0 | F4: =_xll.PTreeNodeValue(treeCalc_1!$F$2,6) -> -29
D5: 0.05 | E5: Chance
D6: 0 | E6: =_xll.PTreeNodeValue(treeCalc_1!$F$2,4) -> -29
E7: 0.5 | F7: =_xll.PTreeNodeProbability(treeCalc_1!$F$2,7) -> 0
E8: 0 | F8: =_xll.PTreeNodeValue(treeCalc_1!$F$2,7) -> -29
C9: =_xll.PTreeNodeDecision(treeCalc_1!$F$2,2) -> FALSE | D9: Chance
C10: -29 | D10: =_xll.PTreeNodeValue(treeCalc_1!$F$2,2) -> -29
E11: 0.5 | F11: =_xll.PTreeNodeProbability(treeCalc_1!$F$2,8) -> 0
E12: 0 | F12: =_xll.PTreeNodeValue(treeCalc_1!$F$2,8) -> -29
D13: =1-D5 -> 0.95 | E13: Chance
D14: 0 | E14: =_xll.PTreeNodeValue(treeCalc_1!$F$2,5) -> -29
E15: 0.5 | F15: =_xll.PTreeNodeProbability(treeCalc_1!$F$2,9) -> 0
E16: 0 | F16: =_xll.PTreeNodeValue(treeCalc_1!$F$2,9) -> -29
C17: Decision
C18: =_xll.PTreeNodeValue(treeCalc_1!$F$2,1) -> 0
E19: 0.5 | F19: =_xll.PTreeNodeProbability(treeCalc_1!$F$2,11) -> 0.005
E20: 0 | F20: =_xll.PTreeNodeValue(treeCalc_1!$F$2,11) -> 0
D21: 0.01 | E21: Chance
D22: 0 | E22: =_xll.PTreeNodeValue(treeCalc_1!$F$2,10) -> 0
E23: 0.5 | F23: =_xll.PTreeNodeProbability(treeCalc_1!$F$2,12) -> 0.005
E24: 0 | F24: =_xll.PTreeNodeValue(treeCalc_1!$F$2,12) -> 0
C25: =_xll.PTreeNodeDecision(treeCalc_1!$F$2,3) -> TRUE | D25: Chance
C26: 0 | D26: =_xll.PTreeNodeValue(treeCalc_1!$F$2,3) -> 0
E27: 0.5 | F27: =_xll.PTreeNodeProbability(treeCalc_1!$F$2,14) -> 0.495
E28: 0 | F28: =_xll.PTreeNodeValue(treeCalc_1!$F$2,14) -> 0
D29: =1-D21 -> 0.99 | E29: Chance
D30: 0 | E30: =_xll.PTreeNodeValue(treeCalc_1!$F$2,13) -> 0
E31: 0.5 | F31: =_xll.PTreeNodeProbability(treeCalc_1!$F$2,15) -> 0.495
E32: 0 | F32: =_xll.PTreeNodeValue(treeCalc_1!$F$2,15) -> 0
H57: Base Case -- Dropped Signal (Stand Alone value excluding cash assets)
H59: Assumptions:
H60: Gross Profit Margin (2010) | L60: 0.259
H61: Gross Profit Margin (Google Target) | L61: =L60 -> 0.259 | M61: =L61-L60 -> 0 | N61: Gap
H62: Discount rate | L62: 0.1
H63: Tax rate | L63: 0.35
H64: Terminal growth rate | L64: 0.03
H65: Revenue Growth rate (2010) | L65: 0.03
H66: Revenue Growth rate (Google Target) | L66: =L65 -> 0.03 | M66: =L66-L65 -> 0 | N66: Gap
...

Sheet treeCalc_2
A1: Name | B1: Hostile Acq? | E1: Ptree1 Compatibility | F1: 3 | H1: Output Label | K1: R-Value Ref. | L1: 100
A2: SheetRef | B2: =Scenarios!#REF! -> #REF! | E2: Eval. Function | F2: =_xll.PTreeEvaluate5(B3,$L$11:$L$21,$J$11:$J$21,$K$11:$K$21,$N$11:$N$21,$G$11:$G$21,,L1) -> 8773250
A3: GenInfo | B3: 0,2,1,0,0,Exponential, 0,0,-1,0,-1,-1,.0001 | E3: Creation Version | F3: 6.0.1 | H3: Output Value NF | I3: <NF>
A4: Def. Link | B4: = | E4: Required Version | F4: 5.0.0 | H4: Output Prob NF | I4: Automatic
A5: EXT REFS | B5: 0 | E5: Recommended Version | F5: 5.0.0 | H5: Input Value NF | I5: <NF>
A6: Def. Form | E6: Last Modified By Version | F6: 6.0.1 | H6: Input Prob NF | I6: Automatic
A7: Calc Macro
A8: Highest# | B8: 11
A10: Anchor Cell | B10: Branch Name | C10: bformtype | D10: valformula | E10: pbformula | F10: distribution | G10: cumPayoffFunction | H10: link | I10: ENDNODEFORMULA | J10: VAL | K10: PB | L10: GenInfo | M10: IntRefs | N10: RefRefs | O10: NodeNames | P10: Collapsed
A11: =Scenarios!$C$18 -> 0.98514039 | B11: =B1 -> Hostile Acq? | C11: 0 | I11: DEFAULT | J11: =Scenarios!$B$18 -> 0 | K11: =Scenarios!$B$17 -> 0 | L11: 2,0,0,2,2,3,0,0,0 | M11: 0 | O11: =Scenarios!$C$17 -> Go Hostile! | P11: FALSE
A12: =Scenarios!$D$10 -> 0.98514039 | B12: Go Hostile | C12: 0 | I12: DEFAULT | J12: =Scenarios!$C$10 -> -9.1 | L12: 1,0,0,2,4,5,1,0,0 | M12: 0 | O12: =Scenarios!$D$9 -> Will it close? | P12: FALSE
A13: =Scenarios!$D$22 -> -0.21259261 | B13: Drop Deal | C13: 0 | I13: DEFAULT | J13: =Scenarios!$C$22 -> 0 | L13: 1,0,0,2,10,11,1,0,0 | M13: 0 | O13: =Scenarios!$D$21 -> Rival (DT) Val Created? | P13: FALSE
A14: =Scenarios!$E$6 -> 7.8502957 | B14: Close | C14: 0 | I14: DEFAULT | J14: =Scenarios!$D$6 -> 0 | K14: =Scenarios!$D$5 -> 0.6 | L14: 1,0,0,2,6,7,2,0,0 | M14: 0 | O14: =Scenarios!$E$5 -> DG Value Created? | P14: FALSE
A15: =Scenarios!$E$14 -> -9.3125926 | B15: DT wins | C15: 0 | I15: DEFAULT | J15: =Scenarios!$D$14 -> 0 | K15: =Scenarios!$D$13 -> 0.4 | L15: 1,0,0,2,8,9,2,0,0 | M15: 0 | O15: =Scenarios!$E$13 -> Rival (DT) Val Created? | P15: FALSE
A16: =Scenarios!$F$4 -> 22.860493 | B16: Goals met | C16: 0 | H16: DEFAULT | I16: DEFAULT | J16: =Scenarios!$E$4 -> 31.960493 | K16: =Scenarios!$E$3 -> 0.4 | L16: 4,0,0,0,4,0,0 | M16: 0 | P16: FALSE
A17: =Scenarios!$F$8 -> -2.1565023 | B17: Failed | C17: 0 | H17: DEFAULT | I17: DEFAULT | J17: =Scenarios!$E$8 -> 6.9434977 | K17: =Scenarios!$E$7 -> 0.6 | L17: 4,0,0,0,4,0,0 | M17: 0 | P17: FALSE
A18: =Scenarios!$F$12 -> -9.5580878 | B18: Strong rival | C18: 0 | H18: DEFAULT | I18: DEFAULT | J18: =Scenarios!$E$12 -> -0.45808784 | K18: =Scenarios!$E$11 -> 0.6 | L18: 4,0,0,0,5,0,0 | M18: 0 | P18: FALSE
A19: =Scenarios!$F$16 -> -8.9443498 | B19: Weak rival | C19: 0 | H19: DEFAULT | I19: DEFAULT | J19: =Scenarios!$E$16 -> 0.15565023 | K19: =Scenarios!$E$15 -> 0.4 | L19: 4,0,0,0,5,0,0 | M19: 0 | P19: FALSE
A20: =Scenarios!$E$20 -> -0.45808784 | B20: Strong rival | C20: 0 | H20: DEFAULT | I20: DEFAULT | J20: =Scenarios!$D$20 -> -0.45808784 | K20: =Scenarios!$D$19 -> 0.6 | L20: 4,0,0,0,3,0,0 | M20: 0 | P20: FALSE
A21: =Scenarios!$E$24 -> 0.15565023 | B21: Weak rival | C21: 0 | H21: DEFAULT | I21: DEFAULT | J21: =Scenarios!$D$24 -> 0.15565023 | K21: =Scenarios!$D$23 -> 0.4 | L21: 4,0,0,0,3,0,0 | M21: 0 | P21: FALSE

Sheet treeCalc_1
A1: Name | B1: Dating Game | E1: Ptree1 Compatibility | F1: 3 | H1: Output Label | K1: R-Value Ref. | L1: 100
A2: SheetRef | B2: =DatingGame!#REF! -> #REF! | E2: Eval. Function | F2: =_xll.PTreeEvaluate5(B3,$L$11:$L$25,$J$11:$J$25,$K$11:$K$25,$N$11:$N$25,$G$11:$G$25,,L1) -> 154369
A3: GenInfo | B3: 0,1,1,0,0,Exponential, 0,0,-1,0,-1,-1,.0001 | E3: Creation Version | F3: 5.7.1 | H3: Output Value NF | I3: <NF>
A4: Def. Link | B4: = | E4: Required Version | F4: 5.0.0 | H4: Output Prob NF | I4: Automatic
A5: EXT REFS | B5: 0 | E5: Recommended Version | F5: 5.0.0 | H5: Input Value NF | I5: <NF>
A6: Def. Form | E6: Last Modified By Version | F6: 6.0.1 | H6: Input Prob NF | I6: Automatic
A7: Calc Macro
A8: Highest# | B8: 15
A10: Anchor Cell | B10: Branch Name | C10: bformtype | D10: valformula | E10: pbformula | F10: distribution | G10: cumPayoffFunction | H10: link | I10: ENDNODEFORMULA | J10: VAL | K10: PB | L10: GenInfo | M10: IntRefs | N10: RefRefs | O10: NodeNames | P10: Collapsed
A11: =DatingGame!$C$18 -> 0 | B11: =B1 -> Dating Game | C11: 0 | I11: DEFAULT | J11: =DatingGame!$B$18 -> 0 | K11: =DatingGame!$B$17 -> 0 | L11: 2,0,0,2,2,3,0,0,0 | M11: 0 | O11: =DatingGame!$C$17 -> Decision | P11: FALSE
A12: =DatingGame!$D$10 -> -29 | B12: Online | C12: 0 | I12: DEFAULT | J12: =DatingGame!$C$10 -> -29 | L12: 1,0,0,2,4,5,1,0,0 | M12: 0 | O12: =DatingGame!$D$9 -> Chance | P12: FALSE
A13: =DatingGame!$D$26 -> 0 | B13: Kollege Klub | C13: 0 | I13: DEFAULT | J13: =DatingGame!$C$26 -> 0 | L13: 1,0,0,2,10,13,1,0,0 | M13: 0 | O13: =DatingGame!$D$25 -> Chance | P13: FALSE
A14: =DatingGame!$E$6 -> -29 | B14: Bliss | C14: 0 | I14: DEFAULT | J14: =DatingGame!$D$6 -> 0 | K14: =DatingGame!$D$5 -> 0.05 | L14: 1,0,0,2,6,7,2,0,0 | M14: 0 | O14: =DatingGame!$E$5 -> Chance | P14: FALSE
A15: =DatingGame!$E$14 -> -29 | B15: Everlasting Pain | C15: 0 | I15: DEFAULT | J15: =DatingGame!$D$14 -> 0 | K15: =DatingGame!$D$13 -> 0.95 | L15: 1,0,0,2,8,9,2,0,0 | M15: 0 | O15: =DatingGame!$E$13 -> Chance | P15: FALSE
A16: =DatingGame!$F$4 -> -29 | B16: Stalker | C16: 0 | H16: DEFAULT | I16: DEFAULT | J16: =DatingGame!$E$4 -> 0 | K16: =DatingGame!$E$3 -> 0.5 | L16: 4,0,0,0,4,0,0 | M16: 0 | P16: FALSE
A17: =DatingGame!$F$8 -> -29 | B17: Just friends | C17: 0 | H17: DEFAULT | I17: DEFAULT | J17: =DatingGame!$E$8 -> 0 | K17: =DatingGame!$E$7 -> 0.5 | L17: 4,0,0,0,4,0,0 | M17: 0 | P17: FALSE
A18: =DatingGame!$F$12 -> -29 | B18: Stalker | C18: 0 | H18: DEFAULT | I18: DEFAULT | J18: =DatingGame!$E$12 -> 0 | K18: =DatingGame!$E$11 -> 0.5 | L18: 4,0,0,0,5,0,0 | M18: 0 | P18: FALSE
A19: =DatingGame!$F$16 -> -29 | B19: Just friends | C19: 0 | H19: DEFAULT | I19: DEFAULT | J19: =DatingGame!$E$16 -> 0 | K19: =DatingGame!$E$15 -> 0.5 | L19: 4,0,0,0,5,0,0 | M19: 0 | P19: FALSE
A20: =DatingGame!$E$22 -> 0 | B20: Bliss | C20: 0 | I20: DEFAULT | J20: =DatingGame!$D$22 -> 0 | K20: =DatingGame!$D$21 -> 0.01 | L20: 1,0,0,2,11,12,3,0,0 | M20: 0 | O20: =DatingGame!$E$21 -> Chance | P20: FALSE
A21: =DatingGame!$F$20 -> 0 | B21: Stalker | C21: 0 | H21: DEFAULT | I21: DEFAULT | J21: =DatingGame!$E$20 -> 0 | K21: =DatingGame!$E$19 -> 0.5 | L21: 4,0,0,0,10,0,0 | M21: 0 | P21: FALSE
A22: =DatingGame!$F$24 -> 0 | B22: Just friends | C22: 0 | H22: DEFAULT | I22: DEFAULT | J22: =DatingGame!$E$24 -> 0 | K22: =DatingGame!$E$23 -> 0.5 | L22: 4,0,0,0,10,0,0 | M22: 0 | P22: FALSE
A23: =DatingGame!$E$30 -> 0 | B23: Everlasting Pain | C23: 0 | I23: DEFAULT | J23: =DatingGame!$D$30 -> 0 | K23: =DatingGame!$D$29 -> 0.99 | L23: 1,0,0,2,14,15,3,0,0 | M23: 0 | O23: =DatingGame!$E$29 -> Chance | P23: FALSE
A24: =DatingGame!$F$28 -> 0 | B24: Stalker | C24: 0 | H24: DEFAULT | I24: DEFAULT | J24: =DatingGame!$E$28 -> 0 | K24: =DatingGame!$E$27 -> 0.5 | L24: 4,0,0,0,13,0,0 | M24: 0 | P24: FALSE
A25: =DatingGame!$F$32 -> 0 | B25: Just friends | C25: 0 | H25: DEFAULT | I25: DEFAULT | J25: =DatingGame!$E$32 -> 0 | K25: =DatingGame!$E$31 -> 0.5 | L25: 4,0,0,0,13,0,0 | M25: 0 | P25: FALSE
