Workbook

Sheet Financial Models
B1: Instructions
B2: 1. Review the assumptions in the base model (scenario 1: Whole Foods Stand Alone Value) - Yellow boxes reflect assumptions you may/must change
B3: 2. Change the assumptions in scenarios 2-4 to reflect what you wouild expect to happen in the described scenarios (status quo, best case, etc)
B4: 3. Estimate the probability that each scenario will occur if they invest or do not invest (should add up to 100% in each case)
B5: 4. What is the expected value of pursuing the investment compared to choosing not to invest?
B6: 5. Draw a decision tree to reflect the analysis below. There is an example on the next sheet. You may simply do it with pencil/paper (nothing fancy needed).
B7: 6. Sensitivity analysis: What assumptions would change your recommended decision?
B9: Overview of Analysis
B10: NPV of scenario excluding $75M investment cost | H10: Probabilities (Buy WF scenarios): | L10: Probabilities (Don't Buy WF scenarios):
B11: =B28 -> Scenario (1): Status quo (no Δ #s & no rival) | F11: =D52 -> 9874.0175 | H11: Best case (2) | K11: 0.3 | L11: High return alternative | O11: 0.4
B12: =B57 -> Scenario (2): Best (Better #s & no rival) | F12: =D81 -> 28414.81 | H12: Middle case (3) | K12: 0.5 | L12: Low return alternative | O12: 0.6
B13: =B86 -> Scenario (3): Middle (Better #s & rival) | F13: =D110 -> 19214.036 | H13: Worst case (4) | K13: 0.1
B14: =B116 -> Scenario (4): Worst (No Δ in #s & rival) | F14: =D140 -> 7378.5424 | H14: Base case - status quo (1) | K14: 0.1
B15: =B145 -> Scenario (5): Don't buy - high return alternative | F15: =D169 -> 10104.66 | H15: Must add up to 100% | K15: =SUM(K11:K14) -> 1 | L15: Must add up to 100% | O15: =SUM(O11:O13) -> 1
B16: =B174 -> Scenario (6): Don't buy - Low return alternative | F16: =D200 -> 3674.4219 | H16: Expected Value (Invest) | K16: =K11*$F12+K12*$F13+K13*$F14+K14*$F11-$L21 -> 6156.7172 | L16: Expected Value (Don't Invest) | O16: =O11*F15+O12*F16 -> 6246.5172
H17: Decision (if accurate assumptions): | L17: =IF(K16>O16,"Invest for return of $"&ROUND(K16-O16,1),"Don't invest to avoid loss") -> Don't invest to avoid loss
B19: Initial Conditions (from case writeup):
C20: Revenue | D20: Share
B21: Revenue ($M) | C21: 15724 | F21: WF SG&A% | H21: 0.291 | J21: Acquisition cost | L21: 13700
F22: WholeFoods tax rate | H22: 0.386 | J22: Yrs to ramp up | L22: 3
F23: Amazon Cost of capital | H23: 0.11 | J23: WF initial profit margin | L23: 0.353
F24: WF Cost of capital | H24: 0.085 | J24: Terminal growth rate | L24: 0.04
B28: Scenario (1): Status quo (no Δ #s & no rival)
B30: Strategic Assumptions (Status quo from the case): | K30: Given Assumptions from the case
B31: Initial revenue bump for online rollout | F31: 0 | K31: Cost of acquisition | O31: 13700
B32: Annual WF Performance change: | F32: Sales Δ | G32: GrossMgn Δ | K32: Yrs required to execute online push | O32: 2
B33: before online push: | F33: 0.077 | G33: -0.003 | K33: WF initial market share | O33: 1
B34: after online push: | F34: 0.1 | G34: 0 | K34: WF initial profit margin | O34: =$L$23 -> 0.353
B35: after rivals online push: | F35: 0.077 | G35: -0.003 | K35: Cost of capital | O35: =$H$23 -> 0.11
B36: Rivals online push hits: | F36: 2099 | K36: Tax rate | O36: =H$22 -> 0.386
B37: Rival online push takes this share away: | F37: 0 | K37: Category growth rate: | O37: 0
K38: Terminal growth rate | O38: =$L$24 -> 0.04
D40: 2018 | E40: =D40+1 -> 2019 | F40: =E40+1 -> 2020 | G40: =F40+1 -> 2021 | H40: =G40+1 -> 2022 | I40: =H40+1 -> 2023 | J40: =I40+1 -> 2024 | K40: =J40+1 -> 2025 | L40: =K40+1 -> 2026 | ... N40: =M40+1 -> 2028 | O40: Terminal
B41: WF Revenue Change | D41: =O33 -> 1 | E41: =D41-IF(E40<($E40+$O32), -$F33,-$F34)-IF(E40=$F36,$F37,0)+IF(E40=$E40+$O32,$F31,0) -> 1.077 | F41: =E41-IF(F40<($E40+$O32), -$F33,-$F34)-IF(F40=$F36,$F37,0)+IF(F40=$E40+$O32,$F31,0) -> 1.154 | G41: =F41-IF(G40<($E40+$O32), -$F33,-$F34)-IF(G40=$F36,$F37,0)+IF(G40=$E40+$O32,$F31,0) -> 1.254 | H41: =G41-IF(H40<($E40+$O32), -$F33,-$F34)-IF(H40=$F36,$F37,0)+IF(H40=$E40+$O32,$F31,0)+IF(H40>$F36,$F35-$F34,0) -> 1.354 | I41: =H41-IF(I40<($E40+$O32), -$F33,-$F34)-IF(I40=$F36,$F37,0)+IF(I40=$E40+$O32,$F31,0)+IF(I40>$F36,$F35-$F34,0) -> 1.454 | J41: =I41-IF(J40<($E40+$O32), -$F33,-$F34)-IF(J40=$F36,$F37,0)+IF(J40=$E40+$O32,$F31,0)+IF(J40>$F36,$F35-$F34,0) -> 1.554 | K41: =J41-IF(K40<($E40+$O32), -$F33,-$F34)-IF(K40=$F36,$F37,0)+IF(K40=$E40+$O32,$F31,0)+IF(K40>$F36,$F35-$F34,0) -> 1.654 | L41: =K41-IF(L40<($E40+$O32), -$F33,-$F34)-IF(L40=$F36,$F37,0)+IF(L40=$E40+$O32,$F31,0)+IF(L40>$F36,$F35-$F34,0) -> 1.754 | M41: =L41-IF(M40<($E40+$O32), -$F33,-$F34)-IF(M40=$F36,$F37,0)+IF(M40=$E40+$O32,$F31,0)+IF(M40>$F36,$F35-$F34,0) -> 1.854 | N41: =M41-IF(N40<($E40+$O32), -$F33,-$F34)-IF(N40=$F36,$F37,0)+IF(N40=$E40+$O32,$F31,0)+IF(N40>$F36,$F35-$F34,0) -> 1.954
B42: Foreign Revenue | D42: =IF($O$22="Y",$J$25,0) -> 0 | E42: =(1+(E43-D43)/D43)*D42 -> 0 | F42: =(1+(F43-E43)/E43)*E42 -> 0 | G42: =(1+(G43-F43)/F43)*F42 -> 0 | H42: =(1+(H43-G43)/G43)*G42 -> 0 | I42: =(1+(I43-H43)/H43)*H42 -> 0 | J42: =(1+(J43-I43)/I43)*I42 -> 0 | K42: =(1+(K43-J43)/J43)*J42 -> 0 | L42: =(1+(L43-K43)/K43)*K42 -> 0 | ... N42: =(1+(N43-M43)/M43)*M42 -> 0
B43: Revenue | D43: =$C$21 -> 15724 | E43: =E41*$D43 -> 16934.748 | F43: =F41*$D43 -> 18145.496 | G43: =G41*$D43 -> 19717.896 | H43: =H41*$D43 -> 21290.296 | I43: =I41*$D43 -> 22862.696 | J43: =J41*$D43 -> 24435.096 | K43: =K41*$D43 -> 26007.496 | L43: =L41*$D43 -> 27579.896 | ... N43: =N41*$D43 -> 30724.696
B44: Profit margin | D44: =O34 -> 0.353 | E44: =D44+IF(E40<($E40+$O32), $G33,0)+IF(AND(E40>$E40+$O32,E40<$F36),$G34,0)+IF(AND(E40>$E40+$O32,E40>$F36-1),$G35,0) -> 0.35 | F44: =E44+IF(F40<($E40+$O32), $G33,0)+IF(AND(F40>$E40+$O32,F40<$F36),$G34,0)+IF(AND(F40>$E40+$O32,F40>$F36-1),$G35,0) -> 0.347 | G44: =F44+IF(G40<($E40+$O32), $G33,0)+IF(AND(G40>$E40+$O32,G40<$F36),$G34,0)+IF(AND(G40>$E40+$O32,G40>$F36-1),$G35,0) -> 0.347 | H44: =G44+IF(H40<($E40+$O32), $G33,0)+IF(AND(H40>$E40+$O32,H40<$F36),$G34,0)+IF(AND(H40>$E40+$O32,H40>$F36-1),$G35,0) -> 0.347 | I44: =H44+IF(I40<($E40+$O32), $G33,0)+IF(AND(I40>$E40+$O32,I40<$F36),$G34,0)+IF(AND(I40>$E40+$O32,I40>$F36-1),$G35,0) -> 0.347 | J44: =I44+IF(J40<($E40+$O32), $G33,0)+IF(AND(J40>$E40+$O32,J40<$F36),$G34,0)+IF(AND(J40>$E40+$O32,J40>$F36-1),$G35,0) -> 0.347 | K44: =J44+IF(K40<($E40+$O32), $G33,0)+IF(AND(K40>$E40+$O32,K40<$F36),$G34,0)+IF(AND(K40>$E40+$O32,K40>$F36-1),$G35,0) -> 0.347 | L44: =K44+IF(L40<($E40+$O32), $G33,0)+IF(AND(L40>$E40+$O32,L40<$F36),$G34,0)+IF(AND(L40>$E40+$O32,L40>$F36-1),$G35,0) -> 0.347 | ... N44: =M44+IF(N40<($E40+$O32), $G33,0)+IF(AND(N40>$E40+$O32,N40<$F36),$G34,0)+IF(AND(N40>$E40+$O32,N40>$F36-1),$G35,0) -> 0.347
B45: Gross Margin | D45: =D44*(D43+D42) -> 5550.572 | E45: =E44*(E43+E42) -> 5927.1618 | F45: =F44*(F43+F42) -> 6296.4871 | G45: =G44*(G43+G42) -> 6842.1099 | H45: =H44*(H43+H42) -> 7387.7327 | I45: =I44*(I43+I42) -> 7933.3555 | J45: =J44*(J43+J42) -> 8478.9783 | K45: =K44*(K43+K42) -> 9024.6011 | ... N45: =N44*(N43+N42) -> 10661.47
B46: SG&A | D46: =(D43+D42)*$H$21 -> 4575.684 | E46: =(E43+E42)*$H$21 -> 4928.0117 | F46: =(F43+F42)*$H$21 -> 5280.3393 | G46: =(G43+G42)*$H$21 -> 5737.9077 | H46: =(H43+H42)*$H$21 -> 6195.4761 | I46: =(I43+I42)*$H$21 -> 6653.0445 | J46: =(J43+J42)*$H$21 -> 7110.6129 | K46: =(K43+K42)*$H$21 -> 7568.1813 | ... N46: =(N43+N42)*$H$21 -> 8940.8865
B47: Operating profit | D47: =D45-D46 -> 974.888 | E47: =E45-E46 -> 999.15013 | F47: =F45-F46 -> 1016.1478 | G47: =G45-G46 -> 1104.2022 | H47: =H45-H46 -> 1192.2566 | I47: =I45-I46 -> 1280.311 | J47: =J45-J46 -> 1368.3654 | K47: =K45-K46 -> 1456.4198 | ... N47: =N45-N46 -> 1720.583
...

Sheet Example Decision Tree
A1: Amazon/Whole Foods Decision Analysis
D2: ='Financial Models'!K12+'Financial Models'!K13 -> 0.6 | E2: =_xll.PTreeNodeProbability(treeCalc_1!$F$2,6) -> 0.48
D3: ='Financial Models'!F13 -> 19214.036 | E3: =_xll.PTreeNodeValue(treeCalc_1!$F$2,6) -> 5514.0363
C4: ='Financial Models'!K11+'Financial Models'!K12 -> 0.8 | D4: Rival
C5: 0 | D5: =_xll.PTreeNodeValue(treeCalc_1!$F$2,4) -> 9194.3458
D6: =1-D2 -> 0.4 | E6: =_xll.PTreeNodeProbability(treeCalc_1!$F$2,7) -> 0.32
D7: ='Financial Models'!F12 -> 28414.81 | E7: =_xll.PTreeNodeValue(treeCalc_1!$F$2,7) -> 14714.81
B8: =_xll.PTreeNodeDecision(treeCalc_1!$F$2,2) -> TRUE | C8: #s (Revenue & Mgn)
B9: =-'Financial Models'!L21 -> -13700 | C9: =_xll.PTreeNodeValue(treeCalc_1!$F$2,2) -> 6290.8231
D10: =D2 -> 0.6 | E10: =_xll.PTreeNodeProbability(treeCalc_1!$F$2,8) -> 0.12
D11: ='Financial Models'!F14 -> 7378.5424 | E11: =_xll.PTreeNodeValue(treeCalc_1!$F$2,8) -> -6321.4576
C12: =1-C4 -> 0.2 | D12: Rival
C13: 0 | D13: =_xll.PTreeNodeValue(treeCalc_1!$F$2,5) -> -5323.2676
D14: =D6 -> 0.4 | E14: =_xll.PTreeNodeProbability(treeCalc_1!$F$2,9) -> 0.08
D15: ='Financial Models'!F11 -> 9874.0175 | E15: =_xll.PTreeNodeValue(treeCalc_1!$F$2,9) -> -3825.9825
B16: Buy WF?
B17: =_xll.PTreeNodeValue(treeCalc_1!$F$2,1) -> 6290.8231
C18: ='Financial Models'!O11 -> 0.4 | D18: =_xll.PTreeNodeProbability(treeCalc_1!$F$2,18) -> 0
C19: ='Financial Models'!F15 -> 10104.66 | D19: =_xll.PTreeNodeValue(treeCalc_1!$F$2,18) -> 10104.66
B20: =_xll.PTreeNodeDecision(treeCalc_1!$F$2,3) -> FALSE | C20: Alt Invstmnt
B21: 0 | C21: =_xll.PTreeNodeValue(treeCalc_1!$F$2,3) -> 6246.5172
C22: =1-C18 -> 0.6 | D22: =_xll.PTreeNodeProbability(treeCalc_1!$F$2,19) -> 0
C23: ='Financial Models'!F16 -> 3674.4219 | D23: =_xll.PTreeNodeValue(treeCalc_1!$F$2,19) -> 3674.4219

Sheet Sensitivity

Sheet Sheet1
B1: 2016 | C1: =B1-1 -> 2015 | D1: =C1-1 -> 2014 | E1: =D1-1 -> 2013 | F1: =E1-1 -> 2012
A2: Revenue | B2: 15724 | C2: 15389 | D2: 14194 | E2: 12920 | F2: 11700
A3: Gross Profit | B3: 5411 | C3: 5416 | D3: 5044 | E3: 4630 | F3: 4160
A4: GrossMgn | B4: =B3/B2 -> 0.34412363 | C4: =C3/C2 -> 0.3519397 | D4: =D3/D2 -> 0.35536142 | E4: =E3/E2 -> 0.35835913 | F4: =F3/F2 -> 0.35555556 | G4: =AVERAGE(B4:F4) -> 0.35306789
A5: SG&A | B5: =B3-B7 -> 4554 | C5: =C3-C7 -> 4555 | D5: =D3-D7 -> 4110 | E5: 3730 | F5: 3400
A6: SG&A% | B6: =B5/B2 -> 0.28962096 | C6: =C5/C2 -> 0.29599064 | D6: =D5/D2 -> 0.28955897 | E6: =E5/E2 -> 0.28869969 | F6: =F5/F2 -> 0.29059829 | G6: =AVERAGE(B6:F6) -> 0.29089371
A7: Op Inc | B7: 857 | C7: 861 | D7: 934 | E7: =E3-E5 -> 900 | F7: =F3-F5 -> 760
A8: IncBefTax | B8: 827 | C8: 878 | D8: 946 | E8: 894 | F8: 752
A9: Tax Exp | B9: 320 | C9: 342 | D9: 367 | E9: 343 | F9: 286.47
A10: TaxRate | B10: =B9/B8 -> 0.38694075 | C10: =C9/C8 -> 0.38952164 | D10: =D9/D8 -> 0.38794926 | E10: =E9/E8 -> 0.3836689 | F10: =F9/F8 -> 0.38094415 | G10: =AVERAGE(B10:F10) -> 0.38580494
A11: NetInc | B11: 507 | C11: 536 | D11: 579 | E11: 551 | F11: 465.57
B12: =B11/B2 -> 0.032243704 | C12: =C11/C2 -> 0.034830073 | D12: =D11/D2 -> 0.040791884 | E12: =E11/E2 -> 0.042647059 | F12: =F11/F2 -> 0.039792308
A14: RevGrow | B14: =(B2-C2)/C2 -> 0.021768796 | C14: =(C2-D2)/D2 -> 0.084190503 | D14: =(D2-E2)/E2 -> 0.098606811 | E14: =(E2-F2)/F2 -> 0.1042735 | G14: =AVERAGE(B14:F14) -> 0.077209904 | H14: =AVERAGE(B14:D14) -> 0.068188703 | I14: =AVERAGE(C14:E14) -> 0.095690273
A15: NetIncGrow | B15: =(B11-C11)/C11 -> -0.054104478 | C15: =(C11-D11)/D11 -> -0.074265976 | D15: =(D11-E11)/E11 -> 0.050816697 | E15: =(E11-F11)/F11 -> 0.1834955 | G15: =AVERAGE(B15:F15) -> 0.026485436 | H15: =AVERAGE(B15:D15) -> -0.025851252
B16: =B12-C12 -> -0.0025863695 | C16: =C12-D12 -> -0.0059618105 | D16: =D12-E12 -> -0.0018551749 | E16: =E12-F12 -> 0.0028547511 | G16: =AVERAGE(B16:F16) -> -0.001887151 | H16: =AVERAGE(B16:D16) -> -0.003467785
B17: =B4-C4 -> -0.0078160645 | C17: =C4-D4 -> -0.0034217231 | D17: =D4-E4 -> -0.0029977128 | E17: =E4-F4 -> 0.0028035776 | G17: =AVERAGE(B17:F17) -> -0.0028579807 | H17: =AVERAGE(B17:D17) -> -0.0047451668
A20: Before bid | B20: 33.06 | C20: =(B21-B20)/B20 -> 0.27041742 | D20: Premium
A21: After bid | B21: 42
A23: Before bid | B23: 30 | C23: =(B24-B23)/B23 -> 0.4 | D23: Premium
A24: After bid | B24: 42

Sheet treeCalc_1
A1: Name | B1: WF Decision | E1: Ptree1 Compatibility | F1: 3 | H1: Output Label | K1: R-Value Ref. | L1: 100
A2: SheetRef | B2: ='Example Decision Tree'!#REF! -> #REF! | E2: Eval. Function | F2: =_xll.PTreeEvaluate5(B3,$L$11:$L$29,$J$11:$J$29,$K$11:$K$29,$N$11:$N$29,$G$11:$G$29,,L1) -> 77185
A3: GenInfo | B3: 0,1,1,0,0,Exponential, 0,0,-1,0,-1,-1,.0001 | E3: Creation Version | F3: 7.5.0 | H3: Output Value NF | I3: <NF>
A4: Def. Link | B4: = | E4: Required Version | F4: 5.0.0 | H4: Output Prob NF | I4: Automatic
A5: EXT REFS | B5: 0 | E5: Recommended Version | F5: 5.0.0 | H5: Input Value NF | I5: <NF>
A6: Def. Form | E6: Last Modified By Version | F6: 7.5.0 | H6: Input Prob NF | I6: Automatic
A7: Calc Macro | E7: Model GUID | F7: 36637329
A8: Highest# | B8: 19
A10: Anchor Cell | B10: Branch Name | C10: bformtype | D10: valformula | E10: pbformula | F10: distribution | G10: cumPayoffFunction | H10: link | I10: ENDNODEFORMULA | J10: VAL | K10: PB | L10: GenInfo | M10: IntRefs | N10: RefRefs | O10: NodeNames | P10: Collapsed
A11: ='Example Decision Tree'!$B$17 -> 6290.8231 | B11: =B1 -> WF Decision | C11: 0 | I11: DEFAULT | J11: ='Example Decision Tree'!$A$17 -> 0 | K11: ='Example Decision Tree'!$A$16 -> 0 | L11: 2,0,0,2,2,3,0,0,0 | M11: 0 | O11: ='Example Decision Tree'!$B$16 -> Buy WF? | P11: FALSE
A12: ='Example Decision Tree'!$C$9 -> 6290.8231 | B12: Buy | C12: 0 | I12: DEFAULT | J12: ='Example Decision Tree'!$B$9 -> -13700 | L12: 1,0,0,2,4,5,1,0,0 | M12: 0 | O12: ='Example Decision Tree'!$C$8 -> #s (Revenue & Mgn) | P12: FALSE
A13: ='Example Decision Tree'!$C$21 -> 6246.5172 | B13: Don't Buy | C13: 0 | I13: DEFAULT | J13: ='Example Decision Tree'!$B$21 -> 0 | L13: 1,0,0,2,18,19,1,0,0 | M13: 0 | O13: ='Example Decision Tree'!$C$20 -> Alt Invstmnt | P13: FALSE
A14: ='Example Decision Tree'!$D$5 -> 9194.3458 | B14: Improve | C14: 0 | I14: DEFAULT | J14: ='Example Decision Tree'!$C$5 -> 0 | K14: ='Example Decision Tree'!$C$4 -> 0.8 | L14: 1,0,0,2,6,7,2,0,0 | M14: 0 | O14: ='Example Decision Tree'!$D$4 -> Rival | P14: FALSE
A15: ='Example Decision Tree'!$D$13 -> -5323.2676 | B15: Same | C15: 0 | I15: DEFAULT | J15: ='Example Decision Tree'!$C$13 -> 0 | K15: ='Example Decision Tree'!$C$12 -> 0.2 | L15: 1,0,0,2,8,9,2,0,0 | M15: 0 | O15: ='Example Decision Tree'!$D$12 -> Rival | P15: FALSE
A16: ='Example Decision Tree'!$E$3 -> 5514.0363 | B16: Strong | C16: 0 | H16: DEFAULT | I16: DEFAULT | J16: ='Example Decision Tree'!$D$3 -> 19214.036 | K16: ='Example Decision Tree'!$D$2 -> 0.6 | L16: 4,0,0,0,4,0,0 | M16: 0 | P16: FALSE
A17: ='Example Decision Tree'!$E$7 -> 14714.81 | B17: Weak | C17: 0 | H17: DEFAULT | I17: DEFAULT | J17: ='Example Decision Tree'!$D$7 -> 28414.81 | K17: ='Example Decision Tree'!$D$6 -> 0.4 | L17: 4,0,0,0,4,0,0 | M17: 0 | P17: FALSE
A18: ='Example Decision Tree'!$E$11 -> -6321.4576 | B18: Strong | C18: 0 | H18: DEFAULT | I18: DEFAULT | J18: ='Example Decision Tree'!$D$11 -> 7378.5424 | K18: ='Example Decision Tree'!$D$10 -> 0.6 | L18: 4,0,0,0,5,0,0 | M18: 0 | P18: FALSE
A19: ='Example Decision Tree'!$E$15 -> -3825.9825 | B19: Weak | C19: 0 | H19: DEFAULT | I19: DEFAULT | J19: ='Example Decision Tree'!$D$15 -> 9874.0175 | K19: ='Example Decision Tree'!$D$14 -> 0.4 | L19: 4,0,0,0,5,0,0 | M19: 0 | P19: FALSE
A28: ='Example Decision Tree'!$D$19 -> 10104.66 | B28: Strong | C28: 0 | H28: DEFAULT | I28: DEFAULT | J28: ='Example Decision Tree'!$C$19 -> 10104.66 | K28: ='Example Decision Tree'!$C$18 -> 0.4 | L28: 4,0,0,0,3,0,0 | M28: 0 | P28: FALSE
A29: ='Example Decision Tree'!$D$23 -> 3674.4219 | B29: Weak | C29: 0 | H29: DEFAULT | I29: DEFAULT | J29: ='Example Decision Tree'!$C$23 -> 3674.4219 | K29: ='Example Decision Tree'!$C$22 -> 0.6 | L29: 4,0,0,0,3,0,0 | M29: 0 | P29: FALSE
