Workbook

Sheet ZoomScenarios
A1: Scenario | E1: NPV | F1: Prob | I1: Sources of Uncertainty: | K1: P(Yes) | L1: P(No) | N1: Zoom Mkt Capitalization | P1: %Change
A2: =A16 -> 1. Best case: Rivals withdraw; Zoom innovates | E2: =B34 -> 2.7630323e+08 | F2: =G2 -> 0.20475 | G2: =L2*L3*K4 -> 0.20475 | I2: * Rivals attack on price | K2: 0.55 | L2: =1-K2 -> 0.45 | N2: 43676 | O2: 25440000
A3: =A41 -> 2. Mid1: Rivals withdraw; Zoom lags | E3: =B59 -> 84445585 | F3: =G3 -> 0.11025 | G3: =L2*L3*L4 -> 0.11025 | I3: * Rivals match quality | K3: 0.3 | L3: =1-K3 -> 0.7 | N3: 44042 | O3: 70526000 | P3: =(O3-O2)/O2 -> 1.7722484
A4: =A66 -> 3. Mid2: Rivals' quality fails; Price war; Zoom lags | E4: =B84 -> 6655570.6 | F4: =G4 -> 0.13475 | G4: =L3*K2*L4 -> 0.13475 | I4: * Zoom keeps innovating | K4: 0.65 | L4: =1-K4 -> 0.35 | N4: 44060 | O4: 75082000 | P4: =(O4-O3)/O3 -> 0.064600289
A5: =A90 -> 4. Mid3: Rivals' quality fails; Price war; Zoom innovates | E5: =B108 -> 19750426 | F5: =G5 -> 0.25025 | G5: =L3*K2*K4 -> 0.25025 | N5: Premium | O5: 0.25
A6: =A114 -> 5. Mid4: Rivals' fix quality; No price war; Zoom lags | E6: =B132 -> 8419671.1 | F6: =G6 -> 0.04725 | G6: =K3*L2*L4 -> 0.04725 | I6: Analyst estimates | O6: =(O2+O3)/2*(1+O$5) -> 59978750 | P6: 0.4
A7: =A138 -> 6. Mid5: Rivals' fix quality; No price war; Zoom innovates | E7: =B156 -> 14435060 | F7: =G7 -> 0.08775 | G7: =K3*L2*K4 -> 0.08775 | I7: * Industry size (revenue): | K7: $3.85B | O7: =(O3+O4)/2*(1+O$5) -> 91005000 | P7: =1-P6 -> 0.6
A8: =A162 -> 7. Mid6: Rivals' fix quality; Price war; Zoom innovates | E8: =B180 -> 15297343 | F8: =G8 -> 0.10725 | G8: =K3*K2*K4 -> 0.10725 | I8: * Industry growth (CAGR): | K8: 0.099 | O8: =O6*P6+O7*P7 -> 78594500
A9: =A187 -> 8. Worst case: Rivals' fix quality; Price war; Zoom lags | E9: =B205 -> 2606518.7 | F9: =G9 -> 0.05775 | G9: =K3*K2*L4 -> 0.05775
A10: Expected value created: | E10: =IF(F10=1,E2*F2+E3*F3+E4*F4+E5*F5+E6*F6+E7*F7+E8*F8+E9*F9) -> 75178266 | F10: =SUM(F2:F9) -> 1
A11: Purchase price: | E11: =O8 -> 78594500
A12: Value created (lost) in the acquisition: | E12: =E10-E11 -> -3416233.7
A16: 1. Best case: Rivals withdraw; Zoom innovates
D18: --Post Rival Resp-- | F18: ----------Zoom Historical----------
A19: Assumptions | C19: Initial | D19: Value | E19: When(yr) | F19: Avg | G19: Max | H19: Min
A20: Operating Inc Mgn | C20: =F20 -> 0.033192835 | D20: 0.006 | E20: 2029 | F20: =ZoomFinancials!F$15 -> 0.033192835 | G20: =ZoomFinancials!G$15 -> 0.0080671728 | H20: =ZoomFinancials!H$15 -> 0.033192835
A21: Revenue Growth | C21: =F21 -> 1.2504012 | D21: 0.3 | E21: 2029 | F21: =ZoomFinancials!F$5 -> 1.2504012 | G21: =ZoomFinancials!G$5 -> 1.2017394 | H21: =ZoomFinancials!H$5 -> 1.4907181
A22: Amortization % Sales | C22: =F22 -> 0.022620604 | F22: =ZoomFinancials!F$24 -> 0.022620604 | G22: =ZoomFinancials!G$24 -> 0.021735398 | H22: =ZoomFinancials!H$24 -> 0.026417391
A23: Tax rate | C23: =F23 -> 0.080859677 | F23: =ZoomFinancials!F$20 -> 0.080859677 | G23: =ZoomFinancials!G$20 -> 0.24295557 | H23: =ZoomFinancials!H$20 -> 1.0886076
A24: WACC | C24: 0.055
A25: Terminal Growth rate | C25: 0.02
A27: Zoom 2020 valuation based on expected cash flows
A28: Thousands$ | B28: 2020 | C28: =B28+1 -> 2021 | D28: =C28+1 -> 2022 | E28: =D28+1 -> 2023 | F28: =E28+1 -> 2024 | G28: =F28+1 -> 2025 | H28: =G28+1 -> 2026 | I28: =H28+1 -> 2027 | J28: =I28+1 -> 2028 | K28: =J28+1 -> 2029 | L28: Terminal
A29: Revenue | B29: =ZoomFinancials!$B$4 -> 622658 | C29: =B29*(1+IF(C28>$E21-1,$D21,$C21)) -> 1401230.3 | D29: =C29*(1+IF(D28>$E21-1,$D21,$C21)) -> 3153330.3 | E29: =D29*(1+IF(E28>$E21-1,$D21,$C21)) -> 7096258.1 | F29: =E29*(1+IF(F28>$E21-1,$D21,$C21)) -> 15969427 | G29: =F29*(1+IF(G28>$E21-1,$D21,$C21)) -> 35937618 | H29: =G29*(1+IF(H28>$E21-1,$D21,$C21)) -> 80874058 | I29: =H29*(1+IF(I28>$E21-1,$D21,$C21)) -> 1.8199907e+08 | J29: =I29*(1+IF(J28>$E21-1,$D21,$C21)) -> 4.0957093e+08 | K29: =J29*(1+IF(K28>$E21-1,$D21,$C21)) -> 5.3244221e+08
A30: Operating Income | B30: =B29*IF(B28>$E20-1,$D20,$C20) -> 20667.784 | C30: =C29*IF(C28>$E20-1,$D20,$C20) -> 46510.806 | D30: =D29*IF(D28>$E20-1,$D20,$C20) -> 104667.97 | E30: =E29*IF(E28>$E20-1,$D20,$C20) -> 235544.92 | F30: =F29*IF(F28>$E20-1,$D20,$C20) -> 530070.57 | G30: =G29*IF(G28>$E20-1,$D20,$C20) -> 1192871.4 | H30: =H29*IF(H28>$E20-1,$D20,$C20) -> 2684439.3 | I30: =I29*IF(I28>$E20-1,$D20,$C20) -> 6041065.2 | ... K30: =K29*IF(K28>$E20-1,$D20,$C20) -> 3194653.2
A31: Taxes | B31: =B30*$C23 -> 1671.1904 | C31: =C30*$C23 -> 3760.8487 | D31: =D30*$C23 -> 8463.4183 | E31: =E30*$C23 -> 19046.086 | F31: =F30*$C23 -> 42861.335 | G31: =G30*$C23 -> 96455.198 | H31: =H30*$C23 -> 217062.89 | I31: =I30*$C23 -> 488478.58 | ... K31: =K30*$C23 -> 258318.63
A32: Depreciation/Amort | B32: =B29*$C22 -> 14084.9 | C32: =C29*$C22 -> 31696.675 | D32: =D29*$C22 -> 71330.235 | E32: =E29*$C22 -> 160521.64 | F32: =F29*$C22 -> 361238.09 | G32: =G29*$C22 -> 812930.62 | H32: =H29*$C22 -> 1829420 | I32: =I29*$C22 -> 4116928.9 | ... K32: =K29*$C22 -> 12044164
A33: Cash flows | B33: =B30-B31+B32 -> 33081.494 | C33: =C30-C31+C32 -> 74446.632 | D33: =D30-D31+D32 -> 167534.79 | E33: =E30-E31+E32 -> 377020.48 | F33: =F30-F31+F32 -> 848447.33 | G33: =G30-G31+G32 -> 1909346.9 | H33: =H30-H31+H32 -> 4296796.4 | I33: =I30-I31+I32 -> 9669515.6 | ... K33: =K30-K31+K32 -> 14980499 | L33: =(K33*(1+$C25))/($C24-$C25) -> 4.3657454e+08
A34: NPV | B34: =NPV(C24,B33:L33) -> 2.7630323e+08
A40: Black
A41: 2. Mid1: Rivals withdraw; Zoom lags
D43: --Post Rival Resp-- | F43: ----------Zoom Historical----------
A44: Assumptions | C44: Initial | D44: Value | E44: When(yr) | F44: Avg | G44: Max | H44: Min
A45: Operating Inc Mgn | C45: =F45 -> 0.033192835 | D45: 0.07 | E45: 2025 | F45: =ZoomFinancials!F$15 -> 0.033192835 | G45: =ZoomFinancials!G$15 -> 0.0080671728 | H45: =ZoomFinancials!H$15 -> 0.033192835
A46: Revenue Growth | C46: =F46 -> 1.2504012 | D46: 0.4 | E46: 2024 | F46: =ZoomFinancials!F$5 -> 1.2504012 | G46: =ZoomFinancials!G$5 -> 1.2017394 | H46: =ZoomFinancials!H$5 -> 1.4907181
A47: Amortization % Sales | C47: =F47 -> 0.022620604 | F47: =ZoomFinancials!F$24 -> 0.022620604 | G47: =ZoomFinancials!G$24 -> 0.021735398 | H47: =ZoomFinancials!H$24 -> 0.026417391
A48: Tax rate | C48: =F48 -> 0.080859677 | F48: =ZoomFinancials!F$20 -> 0.080859677 | G48: =ZoomFinancials!G$20 -> 0.24295557 | H48: =ZoomFinancials!H$20 -> 1.0886076
A49: WACC | C49: 0.055
A50: Terminal Growth rate | C50: 0.02
A52: Zoom 2020 valuation based on expected cash flows
...

Sheet ZoomFinancials
A2: Consolidated Statements of Operations Data: | L2: ----------Quarterly Data----------
A3: (in thousands, except share and per share data) | B3: 2020 | C3: 2019 | D3: 2018 | E3: 2017 | F3: Last 4Q | G3: Avg | H3: Max | I3: Min | L3: 43951 | M3: 43861 | N3: 43769 | O3: 43677
A4: Revenue | B4: 622658 | C4: 330517 | D4: 151478 | E4: 60817 | L4: 328167 | M4: 188251 | N4: 166593 | O4: 145826
A5: Revenue Growth | B5: =(B4-C4)/C4 -> 0.883891 | C5: =(C4-D4)/D4 -> 1.1819472 | D5: =(D4-E4)/E4 -> 1.4907181 | F5: =P5 -> 1.2504012 | G5: =AVERAGE(B5:F5) -> 1.2017394 | H5: =MAX(B5:F5) -> 1.4907181 | I5: =MIN(B5:F5) -> 0.883891 | L5: =(L4-M4)/M4 -> 0.74324174 | M5: =(M4-N4)/N4 -> 0.13000546 | N5: =(N4-O4)/O4 -> 0.14240945 | P5: =(L4-O4)/O4 -> 1.2504012 | Q5: over 3 quarters
A6: Cost of revenue(1) | B6: 115396 | C6: 61001 | D6: 30780 | E6: 12472 | L6: 103707 | M6: 32547 | N6: 30845 | O6: 27900
A7: Gross profit | B7: =B4-B6 -> 507262 | C7: =C4-C6 -> 269516 | D7: =D4-D6 -> 120698 | E7: =E4-E6 -> 48345 | L7: =L4-L6 -> 224460 | M7: =M4-M6 -> 155704 | N7: =N4-N6 -> 135748 | O7: =O4-O6 -> 117926
A8: Gross Profit % | B8: =B7/B4 -> 0.81467194 | C8: =C7/C4 -> 0.81543763 | D8: =D7/D4 -> 0.79680218 | E8: =E7/E4 -> 0.79492576 | F8: =AVERAGE(L8:O8) -> 0.78365344 | G8: =AVERAGE(B8:F8) -> 0.80109819 | H8: =MAX(B8:F8) -> 0.81543763 | I8: =MIN(B8:F8) -> 0.78365344 | L8: =L7/L4 -> 0.68398102 | M8: =M7/M4 -> 0.82710849 | N8: =N7/N4 -> 0.81484816 | O8: =O7/O4 -> 0.80867609
A9: Operating expenses:
A10: Research and development(1) | B10: 67079 | C10: 33014 | D10: 15733 | E10: 9218
A11: Sales and marketing(1) | B11: 340646 | C11: 185821 | D11: 82707 | E11: 31580
A12: General and administrative(1) | B12: 86841 | C12: 44514 | D12: 27091 | E12: 7547
A13: Total operating expenses | B13: 494566 | C13: 263349 | D13: 125531 | E13: 48345
A14: Income (loss) from operations | B14: =B7-B13 -> 12696 | C14: =C7-C13 -> 6167 | D14: =D7-D13 -> -4833 | E14: =E7-E13 -> 0 | L14: 23385 | M14: 10553 | N14: -1679 | O14: 2265
A15: Operating Mgn | B15: =B14/B4 -> 0.020390005 | C15: =C14/C4 -> 0.018658647 | D15: =D14/D4 -> -0.031905623 | E15: =E14/E4 -> 0 | F15: =AVERAGE(L15:O15) -> 0.033192835 | G15: =AVERAGE(B15:F15) -> 0.0080671728 | H15: =MAX(B15:F15) -> 0.033192835 | I15: =MIN(B15:F15) -> -0.031905623 | L15: =L14/L4 -> 0.07125945 | M15: =M14/M4 -> 0.056058135 | N15: =N14/N4 -> -0.010078455 | O15: =O14/O4 -> 0.01553221
A16: Interest income and other, net | B16: 13666 | C16: 2182 | D16: 1315 | E16: 158
A17: Net income (loss) before provision for income taxes | B17: 26362 | C17: 8349 | D17: -3518 | E17: 158 | L17: 29175 | M17: 14545 | N17: 2530 | O17: 6757
B18: =B17/B4 -> 0.042337848 | C18: =C17/C4 -> 0.025260425 | D18: =D17/D4 -> -0.023224495 | E18: =E17/E4 -> 0.0025979578 | F18: =AVERAGE(L18:O18) -> 0.056922382 | G18: =AVERAGE(B18:F18) -> 0.020778824 | H18: =MAX(B18:F18) -> 0.056922382 | I18: =MIN(B18:F18) -> -0.023224495 | L18: =L17/L4 -> 0.088902906 | M18: =M17/M4 -> 0.077263866 | N18: =N17/N4 -> 0.015186713 | O18: =O17/O4 -> 0.046336044
A19: Provision for income taxes | B19: 1057 | C19: 765 | D19: 304 | E19: 172 | L19: 2100 | M19: -794 | N19: 319 | O19: 1216
A20: Implied tax rate | B20: =B19/B17 -> 0.040095592 | C20: =C19/C17 -> 0.09162774 | D20: =D19/D17 -> -0.086412735 | E20: =E19/E17 -> 1.0886076 | F20: =AVERAGE(L20:O20) -> 0.080859677 | G20: =AVERAGE(B20:F20) -> 0.24295557 | H20: =MAX(B20:F20) -> 1.0886076 | I20: =MIN(B20:F20) -> -0.086412735 | L20: =L19/L17 -> 0.071979434 | M20: =M19/M17 -> -0.054589206 | N20: =N19/N17 -> 0.12608696 | O20: =O19/O17 -> 0.17996152
A21: Net income (loss) | B21: 25305 | C21: 7584 | D21: -3822 | E21: -14 | L21: 27036 | M21: 14277 | N21: 2207 | O21: 4770
A22: Reconciled Depreciation* | B22: 16449 | C22: 7008 | D22: 2786 | E22: 1219 | L22: 5339 | M22: 20 | N22: 6139 | O22: 5433
A23: Normalized EBITDA* | B23: 29145 | C23: 13175 | D23: -2047 | E23: 1219 | L23: 28724 | M23: 10573 | N23: 4460 | O23: 7698
A24: Depreciation/Sales | B24: =B22/B4 -> 0.026417391 | C24: =C22/C4 -> 0.021203145 | D24: =D22/D4 -> 0.01839211 | E24: =E22/E4 -> 0.020043738 | F24: =AVERAGE(L24:O24) -> 0.022620604 | G24: =AVERAGE(B24:F24) -> 0.021735398 | H24: =MAX(B24:F24) -> 0.026417391 | I24: =MIN(B24:F24) -> 0.01839211 | L24: =L22/L4 -> 0.016269156 | M24: =M22/M4 -> 0.00010624114 | N24: =N22/N4 -> 0.036850288 | O24: =O22/O4 -> 0.037256731
A25: *From Yahoo Finance
A27: Distributed earnings attributable to participating securities | B27: — | C27: — | D27: -4405 | E27: -14366
A28: Undistributed earnings attributable to participating securities | B28: -3555 | C28: -7584 | D28: — | E28: —
A29: Net income (loss) attributable to common stockholders | B29: 21750 | C29: $— | D29: -8227 | E29: -14380
A30: Net income (loss) per share attributable to common stockholders:
A31: Basic | B31: 0.09 | C31: 0 | D31: -0.11 | E31: -0.2
A32: Diluted | B32: 0.09 | C32: 0 | D32: -0.11 | E32: -0.2
A33: Weighted-average shares used in computing net income (loss) per share attributable to common stockholders:
A34: Basic | B34: 233641336 | C34: 84483094 | D34: 78119865 | E34: 70309256
A35: Diluted | B35: 254298014 | C35: 116005681 | D35: 78119865 | E35: 70309256

Sheet ZoomTree
D2: =ZoomScenarios!K4 -> 0.65 | E2: =_xll.PTreeNodeProbability(treeCalc_2!$F$2,4) -> 0.10725
D3: =ZoomScenarios!E8 -> 15297343 | E3: =_xll.PTreeNodeValue(treeCalc_2!$F$2,4) -> 15297343
C4: =ZoomScenarios!K2 -> 0.55 | D4: Zoom
D5: =_xll.PTreeNodeValue(treeCalc_2!$F$2,3) -> 10855554
D6: =1-D2 -> 0.35 | E6: =_xll.PTreeNodeProbability(treeCalc_2!$F$2,5) -> 0.05775
D7: =ZoomScenarios!E9 -> 2606518.7 | E7: =_xll.PTreeNodeValue(treeCalc_2!$F$2,5) -> 2606518.7
B8: =ZoomScenarios!K3 -> 0.3 | C8: PriceWar
B9: 0 | C9: =_xll.PTreeNodeValue(treeCalc_2!$F$2,2) -> 11518908
D10: =D2 -> 0.65 | E10: =_xll.PTreeNodeProbability(treeCalc_2!$F$2,7) -> 0.08775
D11: =ZoomScenarios!E7 -> 14435060 | E11: =_xll.PTreeNodeValue(treeCalc_2!$F$2,7) -> 14435060
C12: =1-C4 -> 0.45 | D12: Zoom
D13: =_xll.PTreeNodeValue(treeCalc_2!$F$2,6) -> 12329674
D14: =1-D10 -> 0.35 | E14: =_xll.PTreeNodeProbability(treeCalc_2!$F$2,8) -> 0.04725
D15: =ZoomScenarios!E6 -> 8419671.1 | E15: =_xll.PTreeNodeValue(treeCalc_2!$F$2,8) -> 8419671.1
B16: RivalQuality
B17: =_xll.PTreeNodeValue(treeCalc_2!$F$2,1) -> 75178266
D18: =D2 -> 0.65 | E18: =_xll.PTreeNodeProbability(treeCalc_2!$F$2,11) -> 0.25025
D19: =ZoomScenarios!E5 -> 19750426 | E19: =_xll.PTreeNodeValue(treeCalc_2!$F$2,11) -> 19750426
C20: =C4 -> 0.55 | D20: Zoom
D21: =_xll.PTreeNodeValue(treeCalc_2!$F$2,10) -> 15167227
D22: =1-D18 -> 0.35 | E22: =_xll.PTreeNodeProbability(treeCalc_2!$F$2,12) -> 0.13475
D23: =ZoomScenarios!E4 -> 6655570.6 | E23: =_xll.PTreeNodeValue(treeCalc_2!$F$2,12) -> 6655570.6
B24: =1-B8 -> 0.7 | C24: PriceWar
B25: 0 | C25: =_xll.PTreeNodeValue(treeCalc_2!$F$2,9) -> 1.0246085e+08
D26: =D2 -> 0.65 | E26: =_xll.PTreeNodeProbability(treeCalc_2!$F$2,14) -> 0.20475
D27: =ZoomScenarios!E2 -> 2.7630323e+08 | E27: =_xll.PTreeNodeValue(treeCalc_2!$F$2,14) -> 2.7630323e+08
C28: =1-C20 -> 0.45 | D28: Zoom
D29: =_xll.PTreeNodeValue(treeCalc_2!$F$2,13) -> 2.0915305e+08
D30: =1-D26 -> 0.35 | E30: =_xll.PTreeNodeProbability(treeCalc_2!$F$2,15) -> 0.11025
D31: =ZoomScenarios!E3 -> 84445585 | E31: =_xll.PTreeNodeValue(treeCalc_2!$F$2,15) -> 84445585
E66: =ZoomScenarios!K4 -> 0.65 | F66: =_xll.PTreeNodeProbability(treeCalc_1!$F$2,12) -> 0.10725
E67: =ZoomScenarios!E8 -> 15297343 | F67: =_xll.PTreeNodeValue(treeCalc_1!$F$2,12) -> 15297343
D68: =ZoomScenarios!K2 -> 0.55 | E68: Zoom
E69: =_xll.PTreeNodeValue(treeCalc_1!$F$2,6) -> 10855554
E70: =1-E66 -> 0.35 | F70: =_xll.PTreeNodeProbability(treeCalc_1!$F$2,13) -> 0.05775
E71: =ZoomScenarios!E9 -> 2606518.7 | F71: =_xll.PTreeNodeValue(treeCalc_1!$F$2,13) -> 2606518.7
C72: =ZoomScenarios!K3 -> 0.3 | D72: PriceWar
C73: 0 | D73: =_xll.PTreeNodeValue(treeCalc_1!$F$2,4) -> 11518908
E74: =E66 -> 0.65 | F74: =_xll.PTreeNodeProbability(treeCalc_1!$F$2,14) -> 0.08775
E75: =ZoomScenarios!E7 -> 14435060 | F75: =_xll.PTreeNodeValue(treeCalc_1!$F$2,14) -> 14435060
...

Sheet Sensitivity

Sheet SandBox
C2: 0.7 | D2: =_xll.PTreeNodeProbability(treeCalc_3!$F$2,4) -> 0
C3: -500 | D3: =_xll.PTreeNodeValue(treeCalc_3!$F$2,4) -> -500
B4: =_xll.PTreeNodeDecision(treeCalc_3!$F$2,2) -> FALSE | C4: Sick?
B5: 0 | C5: =_xll.PTreeNodeValue(treeCalc_3!$F$2,2) -> -380
C6: =1-C2 -> 0.3 | D6: =_xll.PTreeNodeProbability(treeCalc_3!$F$2,5) -> 0
C7: -100 | D7: =_xll.PTreeNodeValue(treeCalc_3!$F$2,5) -> -100
B8: F2F
B9: =_xll.PTreeNodeValue(treeCalc_3!$F$2,1) -> -110
C10: 0.4 | D10: =_xll.PTreeNodeProbability(treeCalc_3!$F$2,6) -> 0.4
C11: -200 | D11: =_xll.PTreeNodeValue(treeCalc_3!$F$2,6) -> -200
B12: =_xll.PTreeNodeDecision(treeCalc_3!$F$2,3) -> TRUE | C12: Sick?
B13: 0 | C13: =_xll.PTreeNodeValue(treeCalc_3!$F$2,3) -> -110
C14: =1-C10 -> 0.6 | D14: =_xll.PTreeNodeProbability(treeCalc_3!$F$2,7) -> 0.6
C15: -50 | D15: =_xll.PTreeNodeValue(treeCalc_3!$F$2,7) -> -50

Sheet treeCalc_3
A1: Name | B1: F2F Classes | E1: Ptree1 Compatibility | F1: 3 | H1: Output Label | K1: R-Value Ref. | L1: 100
A2: SheetRef | B2: =SandBox!#REF! -> #REF! | E2: Eval. Function | F2: =_xll.PTreeEvaluate5(B3,$L$11:$L$17,$J$11:$J$17,$K$11:$K$17,$N$11:$N$17,$G$11:$G$17,,L1) -> 437379
A3: GenInfo | B3: 0,3,1,0,0,Exponential, 0,0,-1,0,-1,-1,.0001 | E3: Creation Version | F3: 8.0.1 | H3: Output Value NF | I3: <NF>
A4: Def. Link | B4: = | E4: Required Version | F4: 5.0.0 | H4: Output Prob NF | I4: Automatic
A5: EXT REFS | B5: 0 | E5: Recommended Version | F5: 5.0.0 | H5: Input Value NF | I5: <NF>
A6: Def. Form | E6: Last Modified By Version | F6: 8.0.1 | H6: Input Prob NF | I6: Automatic
A7: Calc Macro | E7: Model GUID | F7: 11C40EEE
A8: Highest# | B8: 7
A10: Anchor Cell | B10: Branch Name | C10: bformtype | D10: valformula | E10: pbformula | F10: distribution | G10: cumPayoffFunction | H10: link | I10: ENDNODEFORMULA | J10: VAL | K10: PB | L10: GenInfo | M10: IntRefs | N10: RefRefs | O10: NodeNames | P10: Collapsed
A11: =SandBox!$B$9 -> -110 | B11: =B1 -> F2F Classes | C11: 0 | I11: DEFAULT | J11: =SandBox!$A$9 -> 0 | K11: =SandBox!$A$8 -> 0 | L11: 2,0,0,2,2,3,0,0,0 | M11: 0 | O11: =SandBox!$B$8 -> F2F | P11: FALSE
A12: =SandBox!$C$5 -> -380 | B12: F2F | C12: 0 | I12: DEFAULT | J12: =SandBox!$B$5 -> 0 | L12: 1,0,0,2,4,5,1,0,0 | M12: 0 | O12: =SandBox!$C$4 -> Sick? | P12: FALSE
A13: =SandBox!$C$13 -> -110 | B13: Online | C13: 0 | I13: DEFAULT | J13: =SandBox!$B$13 -> 0 | L13: 1,0,0,2,6,7,1,0,0 | M13: 0 | O13: =SandBox!$C$12 -> Sick? | P13: FALSE
A14: =SandBox!$D$3 -> -500 | B14: High | C14: 0 | H14: DEFAULT | I14: DEFAULT | J14: =SandBox!$C$3 -> -500 | K14: =SandBox!$C$2 -> 0.7 | L14: 4,0,0,0,2,0,0 | M14: 0 | P14: FALSE
A15: =SandBox!$D$7 -> -100 | B15: Low | C15: 0 | H15: DEFAULT | I15: DEFAULT | J15: =SandBox!$C$7 -> -100 | K15: =SandBox!$C$6 -> 0.3 | L15: 4,0,0,0,2,0,0 | M15: 0 | P15: FALSE
A16: =SandBox!$D$11 -> -200 | B16: High | C16: 0 | H16: DEFAULT | I16: DEFAULT | J16: =SandBox!$C$11 -> -200 | K16: =SandBox!$C$10 -> 0.4 | L16: 4,0,0,0,3,0,0 | M16: 0 | P16: FALSE
A17: =SandBox!$D$15 -> -50 | B17: Low | C17: 0 | H17: DEFAULT | I17: DEFAULT | J17: =SandBox!$C$15 -> -50 | K17: =SandBox!$C$14 -> 0.6 | L17: 4,0,0,0,3,0,0 | M17: 0 | P17: FALSE

Sheet treeCalc_2
A1: Name | B1: Zoom Value | E1: Ptree1 Compatibility | F1: 3 | H1: Output Label | K1: R-Value Ref. | L1: 100
A2: SheetRef | B2: =ZoomTree!#REF! -> #REF! | E2: Eval. Function | F2: =_xll.PTreeEvaluate5(B3,$L$11:$L$25,$J$11:$J$25,$K$11:$K$25,$N$11:$N$25,$G$11:$G$25,,L1) -> 283010
A3: GenInfo | B3: 0,2,1,0,0,Exponential, 0,0,-1,0,-1,-1,.0001 | E3: Creation Version | F3: 8.0.1 | H3: Output Value NF | I3: <NF>
A4: Def. Link | B4: = | E4: Required Version | F4: 5.0.0 | H4: Output Prob NF | I4: Automatic
A5: EXT REFS | B5: 0 | E5: Recommended Version | F5: 5.0.0 | H5: Input Value NF | I5: <NF>
A6: Def. Form | E6: Last Modified By Version | F6: 8.0.1 | H6: Input Prob NF | I6: Automatic
A7: Calc Macro | E7: Model GUID | F7: 13E19F55
A8: Highest# | B8: 15
A10: Anchor Cell | B10: Branch Name | C10: bformtype | D10: valformula | E10: pbformula | F10: distribution | G10: cumPayoffFunction | H10: link | I10: ENDNODEFORMULA | J10: VAL | K10: PB | L10: GenInfo | M10: IntRefs | N10: RefRefs | O10: NodeNames | P10: Collapsed
A11: =ZoomTree!$B$17 -> 75178266 | B11: =B1 -> Zoom Value | C11: 0 | I11: DEFAULT | J11: =ZoomTree!$A$17 -> 0 | K11: =ZoomTree!$A$16 -> 0 | L11: 1,0,0,2,2,9,0,0,0 | M11: 0 | O11: =ZoomTree!$B$16 -> RivalQuality | P11: FALSE
A12: =ZoomTree!$C$9 -> 11518908 | B12: High | C12: 0 | I12: DEFAULT | J12: =ZoomTree!$B$9 -> 0 | K12: =ZoomTree!$B$8 -> 0.3 | L12: 1,0,0,2,3,6,1,0,0 | M12: 0 | O12: =ZoomTree!$C$8 -> PriceWar | P12: FALSE
A13: =ZoomTree!$D$5 -> 10855554 | B13: War! | C13: 0 | I13: DEFAULT | J13: =ZoomTree!$C$5 -> 0 | K13: =ZoomTree!$C$4 -> 0.55 | L13: 1,0,0,2,4,5,2,0,0 | M13: 0 | O13: =ZoomTree!$D$4 -> Zoom | P13: FALSE
A14: =ZoomTree!$E$3 -> 15297343 | B14: Innovate | C14: 0 | H14: DEFAULT | I14: DEFAULT | J14: =ZoomTree!$D$3 -> 15297343 | K14: =ZoomTree!$D$2 -> 0.65 | L14: 4,0,0,0,3,0,0 | M14: 0 | P14: FALSE
A15: =ZoomTree!$E$7 -> 2606518.7 | B15: Lag | C15: 0 | H15: DEFAULT | I15: DEFAULT | J15: =ZoomTree!$D$7 -> 2606518.7 | K15: =ZoomTree!$D$6 -> 0.35 | L15: 4,0,0,0,3,0,0 | M15: 0 | P15: FALSE
A16: =ZoomTree!$D$13 -> 12329674 | B16: Peace | C16: 0 | I16: DEFAULT | J16: =ZoomTree!$C$13 -> 0 | K16: =ZoomTree!$C$12 -> 0.45 | L16: 1,0,0,2,7,8,2,0,0 | M16: 0 | O16: =ZoomTree!$D$12 -> Zoom | P16: FALSE
A17: =ZoomTree!$E$11 -> 14435060 | B17: Innovate | C17: 0 | H17: DEFAULT | I17: DEFAULT | J17: =ZoomTree!$D$11 -> 14435060 | K17: =ZoomTree!$D$10 -> 0.65 | L17: 4,0,0,0,6,0,0 | M17: 0 | P17: FALSE
A18: =ZoomTree!$E$15 -> 8419671.1 | B18: Lag | C18: 0 | H18: DEFAULT | I18: DEFAULT | J18: =ZoomTree!$D$15 -> 8419671.1 | K18: =ZoomTree!$D$14 -> 0.35 | L18: 4,0,0,0,6,0,0 | M18: 0 | P18: FALSE
A19: =ZoomTree!$C$25 -> 1.0246085e+08 | B19: Low | C19: 0 | I19: DEFAULT | J19: =ZoomTree!$B$25 -> 0 | K19: =ZoomTree!$B$24 -> 0.7 | L19: 1,0,0,2,10,13,1,0,0 | M19: 0 | O19: =ZoomTree!$C$24 -> PriceWar | P19: FALSE
A20: =ZoomTree!$D$21 -> 15167227 | B20: War! | C20: 0 | I20: DEFAULT | J20: =ZoomTree!$C$21 -> 0 | K20: =ZoomTree!$C$20 -> 0.55 | L20: 1,0,0,2,11,12,9,0,0 | M20: 0 | O20: =ZoomTree!$D$20 -> Zoom | P20: FALSE
A21: =ZoomTree!$E$19 -> 19750426 | B21: Innovate | C21: 0 | H21: DEFAULT | I21: DEFAULT | J21: =ZoomTree!$D$19 -> 19750426 | K21: =ZoomTree!$D$18 -> 0.65 | L21: 4,0,0,0,10,0,0 | M21: 0 | P21: FALSE
A22: =ZoomTree!$E$23 -> 6655570.6 | B22: Lag | C22: 0 | H22: DEFAULT | I22: DEFAULT | J22: =ZoomTree!$D$23 -> 6655570.6 | K22: =ZoomTree!$D$22 -> 0.35 | L22: 4,0,0,0,10,0,0 | M22: 0 | P22: FALSE
A23: =ZoomTree!$D$29 -> 2.0915305e+08 | B23: Peace | C23: 0 | I23: DEFAULT | J23: =ZoomTree!$C$29 -> 0 | K23: =ZoomTree!$C$28 -> 0.45 | L23: 1,0,0,2,14,15,9,0,0 | M23: 0 | O23: =ZoomTree!$D$28 -> Zoom | P23: FALSE
A24: =ZoomTree!$E$27 -> 2.7630323e+08 | B24: Innovate | C24: 0 | H24: DEFAULT | I24: DEFAULT | J24: =ZoomTree!$D$27 -> 2.7630323e+08 | K24: =ZoomTree!$D$26 -> 0.65 | L24: 4,0,0,0,13,0,0 | M24: 0 | P24: FALSE
A25: =ZoomTree!$E$31 -> 84445585 | B25: Lag | C25: 0 | H25: DEFAULT | I25: DEFAULT | J25: =ZoomTree!$D$31 -> 84445585 | K25: =ZoomTree!$D$30 -> 0.35 | L25: 4,0,0,0,13,0,0 | M25: 0 | P25: FALSE

Sheet treeCalc_1
A1: Name | B1: Sell Zoom? | E1: Ptree1 Compatibility | F1: 3 | H1: Output Label | K1: R-Value Ref. | L1: 100
A2: SheetRef | B2: =ZoomTree!#REF! -> #REF! | E2: Eval. Function | F2: =_xll.PTreeEvaluate5(B3,$L$11:$L$29,$J$11:$J$29,$K$11:$K$29,$N$11:$N$29,$G$11:$G$29,,L1) -> 308737
A3: GenInfo | B3: 0,1,1,0,0,Exponential, 0,0,-1,0,-1,-1,.0001 | E3: Creation Version | F3: 8.0.1 | H3: Output Value NF | I3: <NF>
A4: Def. Link | B4: = | E4: Required Version | F4: 5.0.0 | H4: Output Prob NF | I4: Automatic
A5: EXT REFS | B5: 0 | E5: Recommended Version | F5: 5.0.0 | H5: Input Value NF | I5: <NF>
A6: Def. Form | E6: Last Modified By Version | F6: 8.0.1 | H6: Input Prob NF | I6: Automatic
A7: Calc Macro | E7: Model GUID | F7: 165643DF
A8: Highest# | B8: 19
A10: Anchor Cell | B10: Branch Name | C10: bformtype | D10: valformula | E10: pbformula | F10: distribution | G10: cumPayoffFunction | H10: link | I10: ENDNODEFORMULA | J10: VAL | K10: PB | L10: GenInfo | M10: IntRefs | N10: RefRefs | O10: NodeNames | P10: Collapsed
A11: =ZoomTree!$B$97 -> 75178266 | B11: =B1 -> Sell Zoom? | C11: 0 | I11: DEFAULT | J11: =ZoomTree!$A$97 -> 0 | K11: =ZoomTree!$A$96 -> 0 | L11: 2,0,0,2,2,3,0,0,0 | M11: 0 | O11: =ZoomTree!$B$96 -> SellNow? | P11: FALSE
A12: =ZoomTree!$C$81 -> 75178266 | B12: NoSell | C12: 0 | I12: DEFAULT | J12: =ZoomTree!$B$81 -> 0 | L12: 1,0,0,2,4,5,1,0,0 | M12: 0 | O12: =ZoomTree!$C$80 -> RivalQuality | P12: FALSE
A13: =ZoomTree!$C$101 -> 72389250 | B13: Sell | C13: 0 | I13: DEFAULT | J13: =ZoomTree!$B$101 -> 0 | L13: 1,0,0,2,10,11,1,0,0 | M13: 0 | O13: =ZoomTree!$C$100 -> Acq Price | P13: FALSE
A14: =ZoomTree!$D$73 -> 11518908 | B14: High | C14: 0 | I14: DEFAULT | J14: =ZoomTree!$C$73 -> 0 | K14: =ZoomTree!$C$72 -> 0.3 | L14: 1,0,0,2,6,7,2,0,0 | M14: 0 | O14: =ZoomTree!$D$72 -> PriceWar | P14: FALSE
A15: =ZoomTree!$D$89 -> 1.0246085e+08 | B15: Low | C15: 0 | I15: DEFAULT | J15: =ZoomTree!$C$89 -> 0 | K15: =ZoomTree!$C$88 -> 0.7 | L15: 1,0,0,2,8,9,2,0,0 | M15: 0 | O15: =ZoomTree!$D$88 -> PriceWar | P15: FALSE
A16: =ZoomTree!$E$69 -> 10855554 | B16: War! | C16: 0 | I16: DEFAULT | J16: =ZoomTree!$D$69 -> 0 | K16: =ZoomTree!$D$68 -> 0.55 | L16: 1,0,0,2,12,13,4,0,0 | M16: 0 | O16: =ZoomTree!$E$68 -> Zoom | P16: FALSE
A17: =ZoomTree!$E$77 -> 12329674 | B17: Peace | C17: 0 | I17: DEFAULT | J17: =ZoomTree!$D$77 -> 0 | K17: =ZoomTree!$D$76 -> 0.45 | L17: 1,0,0,2,14,15,4,0,0 | M17: 0 | O17: =ZoomTree!$E$76 -> Zoom | P17: FALSE
A18: =ZoomTree!$E$85 -> 15167227 | B18: War! | C18: 0 | I18: DEFAULT | J18: =ZoomTree!$D$85 -> 0 | K18: =ZoomTree!$D$84 -> 0.55 | L18: 1,0,0,2,16,17,5,0,0 | M18: 0 | O18: =ZoomTree!$E$84 -> Zoom | P18: FALSE
A19: =ZoomTree!$E$93 -> 2.0915305e+08 | B19: Peace | C19: 0 | I19: DEFAULT | J19: =ZoomTree!$D$93 -> 0 | K19: =ZoomTree!$D$92 -> 0.45 | L19: 1,0,0,2,18,19,5,0,0 | M19: 0 | O19: =ZoomTree!$E$92 -> Zoom | P19: FALSE
A20: =ZoomTree!$D$99 -> 91005000 | B20: High | C20: 0 | H20: DEFAULT | I20: DEFAULT | J20: =ZoomTree!$C$99 -> 91005000 | K20: =ZoomTree!$C$98 -> 0.4 | L20: 4,0,0,0,3,0,0 | M20: 0 | P20: FALSE
A21: =ZoomTree!$D$103 -> 59978750 | B21: Low | C21: 0 | H21: DEFAULT | I21: DEFAULT | J21: =ZoomTree!$C$103 -> 59978750 | K21: =ZoomTree!$C$102 -> 0.6 | L21: 4,0,0,0,3,0,0 | M21: 0 | P21: FALSE
A22: =ZoomTree!$F$67 -> 15297343 | B22: Innovate | C22: 0 | H22: DEFAULT | I22: DEFAULT | J22: =ZoomTree!$E$67 -> 15297343 | K22: =ZoomTree!$E$66 -> 0.65 | L22: 4,0,0,0,6,0,0 | M22: 0 | P22: FALSE
A23: =ZoomTree!$F$71 -> 2606518.7 | B23: Lag | C23: 0 | H23: DEFAULT | I23: DEFAULT | J23: =ZoomTree!$E$71 -> 2606518.7 | K23: =ZoomTree!$E$70 -> 0.35 | L23: 4,0,0,0,6,0,0 | M23: 0 | P23: FALSE
A24: =ZoomTree!$F$75 -> 14435060 | B24: Innovate | C24: 0 | H24: DEFAULT | I24: DEFAULT | J24: =ZoomTree!$E$75 -> 14435060 | K24: =ZoomTree!$E$74 -> 0.65 | L24: 4,0,0,0,7,0,0 | M24: 0 | P24: FALSE
A25: =ZoomTree!$F$79 -> 8419671.1 | B25: Lag | C25: 0 | H25: DEFAULT | I25: DEFAULT | J25: =ZoomTree!$E$79 -> 8419671.1 | K25: =ZoomTree!$E$78 -> 0.35 | L25: 4,0,0,0,7,0,0 | M25: 0 | P25: FALSE
A26: =ZoomTree!$F$83 -> 19750426 | B26: Innovate | C26: 0 | H26: DEFAULT | I26: DEFAULT | J26: =ZoomTree!$E$83 -> 19750426 | K26: =ZoomTree!$E$82 -> 0.65 | L26: 4,0,0,0,8,0,0 | M26: 0 | P26: FALSE
A27: =ZoomTree!$F$87 -> 6655570.6 | B27: Lag | C27: 0 | H27: DEFAULT | I27: DEFAULT | J27: =ZoomTree!$E$87 -> 6655570.6 | K27: =ZoomTree!$E$86 -> 0.35 | L27: 4,0,0,0,8,0,0 | M27: 0 | P27: FALSE
A28: =ZoomTree!$F$91 -> 2.7630323e+08 | B28: Innovate | C28: 0 | H28: DEFAULT | I28: DEFAULT | J28: =ZoomTree!$E$91 -> 2.7630323e+08 | K28: =ZoomTree!$E$90 -> 0.65 | L28: 4,0,0,0,9,0,0 | M28: 0 | P28: FALSE
A29: =ZoomTree!$F$95 -> 84445585 | B29: Lag | C29: 0 | H29: DEFAULT | I29: DEFAULT | J29: =ZoomTree!$E$95 -> 84445585 | K29: =ZoomTree!$E$94 -> 0.35 | L29: 4,0,0,0,9,0,0 | M29: 0 | P29: FALSE
